BEGIN:VCALENDAR
VERSION:2.0
PRODID:-//SAFE Boulder - ECPv6.15.20//NONSGML v1.0//EN
CALSCALE:GREGORIAN
METHOD:PUBLISH
X-WR-CALNAME:SAFE Boulder
X-ORIGINAL-URL:https://safeboulder.org
X-WR-CALDESC:Events for SAFE Boulder
REFRESH-INTERVAL;VALUE=DURATION:PT1H
X-Robots-Tag:noindex
X-PUBLISHED-TTL:PT1H
BEGIN:VTIMEZONE
TZID:UTC
BEGIN:STANDARD
TZOFFSETFROM:+0000
TZOFFSETTO:+0000
TZNAME:UTC
DTSTART:20240101T000000
END:STANDARD
END:VTIMEZONE
BEGIN:VEVENT
DTSTART;TZID=UTC:20251012T120000
DTEND;TZID=UTC:20251012T130000
DTSTAMP:20260424T144326
CREATED:20221226T202929Z
LAST-MODIFIED:20250208T235622Z
UID:10021244-1760270400-1760274000@safeboulder.org
SUMMARY:Trinity Lutheran Lunch
DESCRIPTION:For over 20 years Trinity has provided lunch on the Second Sunday of each month. We typically serve 80-140 people experiencing hunger or food insecurity. We also offer hard boiled eggs and bananas to our guests to take with them for nourishment at a later time.
URL:https://safeboulder.org/event/trinity-lutheran-lunch/2025-10-12/
LOCATION:Trinity Lutheran Church\, 2200 Broadway\, Boulder\, Colorado\, 80302\, United States
CATEGORIES:Charity,Free Meal,Religious
ATTACH;FMTTYPE=image/png:https://safeboulder.org/wp-content/uploads/2022/12/trinity-lutheran-church-logo-white-1.png
ORGANIZER;CN="Trinity Lutheran Church":MAILTO:info@trinityboulder.org
END:VEVENT
BEGIN:VEVENT
DTSTART;TZID=UTC:20251006T163000
DTEND;TZID=UTC:20251006T173000
DTSTAMP:20260424T144326
CREATED:20240917T033617Z
LAST-MODIFIED:20240917T033940Z
UID:10017285-1759768200-1759771800@safeboulder.org
SUMMARY:Sit Down Dinner
DESCRIPTION:Free sit down meal (Bridge House Community Table dinners) at Trinity Lutheran 2200 Broadway\, Boulder
URL:https://safeboulder.org/event/sit-down-dinner/2025-10-06/
LOCATION:Trinity Lutheran Church\, 2200 Broadway\, Boulder\, Colorado\, 80302\, United States
END:VEVENT
BEGIN:VEVENT
DTSTART;TZID=UTC:20250929T163000
DTEND;TZID=UTC:20250929T173000
DTSTAMP:20260424T144326
CREATED:20240917T033617Z
LAST-MODIFIED:20240917T033940Z
UID:10017284-1759163400-1759167000@safeboulder.org
SUMMARY:Sit Down Dinner
DESCRIPTION:Free sit down meal (Bridge House Community Table dinners) at Trinity Lutheran 2200 Broadway\, Boulder
URL:https://safeboulder.org/event/sit-down-dinner/2025-09-29/
LOCATION:Trinity Lutheran Church\, 2200 Broadway\, Boulder\, Colorado\, 80302\, United States
END:VEVENT
BEGIN:VEVENT
DTSTART;TZID=UTC:20250922T163000
DTEND;TZID=UTC:20250922T173000
DTSTAMP:20260424T144326
CREATED:20240917T033617Z
LAST-MODIFIED:20240917T033940Z
UID:10017283-1758558600-1758562200@safeboulder.org
SUMMARY:Sit Down Dinner
DESCRIPTION:Free sit down meal (Bridge House Community Table dinners) at Trinity Lutheran 2200 Broadway\, Boulder
URL:https://safeboulder.org/event/sit-down-dinner/2025-09-22/
LOCATION:Trinity Lutheran Church\, 2200 Broadway\, Boulder\, Colorado\, 80302\, United States
END:VEVENT
BEGIN:VEVENT
DTSTART;TZID=UTC:20250915T163000
DTEND;TZID=UTC:20250915T173000
DTSTAMP:20260424T144326
CREATED:20240917T033617Z
LAST-MODIFIED:20240917T033940Z
UID:10017282-1757953800-1757957400@safeboulder.org
SUMMARY:Sit Down Dinner
DESCRIPTION:Free sit down meal (Bridge House Community Table dinners) at Trinity Lutheran 2200 Broadway\, Boulder
URL:https://safeboulder.org/event/sit-down-dinner/2025-09-15/
LOCATION:Trinity Lutheran Church\, 2200 Broadway\, Boulder\, Colorado\, 80302\, United States
END:VEVENT
BEGIN:VEVENT
DTSTART;TZID=UTC:20250914T120000
DTEND;TZID=UTC:20250914T130000
DTSTAMP:20260424T144326
CREATED:20221226T202929Z
LAST-MODIFIED:20250208T235622Z
UID:10021243-1757851200-1757854800@safeboulder.org
SUMMARY:Trinity Lutheran Lunch
DESCRIPTION:For over 20 years Trinity has provided lunch on the Second Sunday of each month. We typically serve 80-140 people experiencing hunger or food insecurity. We also offer hard boiled eggs and bananas to our guests to take with them for nourishment at a later time.
URL:https://safeboulder.org/event/trinity-lutheran-lunch/2025-09-14/
LOCATION:Trinity Lutheran Church\, 2200 Broadway\, Boulder\, Colorado\, 80302\, United States
CATEGORIES:Charity,Free Meal,Religious
ATTACH;FMTTYPE=image/png:https://safeboulder.org/wp-content/uploads/2022/12/trinity-lutheran-church-logo-white-1.png
ORGANIZER;CN="Trinity Lutheran Church":MAILTO:info@trinityboulder.org
END:VEVENT
BEGIN:VEVENT
DTSTART;TZID=UTC:20250908T163000
DTEND;TZID=UTC:20250908T173000
DTSTAMP:20260424T144326
CREATED:20240917T033617Z
LAST-MODIFIED:20240917T033940Z
UID:10017281-1757349000-1757352600@safeboulder.org
SUMMARY:Sit Down Dinner
DESCRIPTION:Free sit down meal (Bridge House Community Table dinners) at Trinity Lutheran 2200 Broadway\, Boulder
URL:https://safeboulder.org/event/sit-down-dinner/2025-09-08/
LOCATION:Trinity Lutheran Church\, 2200 Broadway\, Boulder\, Colorado\, 80302\, United States
END:VEVENT
BEGIN:VEVENT
DTSTART;TZID=UTC:20250901T163000
DTEND;TZID=UTC:20250901T173000
DTSTAMP:20260424T144326
CREATED:20240917T033617Z
LAST-MODIFIED:20240917T033940Z
UID:10017280-1756744200-1756747800@safeboulder.org
SUMMARY:Sit Down Dinner
DESCRIPTION:Free sit down meal (Bridge House Community Table dinners) at Trinity Lutheran 2200 Broadway\, Boulder
URL:https://safeboulder.org/event/sit-down-dinner/2025-09-01/
LOCATION:Trinity Lutheran Church\, 2200 Broadway\, Boulder\, Colorado\, 80302\, United States
END:VEVENT
BEGIN:VEVENT
DTSTART;TZID=UTC:20250831T080000
DTEND;TZID=UTC:20250831T170000
DTSTAMP:20260424T144326
CREATED:20240606T144700Z
LAST-MODIFIED:20240606T144745Z
UID:10015384-1756627200-1756659600@safeboulder.org
SUMMARY:All Souls & Pine St Church Lunch
DESCRIPTION:Lunch for the public on each fifth Sunday. Lunch will be served at Trinity Lutheran\, the same location where Trinity serves lunch on the second Sunday of each month
URL:https://safeboulder.org/event/all-souls-pine-st-church-lunch/2025-08-31/
LOCATION:Trinity Lutheran Church\, 2200 Broadway\, Boulder\, Colorado\, 80302\, United States
END:VEVENT
BEGIN:VEVENT
DTSTART;TZID=UTC:20250825T163000
DTEND;TZID=UTC:20250825T173000
DTSTAMP:20260424T144326
CREATED:20240917T033617Z
LAST-MODIFIED:20240917T033940Z
UID:10017279-1756139400-1756143000@safeboulder.org
SUMMARY:Sit Down Dinner
DESCRIPTION:Free sit down meal (Bridge House Community Table dinners) at Trinity Lutheran 2200 Broadway\, Boulder
URL:https://safeboulder.org/event/sit-down-dinner/2025-08-25/
LOCATION:Trinity Lutheran Church\, 2200 Broadway\, Boulder\, Colorado\, 80302\, United States
END:VEVENT
BEGIN:VEVENT
DTSTART;TZID=UTC:20250818T163000
DTEND;TZID=UTC:20250818T173000
DTSTAMP:20260424T144326
CREATED:20240917T033617Z
LAST-MODIFIED:20240917T033940Z
UID:10017278-1755534600-1755538200@safeboulder.org
SUMMARY:Sit Down Dinner
DESCRIPTION:Free sit down meal (Bridge House Community Table dinners) at Trinity Lutheran 2200 Broadway\, Boulder
URL:https://safeboulder.org/event/sit-down-dinner/2025-08-18/
LOCATION:Trinity Lutheran Church\, 2200 Broadway\, Boulder\, Colorado\, 80302\, United States
END:VEVENT
BEGIN:VEVENT
DTSTART;TZID=UTC:20250811T163000
DTEND;TZID=UTC:20250811T173000
DTSTAMP:20260424T144326
CREATED:20240917T033617Z
LAST-MODIFIED:20240917T033940Z
UID:10017277-1754929800-1754933400@safeboulder.org
SUMMARY:Sit Down Dinner
DESCRIPTION:Free sit down meal (Bridge House Community Table dinners) at Trinity Lutheran 2200 Broadway\, Boulder
URL:https://safeboulder.org/event/sit-down-dinner/2025-08-11/
LOCATION:Trinity Lutheran Church\, 2200 Broadway\, Boulder\, Colorado\, 80302\, United States
END:VEVENT
BEGIN:VEVENT
DTSTART;TZID=UTC:20250810T120000
DTEND;TZID=UTC:20250810T130000
DTSTAMP:20260424T144326
CREATED:20221226T202929Z
LAST-MODIFIED:20250208T235622Z
UID:10021242-1754827200-1754830800@safeboulder.org
SUMMARY:Trinity Lutheran Lunch
DESCRIPTION:For over 20 years Trinity has provided lunch on the Second Sunday of each month. We typically serve 80-140 people experiencing hunger or food insecurity. We also offer hard boiled eggs and bananas to our guests to take with them for nourishment at a later time.
URL:https://safeboulder.org/event/trinity-lutheran-lunch/2025-08-10/
LOCATION:Trinity Lutheran Church\, 2200 Broadway\, Boulder\, Colorado\, 80302\, United States
CATEGORIES:Charity,Free Meal,Religious
ATTACH;FMTTYPE=image/png:https://safeboulder.org/wp-content/uploads/2022/12/trinity-lutheran-church-logo-white-1.png
ORGANIZER;CN="Trinity Lutheran Church":MAILTO:info@trinityboulder.org
END:VEVENT
BEGIN:VEVENT
DTSTART;TZID=UTC:20250804T163000
DTEND;TZID=UTC:20250804T173000
DTSTAMP:20260424T144326
CREATED:20240917T033617Z
LAST-MODIFIED:20240917T033940Z
UID:10017276-1754325000-1754328600@safeboulder.org
SUMMARY:Sit Down Dinner
DESCRIPTION:Free sit down meal (Bridge House Community Table dinners) at Trinity Lutheran 2200 Broadway\, Boulder
URL:https://safeboulder.org/event/sit-down-dinner/2025-08-04/
LOCATION:Trinity Lutheran Church\, 2200 Broadway\, Boulder\, Colorado\, 80302\, United States
END:VEVENT
BEGIN:VEVENT
DTSTART;TZID=UTC:20250728T163000
DTEND;TZID=UTC:20250728T173000
DTSTAMP:20260424T144326
CREATED:20240917T033617Z
LAST-MODIFIED:20240917T033940Z
UID:10017275-1753720200-1753723800@safeboulder.org
SUMMARY:Sit Down Dinner
DESCRIPTION:Free sit down meal (Bridge House Community Table dinners) at Trinity Lutheran 2200 Broadway\, Boulder
URL:https://safeboulder.org/event/sit-down-dinner/2025-07-28/
LOCATION:Trinity Lutheran Church\, 2200 Broadway\, Boulder\, Colorado\, 80302\, United States
END:VEVENT
BEGIN:VEVENT
DTSTART;TZID=UTC:20250721T163000
DTEND;TZID=UTC:20250721T173000
DTSTAMP:20260424T144326
CREATED:20240917T033617Z
LAST-MODIFIED:20240917T033940Z
UID:10017274-1753115400-1753119000@safeboulder.org
SUMMARY:Sit Down Dinner
DESCRIPTION:Free sit down meal (Bridge House Community Table dinners) at Trinity Lutheran 2200 Broadway\, Boulder
URL:https://safeboulder.org/event/sit-down-dinner/2025-07-21/
LOCATION:Trinity Lutheran Church\, 2200 Broadway\, Boulder\, Colorado\, 80302\, United States
END:VEVENT
BEGIN:VEVENT
DTSTART;TZID=UTC:20250714T163000
DTEND;TZID=UTC:20250714T173000
DTSTAMP:20260424T144327
CREATED:20240917T033617Z
LAST-MODIFIED:20240917T033940Z
UID:10017273-1752510600-1752514200@safeboulder.org
SUMMARY:Sit Down Dinner
DESCRIPTION:Free sit down meal (Bridge House Community Table dinners) at Trinity Lutheran 2200 Broadway\, Boulder
URL:https://safeboulder.org/event/sit-down-dinner/2025-07-14/
LOCATION:Trinity Lutheran Church\, 2200 Broadway\, Boulder\, Colorado\, 80302\, United States
END:VEVENT
BEGIN:VEVENT
DTSTART;TZID=UTC:20250713T120000
DTEND;TZID=UTC:20250713T130000
DTSTAMP:20260424T144327
CREATED:20221226T202929Z
LAST-MODIFIED:20250208T235622Z
UID:10021241-1752408000-1752411600@safeboulder.org
SUMMARY:Trinity Lutheran Lunch
DESCRIPTION:For over 20 years Trinity has provided lunch on the Second Sunday of each month. We typically serve 80-140 people experiencing hunger or food insecurity. We also offer hard boiled eggs and bananas to our guests to take with them for nourishment at a later time.
URL:https://safeboulder.org/event/trinity-lutheran-lunch/2025-07-13/
LOCATION:Trinity Lutheran Church\, 2200 Broadway\, Boulder\, Colorado\, 80302\, United States
CATEGORIES:Charity,Free Meal,Religious
ATTACH;FMTTYPE=image/png:https://safeboulder.org/wp-content/uploads/2022/12/trinity-lutheran-church-logo-white-1.png
ORGANIZER;CN="Trinity Lutheran Church":MAILTO:info@trinityboulder.org
END:VEVENT
BEGIN:VEVENT
DTSTART;TZID=UTC:20250707T163000
DTEND;TZID=UTC:20250707T173000
DTSTAMP:20260424T144327
CREATED:20240917T033617Z
LAST-MODIFIED:20240917T033940Z
UID:10017272-1751905800-1751909400@safeboulder.org
SUMMARY:Sit Down Dinner
DESCRIPTION:Free sit down meal (Bridge House Community Table dinners) at Trinity Lutheran 2200 Broadway\, Boulder
URL:https://safeboulder.org/event/sit-down-dinner/2025-07-07/
LOCATION:Trinity Lutheran Church\, 2200 Broadway\, Boulder\, Colorado\, 80302\, United States
END:VEVENT
BEGIN:VEVENT
DTSTART;TZID=UTC:20250630T163000
DTEND;TZID=UTC:20250630T173000
DTSTAMP:20260424T144327
CREATED:20240917T033617Z
LAST-MODIFIED:20240917T033940Z
UID:10017271-1751301000-1751304600@safeboulder.org
SUMMARY:Sit Down Dinner
DESCRIPTION:Free sit down meal (Bridge House Community Table dinners) at Trinity Lutheran 2200 Broadway\, Boulder
URL:https://safeboulder.org/event/sit-down-dinner/2025-06-30/
LOCATION:Trinity Lutheran Church\, 2200 Broadway\, Boulder\, Colorado\, 80302\, United States
END:VEVENT
BEGIN:VEVENT
DTSTART;TZID=UTC:20250629T080000
DTEND;TZID=UTC:20250629T170000
DTSTAMP:20260424T144327
CREATED:20240606T144700Z
LAST-MODIFIED:20240606T144745Z
UID:10015383-1751184000-1751216400@safeboulder.org
SUMMARY:All Souls & Pine St Church Lunch
DESCRIPTION:Lunch for the public on each fifth Sunday. Lunch will be served at Trinity Lutheran\, the same location where Trinity serves lunch on the second Sunday of each month
URL:https://safeboulder.org/event/all-souls-pine-st-church-lunch/2025-06-29/
LOCATION:Trinity Lutheran Church\, 2200 Broadway\, Boulder\, Colorado\, 80302\, United States
END:VEVENT
BEGIN:VEVENT
DTSTART;TZID=UTC:20250623T163000
DTEND;TZID=UTC:20250623T173000
DTSTAMP:20260424T144327
CREATED:20240917T033617Z
LAST-MODIFIED:20240917T033940Z
UID:10017270-1750696200-1750699800@safeboulder.org
SUMMARY:Sit Down Dinner
DESCRIPTION:Free sit down meal (Bridge House Community Table dinners) at Trinity Lutheran 2200 Broadway\, Boulder
URL:https://safeboulder.org/event/sit-down-dinner/2025-06-23/
LOCATION:Trinity Lutheran Church\, 2200 Broadway\, Boulder\, Colorado\, 80302\, United States
END:VEVENT
BEGIN:VEVENT
DTSTART;TZID=UTC:20250616T163000
DTEND;TZID=UTC:20250616T173000
DTSTAMP:20260424T144327
CREATED:20240917T033617Z
LAST-MODIFIED:20240917T033940Z
UID:10017269-1750091400-1750095000@safeboulder.org
SUMMARY:Sit Down Dinner
DESCRIPTION:Free sit down meal (Bridge House Community Table dinners) at Trinity Lutheran 2200 Broadway\, Boulder
URL:https://safeboulder.org/event/sit-down-dinner/2025-06-16/
LOCATION:Trinity Lutheran Church\, 2200 Broadway\, Boulder\, Colorado\, 80302\, United States
END:VEVENT
BEGIN:VEVENT
DTSTART;TZID=UTC:20250609T163000
DTEND;TZID=UTC:20250609T173000
DTSTAMP:20260424T144327
CREATED:20240917T033617Z
LAST-MODIFIED:20240917T033940Z
UID:10017268-1749486600-1749490200@safeboulder.org
SUMMARY:Sit Down Dinner
DESCRIPTION:Free sit down meal (Bridge House Community Table dinners) at Trinity Lutheran 2200 Broadway\, Boulder
URL:https://safeboulder.org/event/sit-down-dinner/2025-06-09/
LOCATION:Trinity Lutheran Church\, 2200 Broadway\, Boulder\, Colorado\, 80302\, United States
END:VEVENT
BEGIN:VEVENT
DTSTART;TZID=UTC:20250608T120000
DTEND;TZID=UTC:20250608T130000
DTSTAMP:20260424T144327
CREATED:20221226T202929Z
LAST-MODIFIED:20250208T235622Z
UID:10021240-1749384000-1749387600@safeboulder.org
SUMMARY:Trinity Lutheran Lunch
DESCRIPTION:For over 20 years Trinity has provided lunch on the Second Sunday of each month. We typically serve 80-140 people experiencing hunger or food insecurity. We also offer hard boiled eggs and bananas to our guests to take with them for nourishment at a later time.
URL:https://safeboulder.org/event/trinity-lutheran-lunch/2025-06-08/
LOCATION:Trinity Lutheran Church\, 2200 Broadway\, Boulder\, Colorado\, 80302\, United States
CATEGORIES:Charity,Free Meal,Religious
ATTACH;FMTTYPE=image/png:https://safeboulder.org/wp-content/uploads/2022/12/trinity-lutheran-church-logo-white-1.png
ORGANIZER;CN="Trinity Lutheran Church":MAILTO:info@trinityboulder.org
END:VEVENT
BEGIN:VEVENT
DTSTART;TZID=UTC:20250602T163000
DTEND;TZID=UTC:20250602T173000
DTSTAMP:20260424T144327
CREATED:20240917T033617Z
LAST-MODIFIED:20240917T033940Z
UID:10017267-1748881800-1748885400@safeboulder.org
SUMMARY:Sit Down Dinner
DESCRIPTION:Free sit down meal (Bridge House Community Table dinners) at Trinity Lutheran 2200 Broadway\, Boulder
URL:https://safeboulder.org/event/sit-down-dinner/2025-06-02/
LOCATION:Trinity Lutheran Church\, 2200 Broadway\, Boulder\, Colorado\, 80302\, United States
END:VEVENT
BEGIN:VEVENT
DTSTART;TZID=UTC:20250526T163000
DTEND;TZID=UTC:20250526T173000
DTSTAMP:20260424T144327
CREATED:20240917T033617Z
LAST-MODIFIED:20240917T033940Z
UID:10017266-1748277000-1748280600@safeboulder.org
SUMMARY:Sit Down Dinner
DESCRIPTION:Free sit down meal (Bridge House Community Table dinners) at Trinity Lutheran 2200 Broadway\, Boulder
URL:https://safeboulder.org/event/sit-down-dinner/2025-05-26/
LOCATION:Trinity Lutheran Church\, 2200 Broadway\, Boulder\, Colorado\, 80302\, United States
END:VEVENT
BEGIN:VEVENT
DTSTART;TZID=UTC:20250519T163000
DTEND;TZID=UTC:20250519T173000
DTSTAMP:20260424T144327
CREATED:20240917T033617Z
LAST-MODIFIED:20240917T033940Z
UID:10017265-1747672200-1747675800@safeboulder.org
SUMMARY:Sit Down Dinner
DESCRIPTION:Free sit down meal (Bridge House Community Table dinners) at Trinity Lutheran 2200 Broadway\, Boulder
URL:https://safeboulder.org/event/sit-down-dinner/2025-05-19/
LOCATION:Trinity Lutheran Church\, 2200 Broadway\, Boulder\, Colorado\, 80302\, United States
END:VEVENT
BEGIN:VEVENT
DTSTART;TZID=UTC:20250512T163000
DTEND;TZID=UTC:20250512T173000
DTSTAMP:20260424T144327
CREATED:20240917T033617Z
LAST-MODIFIED:20240917T033940Z
UID:10017264-1747067400-1747071000@safeboulder.org
SUMMARY:Sit Down Dinner
DESCRIPTION:Free sit down meal (Bridge House Community Table dinners) at Trinity Lutheran 2200 Broadway\, Boulder
URL:https://safeboulder.org/event/sit-down-dinner/2025-05-12/
LOCATION:Trinity Lutheran Church\, 2200 Broadway\, Boulder\, Colorado\, 80302\, United States
END:VEVENT
BEGIN:VEVENT
DTSTART;TZID=UTC:20250511T120000
DTEND;TZID=UTC:20250511T130000
DTSTAMP:20260424T144327
CREATED:20221226T202929Z
LAST-MODIFIED:20250208T235622Z
UID:10021239-1746964800-1746968400@safeboulder.org
SUMMARY:Trinity Lutheran Lunch
DESCRIPTION:For over 20 years Trinity has provided lunch on the Second Sunday of each month. We typically serve 80-140 people experiencing hunger or food insecurity. We also offer hard boiled eggs and bananas to our guests to take with them for nourishment at a later time.
URL:https://safeboulder.org/event/trinity-lutheran-lunch/2025-05-11/
LOCATION:Trinity Lutheran Church\, 2200 Broadway\, Boulder\, Colorado\, 80302\, United States
CATEGORIES:Charity,Free Meal,Religious
ATTACH;FMTTYPE=image/png:https://safeboulder.org/wp-content/uploads/2022/12/trinity-lutheran-church-logo-white-1.png
ORGANIZER;CN="Trinity Lutheran Church":MAILTO:info@trinityboulder.org
END:VEVENT
END:VCALENDAR