BEGIN:VCALENDAR
VERSION:2.0
PRODID:-//SAFE Boulder - ECPv6.15.20//NONSGML v1.0//EN
CALSCALE:GREGORIAN
METHOD:PUBLISH
X-WR-CALNAME:SAFE Boulder
X-ORIGINAL-URL:https://safeboulder.org
X-WR-CALDESC:Events for SAFE Boulder
REFRESH-INTERVAL;VALUE=DURATION:PT1H
X-Robots-Tag:noindex
X-PUBLISHED-TTL:PT1H
BEGIN:VTIMEZONE
TZID:UTC
BEGIN:STANDARD
TZOFFSETFROM:+0000
TZOFFSETTO:+0000
TZNAME:UTC
DTSTART:20240101T000000
END:STANDARD
END:VTIMEZONE
BEGIN:VEVENT
DTSTART;TZID=UTC:20250925T163000
DTEND;TZID=UTC:20250925T173000
DTSTAMP:20260422T181451
CREATED:20240917T034243Z
LAST-MODIFIED:20240917T034245Z
UID:10017545-1758817800-1758821400@safeboulder.org
SUMMARY:Sit Down Dinner
DESCRIPTION:Free sit down dinner (Bridge House Community Table Dinners) at St. John’s Episcopal 1419 Pine St
URL:https://safeboulder.org/event/sit-down-dinner-2/2025-09-25/
LOCATION:St. John’s Episcopal Church\, 1419 Pine Street\, Boulder\, Colorado\, 80302\, United States
END:VEVENT
BEGIN:VEVENT
DTSTART;TZID=UTC:20250924T163000
DTEND;TZID=UTC:20250924T173000
DTSTAMP:20260422T181451
CREATED:20240917T032628Z
LAST-MODIFIED:20240917T033122Z
UID:10015935-1758731400-1758735000@safeboulder.org
SUMMARY:“Grab & Go" dinner
DESCRIPTION:Sack Meal\, “Grab & Go” in the parking lot of St. John’s Episcopal\, 1419 Pine.
URL:https://safeboulder.org/event/grab-go-dinner-5/2025-09-24/
LOCATION:St. John’s Episcopal Church\, 1419 Pine Street\, Boulder\, Colorado\, 80302\, United States
CATEGORIES:Charity,Free Meal,Secular
ATTACH;FMTTYPE=image/png:https://safeboulder.org/wp-content/uploads/2022/11/community-table-kitchen-bh.png
ORGANIZER;CN="Bridge House Community Table Kitchen":MAILTO:orders@communitytablekitchen.org
END:VEVENT
BEGIN:VEVENT
DTSTART;TZID=UTC:20250923T163000
DTEND;TZID=UTC:20250923T173000
DTSTAMP:20260422T181451
CREATED:20240917T032628Z
LAST-MODIFIED:20240917T033122Z
UID:10015934-1758645000-1758648600@safeboulder.org
SUMMARY:“Grab & Go" dinner
DESCRIPTION:Sack Meal\, “Grab & Go” in the parking lot of St. John’s Episcopal\, 1419 Pine.
URL:https://safeboulder.org/event/grab-go-dinner-5/2025-09-23/
LOCATION:St. John’s Episcopal Church\, 1419 Pine Street\, Boulder\, Colorado\, 80302\, United States
CATEGORIES:Charity,Free Meal,Secular
ATTACH;FMTTYPE=image/png:https://safeboulder.org/wp-content/uploads/2022/11/community-table-kitchen-bh.png
ORGANIZER;CN="Bridge House Community Table Kitchen":MAILTO:orders@communitytablekitchen.org
END:VEVENT
BEGIN:VEVENT
DTSTART;TZID=UTC:20250918T163000
DTEND;TZID=UTC:20250918T173000
DTSTAMP:20260422T181451
CREATED:20240917T034243Z
LAST-MODIFIED:20240917T034245Z
UID:10017544-1758213000-1758216600@safeboulder.org
SUMMARY:Sit Down Dinner
DESCRIPTION:Free sit down dinner (Bridge House Community Table Dinners) at St. John’s Episcopal 1419 Pine St
URL:https://safeboulder.org/event/sit-down-dinner-2/2025-09-18/
LOCATION:St. John’s Episcopal Church\, 1419 Pine Street\, Boulder\, Colorado\, 80302\, United States
END:VEVENT
BEGIN:VEVENT
DTSTART;TZID=UTC:20250917T163000
DTEND;TZID=UTC:20250917T173000
DTSTAMP:20260422T181451
CREATED:20240917T032628Z
LAST-MODIFIED:20240917T033122Z
UID:10015930-1758126600-1758130200@safeboulder.org
SUMMARY:“Grab & Go" dinner
DESCRIPTION:Sack Meal\, “Grab & Go” in the parking lot of St. John’s Episcopal\, 1419 Pine.
URL:https://safeboulder.org/event/grab-go-dinner-5/2025-09-17/
LOCATION:St. John’s Episcopal Church\, 1419 Pine Street\, Boulder\, Colorado\, 80302\, United States
CATEGORIES:Charity,Free Meal,Secular
ATTACH;FMTTYPE=image/png:https://safeboulder.org/wp-content/uploads/2022/11/community-table-kitchen-bh.png
ORGANIZER;CN="Bridge House Community Table Kitchen":MAILTO:orders@communitytablekitchen.org
END:VEVENT
BEGIN:VEVENT
DTSTART;TZID=UTC:20250916T163000
DTEND;TZID=UTC:20250916T173000
DTSTAMP:20260422T181451
CREATED:20240917T032628Z
LAST-MODIFIED:20240917T033122Z
UID:10015929-1758040200-1758043800@safeboulder.org
SUMMARY:“Grab & Go" dinner
DESCRIPTION:Sack Meal\, “Grab & Go” in the parking lot of St. John’s Episcopal\, 1419 Pine.
URL:https://safeboulder.org/event/grab-go-dinner-5/2025-09-16/
LOCATION:St. John’s Episcopal Church\, 1419 Pine Street\, Boulder\, Colorado\, 80302\, United States
CATEGORIES:Charity,Free Meal,Secular
ATTACH;FMTTYPE=image/png:https://safeboulder.org/wp-content/uploads/2022/11/community-table-kitchen-bh.png
ORGANIZER;CN="Bridge House Community Table Kitchen":MAILTO:orders@communitytablekitchen.org
END:VEVENT
BEGIN:VEVENT
DTSTART;TZID=UTC:20250911T163000
DTEND;TZID=UTC:20250911T173000
DTSTAMP:20260422T181451
CREATED:20240917T034243Z
LAST-MODIFIED:20240917T034245Z
UID:10017543-1757608200-1757611800@safeboulder.org
SUMMARY:Sit Down Dinner
DESCRIPTION:Free sit down dinner (Bridge House Community Table Dinners) at St. John’s Episcopal 1419 Pine St
URL:https://safeboulder.org/event/sit-down-dinner-2/2025-09-11/
LOCATION:St. John’s Episcopal Church\, 1419 Pine Street\, Boulder\, Colorado\, 80302\, United States
END:VEVENT
BEGIN:VEVENT
DTSTART;TZID=UTC:20250910T163000
DTEND;TZID=UTC:20250910T173000
DTSTAMP:20260422T181451
CREATED:20240917T032628Z
LAST-MODIFIED:20240917T033122Z
UID:10015925-1757521800-1757525400@safeboulder.org
SUMMARY:“Grab & Go" dinner
DESCRIPTION:Sack Meal\, “Grab & Go” in the parking lot of St. John’s Episcopal\, 1419 Pine.
URL:https://safeboulder.org/event/grab-go-dinner-5/2025-09-10/
LOCATION:St. John’s Episcopal Church\, 1419 Pine Street\, Boulder\, Colorado\, 80302\, United States
CATEGORIES:Charity,Free Meal,Secular
ATTACH;FMTTYPE=image/png:https://safeboulder.org/wp-content/uploads/2022/11/community-table-kitchen-bh.png
ORGANIZER;CN="Bridge House Community Table Kitchen":MAILTO:orders@communitytablekitchen.org
END:VEVENT
BEGIN:VEVENT
DTSTART;TZID=UTC:20250909T163000
DTEND;TZID=UTC:20250909T173000
DTSTAMP:20260422T181451
CREATED:20240917T032628Z
LAST-MODIFIED:20240917T033122Z
UID:10015924-1757435400-1757439000@safeboulder.org
SUMMARY:“Grab & Go" dinner
DESCRIPTION:Sack Meal\, “Grab & Go” in the parking lot of St. John’s Episcopal\, 1419 Pine.
URL:https://safeboulder.org/event/grab-go-dinner-5/2025-09-09/
LOCATION:St. John’s Episcopal Church\, 1419 Pine Street\, Boulder\, Colorado\, 80302\, United States
CATEGORIES:Charity,Free Meal,Secular
ATTACH;FMTTYPE=image/png:https://safeboulder.org/wp-content/uploads/2022/11/community-table-kitchen-bh.png
ORGANIZER;CN="Bridge House Community Table Kitchen":MAILTO:orders@communitytablekitchen.org
END:VEVENT
BEGIN:VEVENT
DTSTART;TZID=UTC:20250907T120000
DTEND;TZID=UTC:20250907T130000
DTSTAMP:20260422T181451
CREATED:20221226T192642Z
LAST-MODIFIED:20250208T235723Z
UID:10021304-1757246400-1757250000@safeboulder.org
SUMMARY:St John’s Episcopal Lunch
DESCRIPTION:First Sunday of every month.
URL:https://safeboulder.org/event/st-johns-episcopal-lunch/2025-09-07/
LOCATION:St. John’s Episcopal Church\, 1419 Pine Street\, Boulder\, Colorado\, 80302\, United States
CATEGORIES:Charity,Free Meal,Religious
ATTACH;FMTTYPE=image/jpeg:https://safeboulder.org/wp-content/uploads/2022/12/stjohnslogoforwebsite-1.jpg
ORGANIZER;CN="St John&#8217%3Bs Episcopal Church":MAILTO:office@stjohnsboulder.org
END:VEVENT
BEGIN:VEVENT
DTSTART;TZID=UTC:20250904T163000
DTEND;TZID=UTC:20250904T173000
DTSTAMP:20260422T181451
CREATED:20240917T034243Z
LAST-MODIFIED:20240917T034245Z
UID:10017542-1757003400-1757007000@safeboulder.org
SUMMARY:Sit Down Dinner
DESCRIPTION:Free sit down dinner (Bridge House Community Table Dinners) at St. John’s Episcopal 1419 Pine St
URL:https://safeboulder.org/event/sit-down-dinner-2/2025-09-04/
LOCATION:St. John’s Episcopal Church\, 1419 Pine Street\, Boulder\, Colorado\, 80302\, United States
END:VEVENT
BEGIN:VEVENT
DTSTART;TZID=UTC:20250903T163000
DTEND;TZID=UTC:20250903T173000
DTSTAMP:20260422T181451
CREATED:20240917T032628Z
LAST-MODIFIED:20240917T033122Z
UID:10015920-1756917000-1756920600@safeboulder.org
SUMMARY:“Grab & Go" dinner
DESCRIPTION:Sack Meal\, “Grab & Go” in the parking lot of St. John’s Episcopal\, 1419 Pine.
URL:https://safeboulder.org/event/grab-go-dinner-5/2025-09-03/
LOCATION:St. John’s Episcopal Church\, 1419 Pine Street\, Boulder\, Colorado\, 80302\, United States
CATEGORIES:Charity,Free Meal,Secular
ATTACH;FMTTYPE=image/png:https://safeboulder.org/wp-content/uploads/2022/11/community-table-kitchen-bh.png
ORGANIZER;CN="Bridge House Community Table Kitchen":MAILTO:orders@communitytablekitchen.org
END:VEVENT
BEGIN:VEVENT
DTSTART;TZID=UTC:20250902T163000
DTEND;TZID=UTC:20250902T173000
DTSTAMP:20260422T181451
CREATED:20240917T032628Z
LAST-MODIFIED:20240917T033122Z
UID:10015919-1756830600-1756834200@safeboulder.org
SUMMARY:“Grab & Go" dinner
DESCRIPTION:Sack Meal\, “Grab & Go” in the parking lot of St. John’s Episcopal\, 1419 Pine.
URL:https://safeboulder.org/event/grab-go-dinner-5/2025-09-02/
LOCATION:St. John’s Episcopal Church\, 1419 Pine Street\, Boulder\, Colorado\, 80302\, United States
CATEGORIES:Charity,Free Meal,Secular
ATTACH;FMTTYPE=image/png:https://safeboulder.org/wp-content/uploads/2022/11/community-table-kitchen-bh.png
ORGANIZER;CN="Bridge House Community Table Kitchen":MAILTO:orders@communitytablekitchen.org
END:VEVENT
BEGIN:VEVENT
DTSTART;TZID=UTC:20250828T163000
DTEND;TZID=UTC:20250828T173000
DTSTAMP:20260422T181451
CREATED:20240917T034243Z
LAST-MODIFIED:20240917T034245Z
UID:10017541-1756398600-1756402200@safeboulder.org
SUMMARY:Sit Down Dinner
DESCRIPTION:Free sit down dinner (Bridge House Community Table Dinners) at St. John’s Episcopal 1419 Pine St
URL:https://safeboulder.org/event/sit-down-dinner-2/2025-08-28/
LOCATION:St. John’s Episcopal Church\, 1419 Pine Street\, Boulder\, Colorado\, 80302\, United States
END:VEVENT
BEGIN:VEVENT
DTSTART;TZID=UTC:20250827T163000
DTEND;TZID=UTC:20250827T173000
DTSTAMP:20260422T181451
CREATED:20240917T032628Z
LAST-MODIFIED:20240917T033122Z
UID:10015915-1756312200-1756315800@safeboulder.org
SUMMARY:“Grab & Go" dinner
DESCRIPTION:Sack Meal\, “Grab & Go” in the parking lot of St. John’s Episcopal\, 1419 Pine.
URL:https://safeboulder.org/event/grab-go-dinner-5/2025-08-27/
LOCATION:St. John’s Episcopal Church\, 1419 Pine Street\, Boulder\, Colorado\, 80302\, United States
CATEGORIES:Charity,Free Meal,Secular
ATTACH;FMTTYPE=image/png:https://safeboulder.org/wp-content/uploads/2022/11/community-table-kitchen-bh.png
ORGANIZER;CN="Bridge House Community Table Kitchen":MAILTO:orders@communitytablekitchen.org
END:VEVENT
BEGIN:VEVENT
DTSTART;TZID=UTC:20250826T163000
DTEND;TZID=UTC:20250826T173000
DTSTAMP:20260422T181451
CREATED:20240917T032628Z
LAST-MODIFIED:20240917T033122Z
UID:10015914-1756225800-1756229400@safeboulder.org
SUMMARY:“Grab & Go" dinner
DESCRIPTION:Sack Meal\, “Grab & Go” in the parking lot of St. John’s Episcopal\, 1419 Pine.
URL:https://safeboulder.org/event/grab-go-dinner-5/2025-08-26/
LOCATION:St. John’s Episcopal Church\, 1419 Pine Street\, Boulder\, Colorado\, 80302\, United States
CATEGORIES:Charity,Free Meal,Secular
ATTACH;FMTTYPE=image/png:https://safeboulder.org/wp-content/uploads/2022/11/community-table-kitchen-bh.png
ORGANIZER;CN="Bridge House Community Table Kitchen":MAILTO:orders@communitytablekitchen.org
END:VEVENT
BEGIN:VEVENT
DTSTART;TZID=UTC:20250821T163000
DTEND;TZID=UTC:20250821T173000
DTSTAMP:20260422T181451
CREATED:20240917T034243Z
LAST-MODIFIED:20240917T034245Z
UID:10017540-1755793800-1755797400@safeboulder.org
SUMMARY:Sit Down Dinner
DESCRIPTION:Free sit down dinner (Bridge House Community Table Dinners) at St. John’s Episcopal 1419 Pine St
URL:https://safeboulder.org/event/sit-down-dinner-2/2025-08-21/
LOCATION:St. John’s Episcopal Church\, 1419 Pine Street\, Boulder\, Colorado\, 80302\, United States
END:VEVENT
BEGIN:VEVENT
DTSTART;TZID=UTC:20250820T163000
DTEND;TZID=UTC:20250820T173000
DTSTAMP:20260422T181451
CREATED:20240917T032628Z
LAST-MODIFIED:20240917T033122Z
UID:10015910-1755707400-1755711000@safeboulder.org
SUMMARY:“Grab & Go" dinner
DESCRIPTION:Sack Meal\, “Grab & Go” in the parking lot of St. John’s Episcopal\, 1419 Pine.
URL:https://safeboulder.org/event/grab-go-dinner-5/2025-08-20/
LOCATION:St. John’s Episcopal Church\, 1419 Pine Street\, Boulder\, Colorado\, 80302\, United States
CATEGORIES:Charity,Free Meal,Secular
ATTACH;FMTTYPE=image/png:https://safeboulder.org/wp-content/uploads/2022/11/community-table-kitchen-bh.png
ORGANIZER;CN="Bridge House Community Table Kitchen":MAILTO:orders@communitytablekitchen.org
END:VEVENT
BEGIN:VEVENT
DTSTART;TZID=UTC:20250819T163000
DTEND;TZID=UTC:20250819T173000
DTSTAMP:20260422T181451
CREATED:20240917T032628Z
LAST-MODIFIED:20240917T033122Z
UID:10015909-1755621000-1755624600@safeboulder.org
SUMMARY:“Grab & Go" dinner
DESCRIPTION:Sack Meal\, “Grab & Go” in the parking lot of St. John’s Episcopal\, 1419 Pine.
URL:https://safeboulder.org/event/grab-go-dinner-5/2025-08-19/
LOCATION:St. John’s Episcopal Church\, 1419 Pine Street\, Boulder\, Colorado\, 80302\, United States
CATEGORIES:Charity,Free Meal,Secular
ATTACH;FMTTYPE=image/png:https://safeboulder.org/wp-content/uploads/2022/11/community-table-kitchen-bh.png
ORGANIZER;CN="Bridge House Community Table Kitchen":MAILTO:orders@communitytablekitchen.org
END:VEVENT
BEGIN:VEVENT
DTSTART;TZID=UTC:20250814T163000
DTEND;TZID=UTC:20250814T173000
DTSTAMP:20260422T181451
CREATED:20240917T034243Z
LAST-MODIFIED:20240917T034245Z
UID:10017539-1755189000-1755192600@safeboulder.org
SUMMARY:Sit Down Dinner
DESCRIPTION:Free sit down dinner (Bridge House Community Table Dinners) at St. John’s Episcopal 1419 Pine St
URL:https://safeboulder.org/event/sit-down-dinner-2/2025-08-14/
LOCATION:St. John’s Episcopal Church\, 1419 Pine Street\, Boulder\, Colorado\, 80302\, United States
END:VEVENT
BEGIN:VEVENT
DTSTART;TZID=UTC:20250813T163000
DTEND;TZID=UTC:20250813T173000
DTSTAMP:20260422T181451
CREATED:20240917T032628Z
LAST-MODIFIED:20240917T033122Z
UID:10015905-1755102600-1755106200@safeboulder.org
SUMMARY:“Grab & Go" dinner
DESCRIPTION:Sack Meal\, “Grab & Go” in the parking lot of St. John’s Episcopal\, 1419 Pine.
URL:https://safeboulder.org/event/grab-go-dinner-5/2025-08-13/
LOCATION:St. John’s Episcopal Church\, 1419 Pine Street\, Boulder\, Colorado\, 80302\, United States
CATEGORIES:Charity,Free Meal,Secular
ATTACH;FMTTYPE=image/png:https://safeboulder.org/wp-content/uploads/2022/11/community-table-kitchen-bh.png
ORGANIZER;CN="Bridge House Community Table Kitchen":MAILTO:orders@communitytablekitchen.org
END:VEVENT
BEGIN:VEVENT
DTSTART;TZID=UTC:20250812T163000
DTEND;TZID=UTC:20250812T173000
DTSTAMP:20260422T181451
CREATED:20240917T032628Z
LAST-MODIFIED:20240917T033122Z
UID:10015904-1755016200-1755019800@safeboulder.org
SUMMARY:“Grab & Go" dinner
DESCRIPTION:Sack Meal\, “Grab & Go” in the parking lot of St. John’s Episcopal\, 1419 Pine.
URL:https://safeboulder.org/event/grab-go-dinner-5/2025-08-12/
LOCATION:St. John’s Episcopal Church\, 1419 Pine Street\, Boulder\, Colorado\, 80302\, United States
CATEGORIES:Charity,Free Meal,Secular
ATTACH;FMTTYPE=image/png:https://safeboulder.org/wp-content/uploads/2022/11/community-table-kitchen-bh.png
ORGANIZER;CN="Bridge House Community Table Kitchen":MAILTO:orders@communitytablekitchen.org
END:VEVENT
BEGIN:VEVENT
DTSTART;TZID=UTC:20250807T163000
DTEND;TZID=UTC:20250807T173000
DTSTAMP:20260422T181451
CREATED:20240917T034243Z
LAST-MODIFIED:20240917T034245Z
UID:10017538-1754584200-1754587800@safeboulder.org
SUMMARY:Sit Down Dinner
DESCRIPTION:Free sit down dinner (Bridge House Community Table Dinners) at St. John’s Episcopal 1419 Pine St
URL:https://safeboulder.org/event/sit-down-dinner-2/2025-08-07/
LOCATION:St. John’s Episcopal Church\, 1419 Pine Street\, Boulder\, Colorado\, 80302\, United States
END:VEVENT
BEGIN:VEVENT
DTSTART;TZID=UTC:20250806T163000
DTEND;TZID=UTC:20250806T173000
DTSTAMP:20260422T181451
CREATED:20240917T032628Z
LAST-MODIFIED:20240917T033122Z
UID:10015900-1754497800-1754501400@safeboulder.org
SUMMARY:“Grab & Go" dinner
DESCRIPTION:Sack Meal\, “Grab & Go” in the parking lot of St. John’s Episcopal\, 1419 Pine.
URL:https://safeboulder.org/event/grab-go-dinner-5/2025-08-06/
LOCATION:St. John’s Episcopal Church\, 1419 Pine Street\, Boulder\, Colorado\, 80302\, United States
CATEGORIES:Charity,Free Meal,Secular
ATTACH;FMTTYPE=image/png:https://safeboulder.org/wp-content/uploads/2022/11/community-table-kitchen-bh.png
ORGANIZER;CN="Bridge House Community Table Kitchen":MAILTO:orders@communitytablekitchen.org
END:VEVENT
BEGIN:VEVENT
DTSTART;TZID=UTC:20250805T163000
DTEND;TZID=UTC:20250805T173000
DTSTAMP:20260422T181451
CREATED:20240917T032628Z
LAST-MODIFIED:20240917T033122Z
UID:10015899-1754411400-1754415000@safeboulder.org
SUMMARY:“Grab & Go" dinner
DESCRIPTION:Sack Meal\, “Grab & Go” in the parking lot of St. John’s Episcopal\, 1419 Pine.
URL:https://safeboulder.org/event/grab-go-dinner-5/2025-08-05/
LOCATION:St. John’s Episcopal Church\, 1419 Pine Street\, Boulder\, Colorado\, 80302\, United States
CATEGORIES:Charity,Free Meal,Secular
ATTACH;FMTTYPE=image/png:https://safeboulder.org/wp-content/uploads/2022/11/community-table-kitchen-bh.png
ORGANIZER;CN="Bridge House Community Table Kitchen":MAILTO:orders@communitytablekitchen.org
END:VEVENT
BEGIN:VEVENT
DTSTART;TZID=UTC:20250803T120000
DTEND;TZID=UTC:20250803T130000
DTSTAMP:20260422T181451
CREATED:20221226T192642Z
LAST-MODIFIED:20250208T235723Z
UID:10021303-1754222400-1754226000@safeboulder.org
SUMMARY:St John’s Episcopal Lunch
DESCRIPTION:First Sunday of every month.
URL:https://safeboulder.org/event/st-johns-episcopal-lunch/2025-08-03/
LOCATION:St. John’s Episcopal Church\, 1419 Pine Street\, Boulder\, Colorado\, 80302\, United States
CATEGORIES:Charity,Free Meal,Religious
ATTACH;FMTTYPE=image/jpeg:https://safeboulder.org/wp-content/uploads/2022/12/stjohnslogoforwebsite-1.jpg
ORGANIZER;CN="St John&#8217%3Bs Episcopal Church":MAILTO:office@stjohnsboulder.org
END:VEVENT
BEGIN:VEVENT
DTSTART;TZID=UTC:20250731T163000
DTEND;TZID=UTC:20250731T173000
DTSTAMP:20260422T181451
CREATED:20240917T034243Z
LAST-MODIFIED:20240917T034245Z
UID:10017537-1753979400-1753983000@safeboulder.org
SUMMARY:Sit Down Dinner
DESCRIPTION:Free sit down dinner (Bridge House Community Table Dinners) at St. John’s Episcopal 1419 Pine St
URL:https://safeboulder.org/event/sit-down-dinner-2/2025-07-31/
LOCATION:St. John’s Episcopal Church\, 1419 Pine Street\, Boulder\, Colorado\, 80302\, United States
END:VEVENT
BEGIN:VEVENT
DTSTART;TZID=UTC:20250730T163000
DTEND;TZID=UTC:20250730T173000
DTSTAMP:20260422T181451
CREATED:20240917T032628Z
LAST-MODIFIED:20240917T033122Z
UID:10015895-1753893000-1753896600@safeboulder.org
SUMMARY:“Grab & Go" dinner
DESCRIPTION:Sack Meal\, “Grab & Go” in the parking lot of St. John’s Episcopal\, 1419 Pine.
URL:https://safeboulder.org/event/grab-go-dinner-5/2025-07-30/
LOCATION:St. John’s Episcopal Church\, 1419 Pine Street\, Boulder\, Colorado\, 80302\, United States
CATEGORIES:Charity,Free Meal,Secular
ATTACH;FMTTYPE=image/png:https://safeboulder.org/wp-content/uploads/2022/11/community-table-kitchen-bh.png
ORGANIZER;CN="Bridge House Community Table Kitchen":MAILTO:orders@communitytablekitchen.org
END:VEVENT
BEGIN:VEVENT
DTSTART;TZID=UTC:20250729T163000
DTEND;TZID=UTC:20250729T173000
DTSTAMP:20260422T181451
CREATED:20240917T032628Z
LAST-MODIFIED:20240917T033122Z
UID:10015894-1753806600-1753810200@safeboulder.org
SUMMARY:“Grab & Go" dinner
DESCRIPTION:Sack Meal\, “Grab & Go” in the parking lot of St. John’s Episcopal\, 1419 Pine.
URL:https://safeboulder.org/event/grab-go-dinner-5/2025-07-29/
LOCATION:St. John’s Episcopal Church\, 1419 Pine Street\, Boulder\, Colorado\, 80302\, United States
CATEGORIES:Charity,Free Meal,Secular
ATTACH;FMTTYPE=image/png:https://safeboulder.org/wp-content/uploads/2022/11/community-table-kitchen-bh.png
ORGANIZER;CN="Bridge House Community Table Kitchen":MAILTO:orders@communitytablekitchen.org
END:VEVENT
BEGIN:VEVENT
DTSTART;TZID=UTC:20250724T163000
DTEND;TZID=UTC:20250724T173000
DTSTAMP:20260422T181451
CREATED:20240917T034243Z
LAST-MODIFIED:20240917T034245Z
UID:10017536-1753374600-1753378200@safeboulder.org
SUMMARY:Sit Down Dinner
DESCRIPTION:Free sit down dinner (Bridge House Community Table Dinners) at St. John’s Episcopal 1419 Pine St
URL:https://safeboulder.org/event/sit-down-dinner-2/2025-07-24/
LOCATION:St. John’s Episcopal Church\, 1419 Pine Street\, Boulder\, Colorado\, 80302\, United States
END:VEVENT
END:VCALENDAR