BEGIN:VCALENDAR
VERSION:2.0
PRODID:-//SAFE Boulder - ECPv6.15.20//NONSGML v1.0//EN
CALSCALE:GREGORIAN
METHOD:PUBLISH
X-ORIGINAL-URL:https://safeboulder.org
X-WR-CALDESC:Events for SAFE Boulder
REFRESH-INTERVAL;VALUE=DURATION:PT1H
X-Robots-Tag:noindex
X-PUBLISHED-TTL:PT1H
BEGIN:VTIMEZONE
TZID:UTC
BEGIN:STANDARD
TZOFFSETFROM:+0000
TZOFFSETTO:+0000
TZNAME:UTC
DTSTART:20250101T000000
END:STANDARD
END:VTIMEZONE
BEGIN:VEVENT
DTSTART;TZID=UTC:20260520T163000
DTEND;TZID=UTC:20260520T173000
DTSTAMP:20260423T082708
CREATED:20240917T032628Z
LAST-MODIFIED:20240917T033122Z
UID:10016105-1779294600-1779298200@safeboulder.org
SUMMARY:“Grab & Go" dinner
DESCRIPTION:Sack Meal\, “Grab & Go” in the parking lot of St. John’s Episcopal\, 1419 Pine.
URL:https://safeboulder.org/event/grab-go-dinner-5/2026-05-20/
LOCATION:St. John’s Episcopal Church\, 1419 Pine Street\, Boulder\, Colorado\, 80302\, United States
CATEGORIES:Charity,Free Meal,Secular
ATTACH;FMTTYPE=image/png:https://safeboulder.org/wp-content/uploads/2022/11/community-table-kitchen-bh.png
ORGANIZER;CN="Bridge House Community Table Kitchen":MAILTO:orders@communitytablekitchen.org
END:VEVENT
BEGIN:VEVENT
DTSTART;TZID=UTC:20260521T163000
DTEND;TZID=UTC:20260521T173000
DTSTAMP:20260423T082709
CREATED:20240917T034243Z
LAST-MODIFIED:20240917T034245Z
UID:10017579-1779381000-1779384600@safeboulder.org
SUMMARY:Sit Down Dinner
DESCRIPTION:Free sit down dinner (Bridge House Community Table Dinners) at St. John’s Episcopal 1419 Pine St
URL:https://safeboulder.org/event/sit-down-dinner-2/2026-05-21/
LOCATION:St. John’s Episcopal Church\, 1419 Pine Street\, Boulder\, Colorado\, 80302\, United States
END:VEVENT
BEGIN:VEVENT
DTSTART;TZID=UTC:20260526T163000
DTEND;TZID=UTC:20260526T173000
DTSTAMP:20260423T082709
CREATED:20240917T032628Z
LAST-MODIFIED:20240917T033122Z
UID:10016109-1779813000-1779816600@safeboulder.org
SUMMARY:“Grab & Go" dinner
DESCRIPTION:Sack Meal\, “Grab & Go” in the parking lot of St. John’s Episcopal\, 1419 Pine.
URL:https://safeboulder.org/event/grab-go-dinner-5/2026-05-26/
LOCATION:St. John’s Episcopal Church\, 1419 Pine Street\, Boulder\, Colorado\, 80302\, United States
CATEGORIES:Charity,Free Meal,Secular
ATTACH;FMTTYPE=image/png:https://safeboulder.org/wp-content/uploads/2022/11/community-table-kitchen-bh.png
ORGANIZER;CN="Bridge House Community Table Kitchen":MAILTO:orders@communitytablekitchen.org
END:VEVENT
BEGIN:VEVENT
DTSTART;TZID=UTC:20260527T163000
DTEND;TZID=UTC:20260527T173000
DTSTAMP:20260423T082709
CREATED:20240917T032628Z
LAST-MODIFIED:20240917T033122Z
UID:10016110-1779899400-1779903000@safeboulder.org
SUMMARY:“Grab & Go" dinner
DESCRIPTION:Sack Meal\, “Grab & Go” in the parking lot of St. John’s Episcopal\, 1419 Pine.
URL:https://safeboulder.org/event/grab-go-dinner-5/2026-05-27/
LOCATION:St. John’s Episcopal Church\, 1419 Pine Street\, Boulder\, Colorado\, 80302\, United States
CATEGORIES:Charity,Free Meal,Secular
ATTACH;FMTTYPE=image/png:https://safeboulder.org/wp-content/uploads/2022/11/community-table-kitchen-bh.png
ORGANIZER;CN="Bridge House Community Table Kitchen":MAILTO:orders@communitytablekitchen.org
END:VEVENT
BEGIN:VEVENT
DTSTART;TZID=UTC:20260528T163000
DTEND;TZID=UTC:20260528T173000
DTSTAMP:20260423T082709
CREATED:20240917T034243Z
LAST-MODIFIED:20240917T034245Z
UID:10017580-1779985800-1779989400@safeboulder.org
SUMMARY:Sit Down Dinner
DESCRIPTION:Free sit down dinner (Bridge House Community Table Dinners) at St. John’s Episcopal 1419 Pine St
URL:https://safeboulder.org/event/sit-down-dinner-2/2026-05-28/
LOCATION:St. John’s Episcopal Church\, 1419 Pine Street\, Boulder\, Colorado\, 80302\, United States
END:VEVENT
BEGIN:VEVENT
DTSTART;TZID=UTC:20260602T163000
DTEND;TZID=UTC:20260602T173000
DTSTAMP:20260423T082709
CREATED:20240917T032628Z
LAST-MODIFIED:20240917T033122Z
UID:10016114-1780417800-1780421400@safeboulder.org
SUMMARY:“Grab & Go" dinner
DESCRIPTION:Sack Meal\, “Grab & Go” in the parking lot of St. John’s Episcopal\, 1419 Pine.
URL:https://safeboulder.org/event/grab-go-dinner-5/2026-06-02/
LOCATION:St. John’s Episcopal Church\, 1419 Pine Street\, Boulder\, Colorado\, 80302\, United States
CATEGORIES:Charity,Free Meal,Secular
ATTACH;FMTTYPE=image/png:https://safeboulder.org/wp-content/uploads/2022/11/community-table-kitchen-bh.png
ORGANIZER;CN="Bridge House Community Table Kitchen":MAILTO:orders@communitytablekitchen.org
END:VEVENT
BEGIN:VEVENT
DTSTART;TZID=UTC:20260603T163000
DTEND;TZID=UTC:20260603T173000
DTSTAMP:20260423T082709
CREATED:20240917T032628Z
LAST-MODIFIED:20240917T033122Z
UID:10016115-1780504200-1780507800@safeboulder.org
SUMMARY:“Grab & Go" dinner
DESCRIPTION:Sack Meal\, “Grab & Go” in the parking lot of St. John’s Episcopal\, 1419 Pine.
URL:https://safeboulder.org/event/grab-go-dinner-5/2026-06-03/
LOCATION:St. John’s Episcopal Church\, 1419 Pine Street\, Boulder\, Colorado\, 80302\, United States
CATEGORIES:Charity,Free Meal,Secular
ATTACH;FMTTYPE=image/png:https://safeboulder.org/wp-content/uploads/2022/11/community-table-kitchen-bh.png
ORGANIZER;CN="Bridge House Community Table Kitchen":MAILTO:orders@communitytablekitchen.org
END:VEVENT
BEGIN:VEVENT
DTSTART;TZID=UTC:20260604T163000
DTEND;TZID=UTC:20260604T173000
DTSTAMP:20260423T082709
CREATED:20240917T034243Z
LAST-MODIFIED:20240917T034245Z
UID:10017581-1780590600-1780594200@safeboulder.org
SUMMARY:Sit Down Dinner
DESCRIPTION:Free sit down dinner (Bridge House Community Table Dinners) at St. John’s Episcopal 1419 Pine St
URL:https://safeboulder.org/event/sit-down-dinner-2/2026-06-04/
LOCATION:St. John’s Episcopal Church\, 1419 Pine Street\, Boulder\, Colorado\, 80302\, United States
END:VEVENT
BEGIN:VEVENT
DTSTART;TZID=UTC:20260607T120000
DTEND;TZID=UTC:20260607T130000
DTSTAMP:20260423T082709
CREATED:20221226T192642Z
LAST-MODIFIED:20250208T235723Z
UID:10021313-1780833600-1780837200@safeboulder.org
SUMMARY:St John’s Episcopal Lunch
DESCRIPTION:First Sunday of every month.
URL:https://safeboulder.org/event/st-johns-episcopal-lunch/2026-06-07/
LOCATION:St. John’s Episcopal Church\, 1419 Pine Street\, Boulder\, Colorado\, 80302\, United States
CATEGORIES:Charity,Free Meal,Religious
ATTACH;FMTTYPE=image/jpeg:https://safeboulder.org/wp-content/uploads/2022/12/stjohnslogoforwebsite-1.jpg
ORGANIZER;CN="St John&#8217%3Bs Episcopal Church":MAILTO:office@stjohnsboulder.org
END:VEVENT
BEGIN:VEVENT
DTSTART;TZID=UTC:20260609T163000
DTEND;TZID=UTC:20260609T173000
DTSTAMP:20260423T082709
CREATED:20240917T032628Z
LAST-MODIFIED:20240917T033122Z
UID:10016119-1781022600-1781026200@safeboulder.org
SUMMARY:“Grab & Go" dinner
DESCRIPTION:Sack Meal\, “Grab & Go” in the parking lot of St. John’s Episcopal\, 1419 Pine.
URL:https://safeboulder.org/event/grab-go-dinner-5/2026-06-09/
LOCATION:St. John’s Episcopal Church\, 1419 Pine Street\, Boulder\, Colorado\, 80302\, United States
CATEGORIES:Charity,Free Meal,Secular
ATTACH;FMTTYPE=image/png:https://safeboulder.org/wp-content/uploads/2022/11/community-table-kitchen-bh.png
ORGANIZER;CN="Bridge House Community Table Kitchen":MAILTO:orders@communitytablekitchen.org
END:VEVENT
BEGIN:VEVENT
DTSTART;TZID=UTC:20260610T163000
DTEND;TZID=UTC:20260610T173000
DTSTAMP:20260423T082709
CREATED:20240917T032628Z
LAST-MODIFIED:20240917T033122Z
UID:10016120-1781109000-1781112600@safeboulder.org
SUMMARY:“Grab & Go" dinner
DESCRIPTION:Sack Meal\, “Grab & Go” in the parking lot of St. John’s Episcopal\, 1419 Pine.
URL:https://safeboulder.org/event/grab-go-dinner-5/2026-06-10/
LOCATION:St. John’s Episcopal Church\, 1419 Pine Street\, Boulder\, Colorado\, 80302\, United States
CATEGORIES:Charity,Free Meal,Secular
ATTACH;FMTTYPE=image/png:https://safeboulder.org/wp-content/uploads/2022/11/community-table-kitchen-bh.png
ORGANIZER;CN="Bridge House Community Table Kitchen":MAILTO:orders@communitytablekitchen.org
END:VEVENT
BEGIN:VEVENT
DTSTART;TZID=UTC:20260611T163000
DTEND;TZID=UTC:20260611T173000
DTSTAMP:20260423T082709
CREATED:20240917T034243Z
LAST-MODIFIED:20240917T034245Z
UID:10017582-1781195400-1781199000@safeboulder.org
SUMMARY:Sit Down Dinner
DESCRIPTION:Free sit down dinner (Bridge House Community Table Dinners) at St. John’s Episcopal 1419 Pine St
URL:https://safeboulder.org/event/sit-down-dinner-2/2026-06-11/
LOCATION:St. John’s Episcopal Church\, 1419 Pine Street\, Boulder\, Colorado\, 80302\, United States
END:VEVENT
BEGIN:VEVENT
DTSTART;TZID=UTC:20260616T163000
DTEND;TZID=UTC:20260616T173000
DTSTAMP:20260423T082709
CREATED:20240917T032628Z
LAST-MODIFIED:20240917T033122Z
UID:10016124-1781627400-1781631000@safeboulder.org
SUMMARY:“Grab & Go" dinner
DESCRIPTION:Sack Meal\, “Grab & Go” in the parking lot of St. John’s Episcopal\, 1419 Pine.
URL:https://safeboulder.org/event/grab-go-dinner-5/2026-06-16/
LOCATION:St. John’s Episcopal Church\, 1419 Pine Street\, Boulder\, Colorado\, 80302\, United States
CATEGORIES:Charity,Free Meal,Secular
ATTACH;FMTTYPE=image/png:https://safeboulder.org/wp-content/uploads/2022/11/community-table-kitchen-bh.png
ORGANIZER;CN="Bridge House Community Table Kitchen":MAILTO:orders@communitytablekitchen.org
END:VEVENT
BEGIN:VEVENT
DTSTART;TZID=UTC:20260617T163000
DTEND;TZID=UTC:20260617T173000
DTSTAMP:20260423T082709
CREATED:20240917T032628Z
LAST-MODIFIED:20240917T033122Z
UID:10016125-1781713800-1781717400@safeboulder.org
SUMMARY:“Grab & Go" dinner
DESCRIPTION:Sack Meal\, “Grab & Go” in the parking lot of St. John’s Episcopal\, 1419 Pine.
URL:https://safeboulder.org/event/grab-go-dinner-5/2026-06-17/
LOCATION:St. John’s Episcopal Church\, 1419 Pine Street\, Boulder\, Colorado\, 80302\, United States
CATEGORIES:Charity,Free Meal,Secular
ATTACH;FMTTYPE=image/png:https://safeboulder.org/wp-content/uploads/2022/11/community-table-kitchen-bh.png
ORGANIZER;CN="Bridge House Community Table Kitchen":MAILTO:orders@communitytablekitchen.org
END:VEVENT
BEGIN:VEVENT
DTSTART;TZID=UTC:20260618T163000
DTEND;TZID=UTC:20260618T173000
DTSTAMP:20260423T082709
CREATED:20240917T034243Z
LAST-MODIFIED:20240917T034245Z
UID:10017583-1781800200-1781803800@safeboulder.org
SUMMARY:Sit Down Dinner
DESCRIPTION:Free sit down dinner (Bridge House Community Table Dinners) at St. John’s Episcopal 1419 Pine St
URL:https://safeboulder.org/event/sit-down-dinner-2/2026-06-18/
LOCATION:St. John’s Episcopal Church\, 1419 Pine Street\, Boulder\, Colorado\, 80302\, United States
END:VEVENT
BEGIN:VEVENT
DTSTART;TZID=UTC:20260623T163000
DTEND;TZID=UTC:20260623T173000
DTSTAMP:20260423T082709
CREATED:20240917T032628Z
LAST-MODIFIED:20240917T033122Z
UID:10016129-1782232200-1782235800@safeboulder.org
SUMMARY:“Grab & Go" dinner
DESCRIPTION:Sack Meal\, “Grab & Go” in the parking lot of St. John’s Episcopal\, 1419 Pine.
URL:https://safeboulder.org/event/grab-go-dinner-5/2026-06-23/
LOCATION:St. John’s Episcopal Church\, 1419 Pine Street\, Boulder\, Colorado\, 80302\, United States
CATEGORIES:Charity,Free Meal,Secular
ATTACH;FMTTYPE=image/png:https://safeboulder.org/wp-content/uploads/2022/11/community-table-kitchen-bh.png
ORGANIZER;CN="Bridge House Community Table Kitchen":MAILTO:orders@communitytablekitchen.org
END:VEVENT
BEGIN:VEVENT
DTSTART;TZID=UTC:20260624T163000
DTEND;TZID=UTC:20260624T173000
DTSTAMP:20260423T082709
CREATED:20240917T032628Z
LAST-MODIFIED:20240917T033122Z
UID:10016130-1782318600-1782322200@safeboulder.org
SUMMARY:“Grab & Go" dinner
DESCRIPTION:Sack Meal\, “Grab & Go” in the parking lot of St. John’s Episcopal\, 1419 Pine.
URL:https://safeboulder.org/event/grab-go-dinner-5/2026-06-24/
LOCATION:St. John’s Episcopal Church\, 1419 Pine Street\, Boulder\, Colorado\, 80302\, United States
CATEGORIES:Charity,Free Meal,Secular
ATTACH;FMTTYPE=image/png:https://safeboulder.org/wp-content/uploads/2022/11/community-table-kitchen-bh.png
ORGANIZER;CN="Bridge House Community Table Kitchen":MAILTO:orders@communitytablekitchen.org
END:VEVENT
BEGIN:VEVENT
DTSTART;TZID=UTC:20260625T163000
DTEND;TZID=UTC:20260625T173000
DTSTAMP:20260423T082709
CREATED:20240917T034243Z
LAST-MODIFIED:20240917T034245Z
UID:10017584-1782405000-1782408600@safeboulder.org
SUMMARY:Sit Down Dinner
DESCRIPTION:Free sit down dinner (Bridge House Community Table Dinners) at St. John’s Episcopal 1419 Pine St
URL:https://safeboulder.org/event/sit-down-dinner-2/2026-06-25/
LOCATION:St. John’s Episcopal Church\, 1419 Pine Street\, Boulder\, Colorado\, 80302\, United States
END:VEVENT
BEGIN:VEVENT
DTSTART;TZID=UTC:20260630T163000
DTEND;TZID=UTC:20260630T173000
DTSTAMP:20260423T082709
CREATED:20240917T032628Z
LAST-MODIFIED:20240917T033122Z
UID:10016134-1782837000-1782840600@safeboulder.org
SUMMARY:“Grab & Go" dinner
DESCRIPTION:Sack Meal\, “Grab & Go” in the parking lot of St. John’s Episcopal\, 1419 Pine.
URL:https://safeboulder.org/event/grab-go-dinner-5/2026-06-30/
LOCATION:St. John’s Episcopal Church\, 1419 Pine Street\, Boulder\, Colorado\, 80302\, United States
CATEGORIES:Charity,Free Meal,Secular
ATTACH;FMTTYPE=image/png:https://safeboulder.org/wp-content/uploads/2022/11/community-table-kitchen-bh.png
ORGANIZER;CN="Bridge House Community Table Kitchen":MAILTO:orders@communitytablekitchen.org
END:VEVENT
BEGIN:VEVENT
DTSTART;TZID=UTC:20260701T163000
DTEND;TZID=UTC:20260701T173000
DTSTAMP:20260423T082709
CREATED:20240917T032628Z
LAST-MODIFIED:20240917T033122Z
UID:10016135-1782923400-1782927000@safeboulder.org
SUMMARY:“Grab & Go" dinner
DESCRIPTION:Sack Meal\, “Grab & Go” in the parking lot of St. John’s Episcopal\, 1419 Pine.
URL:https://safeboulder.org/event/grab-go-dinner-5/2026-07-01/
LOCATION:St. John’s Episcopal Church\, 1419 Pine Street\, Boulder\, Colorado\, 80302\, United States
CATEGORIES:Charity,Free Meal,Secular
ATTACH;FMTTYPE=image/png:https://safeboulder.org/wp-content/uploads/2022/11/community-table-kitchen-bh.png
ORGANIZER;CN="Bridge House Community Table Kitchen":MAILTO:orders@communitytablekitchen.org
END:VEVENT
BEGIN:VEVENT
DTSTART;TZID=UTC:20260702T163000
DTEND;TZID=UTC:20260702T173000
DTSTAMP:20260423T082709
CREATED:20240917T034243Z
LAST-MODIFIED:20240917T034245Z
UID:10017585-1783009800-1783013400@safeboulder.org
SUMMARY:Sit Down Dinner
DESCRIPTION:Free sit down dinner (Bridge House Community Table Dinners) at St. John’s Episcopal 1419 Pine St
URL:https://safeboulder.org/event/sit-down-dinner-2/2026-07-02/
LOCATION:St. John’s Episcopal Church\, 1419 Pine Street\, Boulder\, Colorado\, 80302\, United States
END:VEVENT
BEGIN:VEVENT
DTSTART;TZID=UTC:20260705T120000
DTEND;TZID=UTC:20260705T130000
DTSTAMP:20260423T082709
CREATED:20221226T192642Z
LAST-MODIFIED:20250208T235723Z
UID:10021314-1783252800-1783256400@safeboulder.org
SUMMARY:St John’s Episcopal Lunch
DESCRIPTION:First Sunday of every month.
URL:https://safeboulder.org/event/st-johns-episcopal-lunch/2026-07-05/
LOCATION:St. John’s Episcopal Church\, 1419 Pine Street\, Boulder\, Colorado\, 80302\, United States
CATEGORIES:Charity,Free Meal,Religious
ATTACH;FMTTYPE=image/jpeg:https://safeboulder.org/wp-content/uploads/2022/12/stjohnslogoforwebsite-1.jpg
ORGANIZER;CN="St John&#8217%3Bs Episcopal Church":MAILTO:office@stjohnsboulder.org
END:VEVENT
BEGIN:VEVENT
DTSTART;TZID=UTC:20260707T163000
DTEND;TZID=UTC:20260707T173000
DTSTAMP:20260423T082709
CREATED:20240917T032628Z
LAST-MODIFIED:20240917T033122Z
UID:10016139-1783441800-1783445400@safeboulder.org
SUMMARY:“Grab & Go" dinner
DESCRIPTION:Sack Meal\, “Grab & Go” in the parking lot of St. John’s Episcopal\, 1419 Pine.
URL:https://safeboulder.org/event/grab-go-dinner-5/2026-07-07/
LOCATION:St. John’s Episcopal Church\, 1419 Pine Street\, Boulder\, Colorado\, 80302\, United States
CATEGORIES:Charity,Free Meal,Secular
ATTACH;FMTTYPE=image/png:https://safeboulder.org/wp-content/uploads/2022/11/community-table-kitchen-bh.png
ORGANIZER;CN="Bridge House Community Table Kitchen":MAILTO:orders@communitytablekitchen.org
END:VEVENT
BEGIN:VEVENT
DTSTART;TZID=UTC:20260708T163000
DTEND;TZID=UTC:20260708T173000
DTSTAMP:20260423T082709
CREATED:20240917T032628Z
LAST-MODIFIED:20240917T033122Z
UID:10016140-1783528200-1783531800@safeboulder.org
SUMMARY:“Grab & Go" dinner
DESCRIPTION:Sack Meal\, “Grab & Go” in the parking lot of St. John’s Episcopal\, 1419 Pine.
URL:https://safeboulder.org/event/grab-go-dinner-5/2026-07-08/
LOCATION:St. John’s Episcopal Church\, 1419 Pine Street\, Boulder\, Colorado\, 80302\, United States
CATEGORIES:Charity,Free Meal,Secular
ATTACH;FMTTYPE=image/png:https://safeboulder.org/wp-content/uploads/2022/11/community-table-kitchen-bh.png
ORGANIZER;CN="Bridge House Community Table Kitchen":MAILTO:orders@communitytablekitchen.org
END:VEVENT
BEGIN:VEVENT
DTSTART;TZID=UTC:20260709T163000
DTEND;TZID=UTC:20260709T173000
DTSTAMP:20260423T082709
CREATED:20240917T034243Z
LAST-MODIFIED:20240917T034245Z
UID:10017586-1783614600-1783618200@safeboulder.org
SUMMARY:Sit Down Dinner
DESCRIPTION:Free sit down dinner (Bridge House Community Table Dinners) at St. John’s Episcopal 1419 Pine St
URL:https://safeboulder.org/event/sit-down-dinner-2/2026-07-09/
LOCATION:St. John’s Episcopal Church\, 1419 Pine Street\, Boulder\, Colorado\, 80302\, United States
END:VEVENT
BEGIN:VEVENT
DTSTART;TZID=UTC:20260714T163000
DTEND;TZID=UTC:20260714T173000
DTSTAMP:20260423T082709
CREATED:20240917T032628Z
LAST-MODIFIED:20240917T033122Z
UID:10016144-1784046600-1784050200@safeboulder.org
SUMMARY:“Grab & Go" dinner
DESCRIPTION:Sack Meal\, “Grab & Go” in the parking lot of St. John’s Episcopal\, 1419 Pine.
URL:https://safeboulder.org/event/grab-go-dinner-5/2026-07-14/
LOCATION:St. John’s Episcopal Church\, 1419 Pine Street\, Boulder\, Colorado\, 80302\, United States
CATEGORIES:Charity,Free Meal,Secular
ATTACH;FMTTYPE=image/png:https://safeboulder.org/wp-content/uploads/2022/11/community-table-kitchen-bh.png
ORGANIZER;CN="Bridge House Community Table Kitchen":MAILTO:orders@communitytablekitchen.org
END:VEVENT
BEGIN:VEVENT
DTSTART;TZID=UTC:20260715T163000
DTEND;TZID=UTC:20260715T173000
DTSTAMP:20260423T082709
CREATED:20240917T032628Z
LAST-MODIFIED:20240917T033122Z
UID:10016145-1784133000-1784136600@safeboulder.org
SUMMARY:“Grab & Go" dinner
DESCRIPTION:Sack Meal\, “Grab & Go” in the parking lot of St. John’s Episcopal\, 1419 Pine.
URL:https://safeboulder.org/event/grab-go-dinner-5/2026-07-15/
LOCATION:St. John’s Episcopal Church\, 1419 Pine Street\, Boulder\, Colorado\, 80302\, United States
CATEGORIES:Charity,Free Meal,Secular
ATTACH;FMTTYPE=image/png:https://safeboulder.org/wp-content/uploads/2022/11/community-table-kitchen-bh.png
ORGANIZER;CN="Bridge House Community Table Kitchen":MAILTO:orders@communitytablekitchen.org
END:VEVENT
BEGIN:VEVENT
DTSTART;TZID=UTC:20260716T163000
DTEND;TZID=UTC:20260716T173000
DTSTAMP:20260423T082709
CREATED:20240917T034243Z
LAST-MODIFIED:20240917T034245Z
UID:10017587-1784219400-1784223000@safeboulder.org
SUMMARY:Sit Down Dinner
DESCRIPTION:Free sit down dinner (Bridge House Community Table Dinners) at St. John’s Episcopal 1419 Pine St
URL:https://safeboulder.org/event/sit-down-dinner-2/2026-07-16/
LOCATION:St. John’s Episcopal Church\, 1419 Pine Street\, Boulder\, Colorado\, 80302\, United States
END:VEVENT
BEGIN:VEVENT
DTSTART;TZID=UTC:20260721T163000
DTEND;TZID=UTC:20260721T173000
DTSTAMP:20260423T082709
CREATED:20240917T032628Z
LAST-MODIFIED:20240917T033122Z
UID:10016149-1784651400-1784655000@safeboulder.org
SUMMARY:“Grab & Go" dinner
DESCRIPTION:Sack Meal\, “Grab & Go” in the parking lot of St. John’s Episcopal\, 1419 Pine.
URL:https://safeboulder.org/event/grab-go-dinner-5/2026-07-21/
LOCATION:St. John’s Episcopal Church\, 1419 Pine Street\, Boulder\, Colorado\, 80302\, United States
CATEGORIES:Charity,Free Meal,Secular
ATTACH;FMTTYPE=image/png:https://safeboulder.org/wp-content/uploads/2022/11/community-table-kitchen-bh.png
ORGANIZER;CN="Bridge House Community Table Kitchen":MAILTO:orders@communitytablekitchen.org
END:VEVENT
BEGIN:VEVENT
DTSTART;TZID=UTC:20260722T163000
DTEND;TZID=UTC:20260722T173000
DTSTAMP:20260423T082709
CREATED:20240917T032628Z
LAST-MODIFIED:20240917T033122Z
UID:10016150-1784737800-1784741400@safeboulder.org
SUMMARY:“Grab & Go" dinner
DESCRIPTION:Sack Meal\, “Grab & Go” in the parking lot of St. John’s Episcopal\, 1419 Pine.
URL:https://safeboulder.org/event/grab-go-dinner-5/2026-07-22/
LOCATION:St. John’s Episcopal Church\, 1419 Pine Street\, Boulder\, Colorado\, 80302\, United States
CATEGORIES:Charity,Free Meal,Secular
ATTACH;FMTTYPE=image/png:https://safeboulder.org/wp-content/uploads/2022/11/community-table-kitchen-bh.png
ORGANIZER;CN="Bridge House Community Table Kitchen":MAILTO:orders@communitytablekitchen.org
END:VEVENT
END:VCALENDAR