BEGIN:VCALENDAR
VERSION:2.0
PRODID:-//SAFE Boulder - ECPv6.15.20//NONSGML v1.0//EN
CALSCALE:GREGORIAN
METHOD:PUBLISH
X-WR-CALNAME:SAFE Boulder
X-ORIGINAL-URL:https://safeboulder.org
X-WR-CALDESC:Events for SAFE Boulder
REFRESH-INTERVAL;VALUE=DURATION:PT1H
X-Robots-Tag:noindex
X-PUBLISHED-TTL:PT1H
BEGIN:VTIMEZONE
TZID:UTC
BEGIN:STANDARD
TZOFFSETFROM:+0000
TZOFFSETTO:+0000
TZNAME:UTC
DTSTART:20260101T000000
END:STANDARD
END:VTIMEZONE
BEGIN:VEVENT
DTSTART;TZID=UTC:20270609T163000
DTEND;TZID=UTC:20270609T173000
DTSTAMP:20260420T004514
CREATED:20240917T032628Z
LAST-MODIFIED:20240917T033122Z
UID:10016380-1812558600-1812562200@safeboulder.org
SUMMARY:“Grab & Go" dinner
DESCRIPTION:Sack Meal\, “Grab & Go” in the parking lot of St. John’s Episcopal\, 1419 Pine.
URL:https://safeboulder.org/event/grab-go-dinner-5/2027-06-09/
LOCATION:St. John’s Episcopal Church\, 1419 Pine Street\, Boulder\, Colorado\, 80302\, United States
CATEGORIES:Charity,Free Meal,Secular
ATTACH;FMTTYPE=image/png:https://safeboulder.org/wp-content/uploads/2022/11/community-table-kitchen-bh.png
ORGANIZER;CN="Bridge House Community Table Kitchen":MAILTO:orders@communitytablekitchen.org
END:VEVENT
BEGIN:VEVENT
DTSTART;TZID=UTC:20270610T163000
DTEND;TZID=UTC:20270610T173000
DTSTAMP:20260420T004514
CREATED:20240917T034243Z
LAST-MODIFIED:20240917T034245Z
UID:10017634-1812645000-1812648600@safeboulder.org
SUMMARY:Sit Down Dinner
DESCRIPTION:Free sit down dinner (Bridge House Community Table Dinners) at St. John’s Episcopal 1419 Pine St
URL:https://safeboulder.org/event/sit-down-dinner-2/2027-06-10/
LOCATION:St. John’s Episcopal Church\, 1419 Pine Street\, Boulder\, Colorado\, 80302\, United States
END:VEVENT
BEGIN:VEVENT
DTSTART;TZID=UTC:20270615T163000
DTEND;TZID=UTC:20270615T173000
DTSTAMP:20260420T004514
CREATED:20240917T032628Z
LAST-MODIFIED:20240917T033122Z
UID:10016384-1813077000-1813080600@safeboulder.org
SUMMARY:“Grab & Go" dinner
DESCRIPTION:Sack Meal\, “Grab & Go” in the parking lot of St. John’s Episcopal\, 1419 Pine.
URL:https://safeboulder.org/event/grab-go-dinner-5/2027-06-15/
LOCATION:St. John’s Episcopal Church\, 1419 Pine Street\, Boulder\, Colorado\, 80302\, United States
CATEGORIES:Charity,Free Meal,Secular
ATTACH;FMTTYPE=image/png:https://safeboulder.org/wp-content/uploads/2022/11/community-table-kitchen-bh.png
ORGANIZER;CN="Bridge House Community Table Kitchen":MAILTO:orders@communitytablekitchen.org
END:VEVENT
BEGIN:VEVENT
DTSTART;TZID=UTC:20270616T163000
DTEND;TZID=UTC:20270616T173000
DTSTAMP:20260420T004514
CREATED:20240917T032628Z
LAST-MODIFIED:20240917T033122Z
UID:10016385-1813163400-1813167000@safeboulder.org
SUMMARY:“Grab & Go" dinner
DESCRIPTION:Sack Meal\, “Grab & Go” in the parking lot of St. John’s Episcopal\, 1419 Pine.
URL:https://safeboulder.org/event/grab-go-dinner-5/2027-06-16/
LOCATION:St. John’s Episcopal Church\, 1419 Pine Street\, Boulder\, Colorado\, 80302\, United States
CATEGORIES:Charity,Free Meal,Secular
ATTACH;FMTTYPE=image/png:https://safeboulder.org/wp-content/uploads/2022/11/community-table-kitchen-bh.png
ORGANIZER;CN="Bridge House Community Table Kitchen":MAILTO:orders@communitytablekitchen.org
END:VEVENT
BEGIN:VEVENT
DTSTART;TZID=UTC:20270617T163000
DTEND;TZID=UTC:20270617T173000
DTSTAMP:20260420T004514
CREATED:20240917T034243Z
LAST-MODIFIED:20240917T034245Z
UID:10017635-1813249800-1813253400@safeboulder.org
SUMMARY:Sit Down Dinner
DESCRIPTION:Free sit down dinner (Bridge House Community Table Dinners) at St. John’s Episcopal 1419 Pine St
URL:https://safeboulder.org/event/sit-down-dinner-2/2027-06-17/
LOCATION:St. John’s Episcopal Church\, 1419 Pine Street\, Boulder\, Colorado\, 80302\, United States
END:VEVENT
BEGIN:VEVENT
DTSTART;TZID=UTC:20270622T163000
DTEND;TZID=UTC:20270622T173000
DTSTAMP:20260420T004514
CREATED:20240917T032628Z
LAST-MODIFIED:20240917T033122Z
UID:10016389-1813681800-1813685400@safeboulder.org
SUMMARY:“Grab & Go" dinner
DESCRIPTION:Sack Meal\, “Grab & Go” in the parking lot of St. John’s Episcopal\, 1419 Pine.
URL:https://safeboulder.org/event/grab-go-dinner-5/2027-06-22/
LOCATION:St. John’s Episcopal Church\, 1419 Pine Street\, Boulder\, Colorado\, 80302\, United States
CATEGORIES:Charity,Free Meal,Secular
ATTACH;FMTTYPE=image/png:https://safeboulder.org/wp-content/uploads/2022/11/community-table-kitchen-bh.png
ORGANIZER;CN="Bridge House Community Table Kitchen":MAILTO:orders@communitytablekitchen.org
END:VEVENT
BEGIN:VEVENT
DTSTART;TZID=UTC:20270623T163000
DTEND;TZID=UTC:20270623T173000
DTSTAMP:20260420T004514
CREATED:20240917T032628Z
LAST-MODIFIED:20240917T033122Z
UID:10016390-1813768200-1813771800@safeboulder.org
SUMMARY:“Grab & Go" dinner
DESCRIPTION:Sack Meal\, “Grab & Go” in the parking lot of St. John’s Episcopal\, 1419 Pine.
URL:https://safeboulder.org/event/grab-go-dinner-5/2027-06-23/
LOCATION:St. John’s Episcopal Church\, 1419 Pine Street\, Boulder\, Colorado\, 80302\, United States
CATEGORIES:Charity,Free Meal,Secular
ATTACH;FMTTYPE=image/png:https://safeboulder.org/wp-content/uploads/2022/11/community-table-kitchen-bh.png
ORGANIZER;CN="Bridge House Community Table Kitchen":MAILTO:orders@communitytablekitchen.org
END:VEVENT
BEGIN:VEVENT
DTSTART;TZID=UTC:20270624T163000
DTEND;TZID=UTC:20270624T173000
DTSTAMP:20260420T004514
CREATED:20240917T034243Z
LAST-MODIFIED:20240917T034245Z
UID:10017636-1813854600-1813858200@safeboulder.org
SUMMARY:Sit Down Dinner
DESCRIPTION:Free sit down dinner (Bridge House Community Table Dinners) at St. John’s Episcopal 1419 Pine St
URL:https://safeboulder.org/event/sit-down-dinner-2/2027-06-24/
LOCATION:St. John’s Episcopal Church\, 1419 Pine Street\, Boulder\, Colorado\, 80302\, United States
END:VEVENT
BEGIN:VEVENT
DTSTART;TZID=UTC:20270629T163000
DTEND;TZID=UTC:20270629T173000
DTSTAMP:20260420T004514
CREATED:20240917T032628Z
LAST-MODIFIED:20240917T033122Z
UID:10016394-1814286600-1814290200@safeboulder.org
SUMMARY:“Grab & Go" dinner
DESCRIPTION:Sack Meal\, “Grab & Go” in the parking lot of St. John’s Episcopal\, 1419 Pine.
URL:https://safeboulder.org/event/grab-go-dinner-5/2027-06-29/
LOCATION:St. John’s Episcopal Church\, 1419 Pine Street\, Boulder\, Colorado\, 80302\, United States
CATEGORIES:Charity,Free Meal,Secular
ATTACH;FMTTYPE=image/png:https://safeboulder.org/wp-content/uploads/2022/11/community-table-kitchen-bh.png
ORGANIZER;CN="Bridge House Community Table Kitchen":MAILTO:orders@communitytablekitchen.org
END:VEVENT
BEGIN:VEVENT
DTSTART;TZID=UTC:20270630T163000
DTEND;TZID=UTC:20270630T173000
DTSTAMP:20260420T004514
CREATED:20240917T032628Z
LAST-MODIFIED:20240917T033122Z
UID:10016395-1814373000-1814376600@safeboulder.org
SUMMARY:“Grab & Go" dinner
DESCRIPTION:Sack Meal\, “Grab & Go” in the parking lot of St. John’s Episcopal\, 1419 Pine.
URL:https://safeboulder.org/event/grab-go-dinner-5/2027-06-30/
LOCATION:St. John’s Episcopal Church\, 1419 Pine Street\, Boulder\, Colorado\, 80302\, United States
CATEGORIES:Charity,Free Meal,Secular
ATTACH;FMTTYPE=image/png:https://safeboulder.org/wp-content/uploads/2022/11/community-table-kitchen-bh.png
ORGANIZER;CN="Bridge House Community Table Kitchen":MAILTO:orders@communitytablekitchen.org
END:VEVENT
BEGIN:VEVENT
DTSTART;TZID=UTC:20270701T163000
DTEND;TZID=UTC:20270701T173000
DTSTAMP:20260420T004514
CREATED:20240917T034243Z
LAST-MODIFIED:20240917T034245Z
UID:10017637-1814459400-1814463000@safeboulder.org
SUMMARY:Sit Down Dinner
DESCRIPTION:Free sit down dinner (Bridge House Community Table Dinners) at St. John’s Episcopal 1419 Pine St
URL:https://safeboulder.org/event/sit-down-dinner-2/2027-07-01/
LOCATION:St. John’s Episcopal Church\, 1419 Pine Street\, Boulder\, Colorado\, 80302\, United States
END:VEVENT
BEGIN:VEVENT
DTSTART;TZID=UTC:20270704T120000
DTEND;TZID=UTC:20270704T130000
DTSTAMP:20260420T004514
CREATED:20221226T192642Z
LAST-MODIFIED:20250208T235723Z
UID:10021326-1814702400-1814706000@safeboulder.org
SUMMARY:St John’s Episcopal Lunch
DESCRIPTION:First Sunday of every month.
URL:https://safeboulder.org/event/st-johns-episcopal-lunch/2027-07-04/
LOCATION:St. John’s Episcopal Church\, 1419 Pine Street\, Boulder\, Colorado\, 80302\, United States
CATEGORIES:Charity,Free Meal,Religious
ATTACH;FMTTYPE=image/jpeg:https://safeboulder.org/wp-content/uploads/2022/12/stjohnslogoforwebsite-1.jpg
ORGANIZER;CN="St John&#8217%3Bs Episcopal Church":MAILTO:office@stjohnsboulder.org
END:VEVENT
BEGIN:VEVENT
DTSTART;TZID=UTC:20270706T163000
DTEND;TZID=UTC:20270706T173000
DTSTAMP:20260420T004514
CREATED:20240917T032628Z
LAST-MODIFIED:20240917T033122Z
UID:10016399-1814891400-1814895000@safeboulder.org
SUMMARY:“Grab & Go" dinner
DESCRIPTION:Sack Meal\, “Grab & Go” in the parking lot of St. John’s Episcopal\, 1419 Pine.
URL:https://safeboulder.org/event/grab-go-dinner-5/2027-07-06/
LOCATION:St. John’s Episcopal Church\, 1419 Pine Street\, Boulder\, Colorado\, 80302\, United States
CATEGORIES:Charity,Free Meal,Secular
ATTACH;FMTTYPE=image/png:https://safeboulder.org/wp-content/uploads/2022/11/community-table-kitchen-bh.png
ORGANIZER;CN="Bridge House Community Table Kitchen":MAILTO:orders@communitytablekitchen.org
END:VEVENT
BEGIN:VEVENT
DTSTART;TZID=UTC:20270707T163000
DTEND;TZID=UTC:20270707T173000
DTSTAMP:20260420T004514
CREATED:20240917T032628Z
LAST-MODIFIED:20240917T033122Z
UID:10016400-1814977800-1814981400@safeboulder.org
SUMMARY:“Grab & Go" dinner
DESCRIPTION:Sack Meal\, “Grab & Go” in the parking lot of St. John’s Episcopal\, 1419 Pine.
URL:https://safeboulder.org/event/grab-go-dinner-5/2027-07-07/
LOCATION:St. John’s Episcopal Church\, 1419 Pine Street\, Boulder\, Colorado\, 80302\, United States
CATEGORIES:Charity,Free Meal,Secular
ATTACH;FMTTYPE=image/png:https://safeboulder.org/wp-content/uploads/2022/11/community-table-kitchen-bh.png
ORGANIZER;CN="Bridge House Community Table Kitchen":MAILTO:orders@communitytablekitchen.org
END:VEVENT
BEGIN:VEVENT
DTSTART;TZID=UTC:20270708T163000
DTEND;TZID=UTC:20270708T173000
DTSTAMP:20260420T004514
CREATED:20240917T034243Z
LAST-MODIFIED:20240917T034245Z
UID:10017638-1815064200-1815067800@safeboulder.org
SUMMARY:Sit Down Dinner
DESCRIPTION:Free sit down dinner (Bridge House Community Table Dinners) at St. John’s Episcopal 1419 Pine St
URL:https://safeboulder.org/event/sit-down-dinner-2/2027-07-08/
LOCATION:St. John’s Episcopal Church\, 1419 Pine Street\, Boulder\, Colorado\, 80302\, United States
END:VEVENT
BEGIN:VEVENT
DTSTART;TZID=UTC:20270713T163000
DTEND;TZID=UTC:20270713T173000
DTSTAMP:20260420T004514
CREATED:20240917T032628Z
LAST-MODIFIED:20240917T033122Z
UID:10016404-1815496200-1815499800@safeboulder.org
SUMMARY:“Grab & Go" dinner
DESCRIPTION:Sack Meal\, “Grab & Go” in the parking lot of St. John’s Episcopal\, 1419 Pine.
URL:https://safeboulder.org/event/grab-go-dinner-5/2027-07-13/
LOCATION:St. John’s Episcopal Church\, 1419 Pine Street\, Boulder\, Colorado\, 80302\, United States
CATEGORIES:Charity,Free Meal,Secular
ATTACH;FMTTYPE=image/png:https://safeboulder.org/wp-content/uploads/2022/11/community-table-kitchen-bh.png
ORGANIZER;CN="Bridge House Community Table Kitchen":MAILTO:orders@communitytablekitchen.org
END:VEVENT
BEGIN:VEVENT
DTSTART;TZID=UTC:20270714T163000
DTEND;TZID=UTC:20270714T173000
DTSTAMP:20260420T004514
CREATED:20240917T032628Z
LAST-MODIFIED:20240917T033122Z
UID:10016405-1815582600-1815586200@safeboulder.org
SUMMARY:“Grab & Go" dinner
DESCRIPTION:Sack Meal\, “Grab & Go” in the parking lot of St. John’s Episcopal\, 1419 Pine.
URL:https://safeboulder.org/event/grab-go-dinner-5/2027-07-14/
LOCATION:St. John’s Episcopal Church\, 1419 Pine Street\, Boulder\, Colorado\, 80302\, United States
CATEGORIES:Charity,Free Meal,Secular
ATTACH;FMTTYPE=image/png:https://safeboulder.org/wp-content/uploads/2022/11/community-table-kitchen-bh.png
ORGANIZER;CN="Bridge House Community Table Kitchen":MAILTO:orders@communitytablekitchen.org
END:VEVENT
BEGIN:VEVENT
DTSTART;TZID=UTC:20270715T163000
DTEND;TZID=UTC:20270715T173000
DTSTAMP:20260420T004514
CREATED:20240917T034243Z
LAST-MODIFIED:20240917T034245Z
UID:10017639-1815669000-1815672600@safeboulder.org
SUMMARY:Sit Down Dinner
DESCRIPTION:Free sit down dinner (Bridge House Community Table Dinners) at St. John’s Episcopal 1419 Pine St
URL:https://safeboulder.org/event/sit-down-dinner-2/2027-07-15/
LOCATION:St. John’s Episcopal Church\, 1419 Pine Street\, Boulder\, Colorado\, 80302\, United States
END:VEVENT
BEGIN:VEVENT
DTSTART;TZID=UTC:20270720T163000
DTEND;TZID=UTC:20270720T173000
DTSTAMP:20260420T004514
CREATED:20240917T032628Z
LAST-MODIFIED:20240917T033122Z
UID:10016409-1816101000-1816104600@safeboulder.org
SUMMARY:“Grab & Go" dinner
DESCRIPTION:Sack Meal\, “Grab & Go” in the parking lot of St. John’s Episcopal\, 1419 Pine.
URL:https://safeboulder.org/event/grab-go-dinner-5/2027-07-20/
LOCATION:St. John’s Episcopal Church\, 1419 Pine Street\, Boulder\, Colorado\, 80302\, United States
CATEGORIES:Charity,Free Meal,Secular
ATTACH;FMTTYPE=image/png:https://safeboulder.org/wp-content/uploads/2022/11/community-table-kitchen-bh.png
ORGANIZER;CN="Bridge House Community Table Kitchen":MAILTO:orders@communitytablekitchen.org
END:VEVENT
BEGIN:VEVENT
DTSTART;TZID=UTC:20270721T163000
DTEND;TZID=UTC:20270721T173000
DTSTAMP:20260420T004514
CREATED:20240917T032628Z
LAST-MODIFIED:20240917T033122Z
UID:10016410-1816187400-1816191000@safeboulder.org
SUMMARY:“Grab & Go" dinner
DESCRIPTION:Sack Meal\, “Grab & Go” in the parking lot of St. John’s Episcopal\, 1419 Pine.
URL:https://safeboulder.org/event/grab-go-dinner-5/2027-07-21/
LOCATION:St. John’s Episcopal Church\, 1419 Pine Street\, Boulder\, Colorado\, 80302\, United States
CATEGORIES:Charity,Free Meal,Secular
ATTACH;FMTTYPE=image/png:https://safeboulder.org/wp-content/uploads/2022/11/community-table-kitchen-bh.png
ORGANIZER;CN="Bridge House Community Table Kitchen":MAILTO:orders@communitytablekitchen.org
END:VEVENT
BEGIN:VEVENT
DTSTART;TZID=UTC:20270722T163000
DTEND;TZID=UTC:20270722T173000
DTSTAMP:20260420T004514
CREATED:20240917T034243Z
LAST-MODIFIED:20240917T034245Z
UID:10017640-1816273800-1816277400@safeboulder.org
SUMMARY:Sit Down Dinner
DESCRIPTION:Free sit down dinner (Bridge House Community Table Dinners) at St. John’s Episcopal 1419 Pine St
URL:https://safeboulder.org/event/sit-down-dinner-2/2027-07-22/
LOCATION:St. John’s Episcopal Church\, 1419 Pine Street\, Boulder\, Colorado\, 80302\, United States
END:VEVENT
BEGIN:VEVENT
DTSTART;TZID=UTC:20270727T163000
DTEND;TZID=UTC:20270727T173000
DTSTAMP:20260420T004514
CREATED:20240917T032628Z
LAST-MODIFIED:20240917T033122Z
UID:10016414-1816705800-1816709400@safeboulder.org
SUMMARY:“Grab & Go" dinner
DESCRIPTION:Sack Meal\, “Grab & Go” in the parking lot of St. John’s Episcopal\, 1419 Pine.
URL:https://safeboulder.org/event/grab-go-dinner-5/2027-07-27/
LOCATION:St. John’s Episcopal Church\, 1419 Pine Street\, Boulder\, Colorado\, 80302\, United States
CATEGORIES:Charity,Free Meal,Secular
ATTACH;FMTTYPE=image/png:https://safeboulder.org/wp-content/uploads/2022/11/community-table-kitchen-bh.png
ORGANIZER;CN="Bridge House Community Table Kitchen":MAILTO:orders@communitytablekitchen.org
END:VEVENT
BEGIN:VEVENT
DTSTART;TZID=UTC:20270728T163000
DTEND;TZID=UTC:20270728T173000
DTSTAMP:20260420T004514
CREATED:20240917T032628Z
LAST-MODIFIED:20240917T033122Z
UID:10016415-1816792200-1816795800@safeboulder.org
SUMMARY:“Grab & Go" dinner
DESCRIPTION:Sack Meal\, “Grab & Go” in the parking lot of St. John’s Episcopal\, 1419 Pine.
URL:https://safeboulder.org/event/grab-go-dinner-5/2027-07-28/
LOCATION:St. John’s Episcopal Church\, 1419 Pine Street\, Boulder\, Colorado\, 80302\, United States
CATEGORIES:Charity,Free Meal,Secular
ATTACH;FMTTYPE=image/png:https://safeboulder.org/wp-content/uploads/2022/11/community-table-kitchen-bh.png
ORGANIZER;CN="Bridge House Community Table Kitchen":MAILTO:orders@communitytablekitchen.org
END:VEVENT
BEGIN:VEVENT
DTSTART;TZID=UTC:20270729T163000
DTEND;TZID=UTC:20270729T173000
DTSTAMP:20260420T004514
CREATED:20240917T034243Z
LAST-MODIFIED:20240917T034245Z
UID:10017641-1816878600-1816882200@safeboulder.org
SUMMARY:Sit Down Dinner
DESCRIPTION:Free sit down dinner (Bridge House Community Table Dinners) at St. John’s Episcopal 1419 Pine St
URL:https://safeboulder.org/event/sit-down-dinner-2/2027-07-29/
LOCATION:St. John’s Episcopal Church\, 1419 Pine Street\, Boulder\, Colorado\, 80302\, United States
END:VEVENT
BEGIN:VEVENT
DTSTART;TZID=UTC:20270801T120000
DTEND;TZID=UTC:20270801T130000
DTSTAMP:20260420T004514
CREATED:20221226T192642Z
LAST-MODIFIED:20250208T235723Z
UID:10021327-1817121600-1817125200@safeboulder.org
SUMMARY:St John’s Episcopal Lunch
DESCRIPTION:First Sunday of every month.
URL:https://safeboulder.org/event/st-johns-episcopal-lunch/2027-08-01/
LOCATION:St. John’s Episcopal Church\, 1419 Pine Street\, Boulder\, Colorado\, 80302\, United States
CATEGORIES:Charity,Free Meal,Religious
ATTACH;FMTTYPE=image/jpeg:https://safeboulder.org/wp-content/uploads/2022/12/stjohnslogoforwebsite-1.jpg
ORGANIZER;CN="St John&#8217%3Bs Episcopal Church":MAILTO:office@stjohnsboulder.org
END:VEVENT
BEGIN:VEVENT
DTSTART;TZID=UTC:20270803T163000
DTEND;TZID=UTC:20270803T173000
DTSTAMP:20260420T004514
CREATED:20240917T032628Z
LAST-MODIFIED:20240917T033122Z
UID:10016419-1817310600-1817314200@safeboulder.org
SUMMARY:“Grab & Go" dinner
DESCRIPTION:Sack Meal\, “Grab & Go” in the parking lot of St. John’s Episcopal\, 1419 Pine.
URL:https://safeboulder.org/event/grab-go-dinner-5/2027-08-03/
LOCATION:St. John’s Episcopal Church\, 1419 Pine Street\, Boulder\, Colorado\, 80302\, United States
CATEGORIES:Charity,Free Meal,Secular
ATTACH;FMTTYPE=image/png:https://safeboulder.org/wp-content/uploads/2022/11/community-table-kitchen-bh.png
ORGANIZER;CN="Bridge House Community Table Kitchen":MAILTO:orders@communitytablekitchen.org
END:VEVENT
BEGIN:VEVENT
DTSTART;TZID=UTC:20270804T163000
DTEND;TZID=UTC:20270804T173000
DTSTAMP:20260420T004514
CREATED:20240917T032628Z
LAST-MODIFIED:20240917T033122Z
UID:10016420-1817397000-1817400600@safeboulder.org
SUMMARY:“Grab & Go" dinner
DESCRIPTION:Sack Meal\, “Grab & Go” in the parking lot of St. John’s Episcopal\, 1419 Pine.
URL:https://safeboulder.org/event/grab-go-dinner-5/2027-08-04/
LOCATION:St. John’s Episcopal Church\, 1419 Pine Street\, Boulder\, Colorado\, 80302\, United States
CATEGORIES:Charity,Free Meal,Secular
ATTACH;FMTTYPE=image/png:https://safeboulder.org/wp-content/uploads/2022/11/community-table-kitchen-bh.png
ORGANIZER;CN="Bridge House Community Table Kitchen":MAILTO:orders@communitytablekitchen.org
END:VEVENT
BEGIN:VEVENT
DTSTART;TZID=UTC:20270805T163000
DTEND;TZID=UTC:20270805T173000
DTSTAMP:20260420T004514
CREATED:20240917T034243Z
LAST-MODIFIED:20240917T034245Z
UID:10017642-1817483400-1817487000@safeboulder.org
SUMMARY:Sit Down Dinner
DESCRIPTION:Free sit down dinner (Bridge House Community Table Dinners) at St. John’s Episcopal 1419 Pine St
URL:https://safeboulder.org/event/sit-down-dinner-2/2027-08-05/
LOCATION:St. John’s Episcopal Church\, 1419 Pine Street\, Boulder\, Colorado\, 80302\, United States
END:VEVENT
BEGIN:VEVENT
DTSTART;TZID=UTC:20270810T163000
DTEND;TZID=UTC:20270810T173000
DTSTAMP:20260420T004514
CREATED:20240917T032628Z
LAST-MODIFIED:20240917T033122Z
UID:10016424-1817915400-1817919000@safeboulder.org
SUMMARY:“Grab & Go" dinner
DESCRIPTION:Sack Meal\, “Grab & Go” in the parking lot of St. John’s Episcopal\, 1419 Pine.
URL:https://safeboulder.org/event/grab-go-dinner-5/2027-08-10/
LOCATION:St. John’s Episcopal Church\, 1419 Pine Street\, Boulder\, Colorado\, 80302\, United States
CATEGORIES:Charity,Free Meal,Secular
ATTACH;FMTTYPE=image/png:https://safeboulder.org/wp-content/uploads/2022/11/community-table-kitchen-bh.png
ORGANIZER;CN="Bridge House Community Table Kitchen":MAILTO:orders@communitytablekitchen.org
END:VEVENT
BEGIN:VEVENT
DTSTART;TZID=UTC:20270811T163000
DTEND;TZID=UTC:20270811T173000
DTSTAMP:20260420T004514
CREATED:20240917T032628Z
LAST-MODIFIED:20240917T033122Z
UID:10016425-1818001800-1818005400@safeboulder.org
SUMMARY:“Grab & Go" dinner
DESCRIPTION:Sack Meal\, “Grab & Go” in the parking lot of St. John’s Episcopal\, 1419 Pine.
URL:https://safeboulder.org/event/grab-go-dinner-5/2027-08-11/
LOCATION:St. John’s Episcopal Church\, 1419 Pine Street\, Boulder\, Colorado\, 80302\, United States
CATEGORIES:Charity,Free Meal,Secular
ATTACH;FMTTYPE=image/png:https://safeboulder.org/wp-content/uploads/2022/11/community-table-kitchen-bh.png
ORGANIZER;CN="Bridge House Community Table Kitchen":MAILTO:orders@communitytablekitchen.org
END:VEVENT
END:VCALENDAR