BEGIN:VCALENDAR
VERSION:2.0
PRODID:-//SAFE Boulder - ECPv6.15.20//NONSGML v1.0//EN
CALSCALE:GREGORIAN
METHOD:PUBLISH
X-WR-CALNAME:SAFE Boulder
X-ORIGINAL-URL:https://safeboulder.org
X-WR-CALDESC:Events for SAFE Boulder
REFRESH-INTERVAL;VALUE=DURATION:PT1H
X-Robots-Tag:noindex
X-PUBLISHED-TTL:PT1H
BEGIN:VTIMEZONE
TZID:UTC
BEGIN:STANDARD
TZOFFSETFROM:+0000
TZOFFSETTO:+0000
TZNAME:UTC
DTSTART:20220101T000000
END:STANDARD
END:VTIMEZONE
BEGIN:VEVENT
DTSTART;TZID=UTC:20230928T090000
DTEND;TZID=UTC:20230928T103000
DTSTAMP:20260422T154233
CREATED:20221226T211405Z
LAST-MODIFIED:20221226T234529Z
UID:10002696-1695891600-1695897000@safeboulder.org
SUMMARY:Deacon's Closet
DESCRIPTION:The Deacons’ Closet provides clothing and hygiene assistance to individuals and families in need. \n\n\n\nOur inventory includes: \n\n\n\n– Clothing– Personal care items \n\n\n\nLaundry services available before 9:30Or call 720-235-8520 to reserve in advance
URL:https://safeboulder.org/event/deacons-closet/2023-09-28/
LOCATION:Grace Commons Church Annex\, 1603 Walnut St\, Boulder\, Colorado\, 80302\, United States
CATEGORIES:Charity,Free Clothes,Free Hygiene Supplies,Laundry,Religious
ATTACH;FMTTYPE=image/png:https://safeboulder.org/wp-content/uploads/2022/12/grace-commons.png
ORGANIZER;CN="Grace Commons Church":MAILTO:questions@gracecommons.org
END:VEVENT
BEGIN:VEVENT
DTSTART;TZID=UTC:20230921T090000
DTEND;TZID=UTC:20230921T103000
DTSTAMP:20260422T154233
CREATED:20221226T211405Z
LAST-MODIFIED:20221226T234529Z
UID:10002695-1695286800-1695292200@safeboulder.org
SUMMARY:Deacon's Closet
DESCRIPTION:The Deacons’ Closet provides clothing and hygiene assistance to individuals and families in need. \n\n\n\nOur inventory includes: \n\n\n\n– Clothing– Personal care items \n\n\n\nLaundry services available before 9:30Or call 720-235-8520 to reserve in advance
URL:https://safeboulder.org/event/deacons-closet/2023-09-21/
LOCATION:Grace Commons Church Annex\, 1603 Walnut St\, Boulder\, Colorado\, 80302\, United States
CATEGORIES:Charity,Free Clothes,Free Hygiene Supplies,Laundry,Religious
ATTACH;FMTTYPE=image/png:https://safeboulder.org/wp-content/uploads/2022/12/grace-commons.png
ORGANIZER;CN="Grace Commons Church":MAILTO:questions@gracecommons.org
END:VEVENT
BEGIN:VEVENT
DTSTART;TZID=UTC:20230914T090000
DTEND;TZID=UTC:20230914T103000
DTSTAMP:20260422T154233
CREATED:20221226T211405Z
LAST-MODIFIED:20221226T234529Z
UID:10002694-1694682000-1694687400@safeboulder.org
SUMMARY:Deacon's Closet
DESCRIPTION:The Deacons’ Closet provides clothing and hygiene assistance to individuals and families in need. \n\n\n\nOur inventory includes: \n\n\n\n– Clothing– Personal care items \n\n\n\nLaundry services available before 9:30Or call 720-235-8520 to reserve in advance
URL:https://safeboulder.org/event/deacons-closet/2023-09-14/
LOCATION:Grace Commons Church Annex\, 1603 Walnut St\, Boulder\, Colorado\, 80302\, United States
CATEGORIES:Charity,Free Clothes,Free Hygiene Supplies,Laundry,Religious
ATTACH;FMTTYPE=image/png:https://safeboulder.org/wp-content/uploads/2022/12/grace-commons.png
ORGANIZER;CN="Grace Commons Church":MAILTO:questions@gracecommons.org
END:VEVENT
BEGIN:VEVENT
DTSTART;TZID=UTC:20230907T090000
DTEND;TZID=UTC:20230907T103000
DTSTAMP:20260422T154233
CREATED:20221226T211405Z
LAST-MODIFIED:20221226T234529Z
UID:10002693-1694077200-1694082600@safeboulder.org
SUMMARY:Deacon's Closet
DESCRIPTION:The Deacons’ Closet provides clothing and hygiene assistance to individuals and families in need. \n\n\n\nOur inventory includes: \n\n\n\n– Clothing– Personal care items \n\n\n\nLaundry services available before 9:30Or call 720-235-8520 to reserve in advance
URL:https://safeboulder.org/event/deacons-closet/2023-09-07/
LOCATION:Grace Commons Church Annex\, 1603 Walnut St\, Boulder\, Colorado\, 80302\, United States
CATEGORIES:Charity,Free Clothes,Free Hygiene Supplies,Laundry,Religious
ATTACH;FMTTYPE=image/png:https://safeboulder.org/wp-content/uploads/2022/12/grace-commons.png
ORGANIZER;CN="Grace Commons Church":MAILTO:questions@gracecommons.org
END:VEVENT
BEGIN:VEVENT
DTSTART;TZID=UTC:20230831T090000
DTEND;TZID=UTC:20230831T103000
DTSTAMP:20260422T154233
CREATED:20221226T211405Z
LAST-MODIFIED:20221226T234529Z
UID:10002692-1693472400-1693477800@safeboulder.org
SUMMARY:Deacon's Closet
DESCRIPTION:The Deacons’ Closet provides clothing and hygiene assistance to individuals and families in need. \n\n\n\nOur inventory includes: \n\n\n\n– Clothing– Personal care items \n\n\n\nLaundry services available before 9:30Or call 720-235-8520 to reserve in advance
URL:https://safeboulder.org/event/deacons-closet/2023-08-31/
LOCATION:Grace Commons Church Annex\, 1603 Walnut St\, Boulder\, Colorado\, 80302\, United States
CATEGORIES:Charity,Free Clothes,Free Hygiene Supplies,Laundry,Religious
ATTACH;FMTTYPE=image/png:https://safeboulder.org/wp-content/uploads/2022/12/grace-commons.png
ORGANIZER;CN="Grace Commons Church":MAILTO:questions@gracecommons.org
END:VEVENT
BEGIN:VEVENT
DTSTART;TZID=UTC:20230824T090000
DTEND;TZID=UTC:20230824T103000
DTSTAMP:20260422T154233
CREATED:20221226T211405Z
LAST-MODIFIED:20221226T234529Z
UID:10002691-1692867600-1692873000@safeboulder.org
SUMMARY:Deacon's Closet
DESCRIPTION:The Deacons’ Closet provides clothing and hygiene assistance to individuals and families in need. \n\n\n\nOur inventory includes: \n\n\n\n– Clothing– Personal care items \n\n\n\nLaundry services available before 9:30Or call 720-235-8520 to reserve in advance
URL:https://safeboulder.org/event/deacons-closet/2023-08-24/
LOCATION:Grace Commons Church Annex\, 1603 Walnut St\, Boulder\, Colorado\, 80302\, United States
CATEGORIES:Charity,Free Clothes,Free Hygiene Supplies,Laundry,Religious
ATTACH;FMTTYPE=image/png:https://safeboulder.org/wp-content/uploads/2022/12/grace-commons.png
ORGANIZER;CN="Grace Commons Church":MAILTO:questions@gracecommons.org
END:VEVENT
BEGIN:VEVENT
DTSTART;TZID=UTC:20230817T090000
DTEND;TZID=UTC:20230817T103000
DTSTAMP:20260422T154233
CREATED:20221226T211405Z
LAST-MODIFIED:20221226T234529Z
UID:10002690-1692262800-1692268200@safeboulder.org
SUMMARY:Deacon's Closet
DESCRIPTION:The Deacons’ Closet provides clothing and hygiene assistance to individuals and families in need. \n\n\n\nOur inventory includes: \n\n\n\n– Clothing– Personal care items \n\n\n\nLaundry services available before 9:30Or call 720-235-8520 to reserve in advance
URL:https://safeboulder.org/event/deacons-closet/2023-08-17/
LOCATION:Grace Commons Church Annex\, 1603 Walnut St\, Boulder\, Colorado\, 80302\, United States
CATEGORIES:Charity,Free Clothes,Free Hygiene Supplies,Laundry,Religious
ATTACH;FMTTYPE=image/png:https://safeboulder.org/wp-content/uploads/2022/12/grace-commons.png
ORGANIZER;CN="Grace Commons Church":MAILTO:questions@gracecommons.org
END:VEVENT
BEGIN:VEVENT
DTSTART;TZID=UTC:20230810T090000
DTEND;TZID=UTC:20230810T103000
DTSTAMP:20260422T154233
CREATED:20221226T211405Z
LAST-MODIFIED:20221226T234529Z
UID:10002689-1691658000-1691663400@safeboulder.org
SUMMARY:Deacon's Closet
DESCRIPTION:The Deacons’ Closet provides clothing and hygiene assistance to individuals and families in need. \n\n\n\nOur inventory includes: \n\n\n\n– Clothing– Personal care items \n\n\n\nLaundry services available before 9:30Or call 720-235-8520 to reserve in advance
URL:https://safeboulder.org/event/deacons-closet/2023-08-10/
LOCATION:Grace Commons Church Annex\, 1603 Walnut St\, Boulder\, Colorado\, 80302\, United States
CATEGORIES:Charity,Free Clothes,Free Hygiene Supplies,Laundry,Religious
ATTACH;FMTTYPE=image/png:https://safeboulder.org/wp-content/uploads/2022/12/grace-commons.png
ORGANIZER;CN="Grace Commons Church":MAILTO:questions@gracecommons.org
END:VEVENT
BEGIN:VEVENT
DTSTART;TZID=UTC:20230803T090000
DTEND;TZID=UTC:20230803T103000
DTSTAMP:20260422T154233
CREATED:20221226T211405Z
LAST-MODIFIED:20221226T234529Z
UID:10002688-1691053200-1691058600@safeboulder.org
SUMMARY:Deacon's Closet
DESCRIPTION:The Deacons’ Closet provides clothing and hygiene assistance to individuals and families in need. \n\n\n\nOur inventory includes: \n\n\n\n– Clothing– Personal care items \n\n\n\nLaundry services available before 9:30Or call 720-235-8520 to reserve in advance
URL:https://safeboulder.org/event/deacons-closet/2023-08-03/
LOCATION:Grace Commons Church Annex\, 1603 Walnut St\, Boulder\, Colorado\, 80302\, United States
CATEGORIES:Charity,Free Clothes,Free Hygiene Supplies,Laundry,Religious
ATTACH;FMTTYPE=image/png:https://safeboulder.org/wp-content/uploads/2022/12/grace-commons.png
ORGANIZER;CN="Grace Commons Church":MAILTO:questions@gracecommons.org
END:VEVENT
BEGIN:VEVENT
DTSTART;TZID=UTC:20230727T090000
DTEND;TZID=UTC:20230727T103000
DTSTAMP:20260422T154233
CREATED:20221226T211405Z
LAST-MODIFIED:20221226T234529Z
UID:10002687-1690448400-1690453800@safeboulder.org
SUMMARY:Deacon's Closet
DESCRIPTION:The Deacons’ Closet provides clothing and hygiene assistance to individuals and families in need. \n\n\n\nOur inventory includes: \n\n\n\n– Clothing– Personal care items \n\n\n\nLaundry services available before 9:30Or call 720-235-8520 to reserve in advance
URL:https://safeboulder.org/event/deacons-closet/2023-07-27/
LOCATION:Grace Commons Church Annex\, 1603 Walnut St\, Boulder\, Colorado\, 80302\, United States
CATEGORIES:Charity,Free Clothes,Free Hygiene Supplies,Laundry,Religious
ATTACH;FMTTYPE=image/png:https://safeboulder.org/wp-content/uploads/2022/12/grace-commons.png
ORGANIZER;CN="Grace Commons Church":MAILTO:questions@gracecommons.org
END:VEVENT
BEGIN:VEVENT
DTSTART;TZID=UTC:20230720T090000
DTEND;TZID=UTC:20230720T103000
DTSTAMP:20260422T154233
CREATED:20221226T211405Z
LAST-MODIFIED:20221226T234529Z
UID:10002686-1689843600-1689849000@safeboulder.org
SUMMARY:Deacon's Closet
DESCRIPTION:The Deacons’ Closet provides clothing and hygiene assistance to individuals and families in need. \n\n\n\nOur inventory includes: \n\n\n\n– Clothing– Personal care items \n\n\n\nLaundry services available before 9:30Or call 720-235-8520 to reserve in advance
URL:https://safeboulder.org/event/deacons-closet/2023-07-20/
LOCATION:Grace Commons Church Annex\, 1603 Walnut St\, Boulder\, Colorado\, 80302\, United States
CATEGORIES:Charity,Free Clothes,Free Hygiene Supplies,Laundry,Religious
ATTACH;FMTTYPE=image/png:https://safeboulder.org/wp-content/uploads/2022/12/grace-commons.png
ORGANIZER;CN="Grace Commons Church":MAILTO:questions@gracecommons.org
END:VEVENT
BEGIN:VEVENT
DTSTART;TZID=UTC:20230713T090000
DTEND;TZID=UTC:20230713T103000
DTSTAMP:20260422T154233
CREATED:20221226T211405Z
LAST-MODIFIED:20221226T234529Z
UID:10002685-1689238800-1689244200@safeboulder.org
SUMMARY:Deacon's Closet
DESCRIPTION:The Deacons’ Closet provides clothing and hygiene assistance to individuals and families in need. \n\n\n\nOur inventory includes: \n\n\n\n– Clothing– Personal care items \n\n\n\nLaundry services available before 9:30Or call 720-235-8520 to reserve in advance
URL:https://safeboulder.org/event/deacons-closet/2023-07-13/
LOCATION:Grace Commons Church Annex\, 1603 Walnut St\, Boulder\, Colorado\, 80302\, United States
CATEGORIES:Charity,Free Clothes,Free Hygiene Supplies,Laundry,Religious
ATTACH;FMTTYPE=image/png:https://safeboulder.org/wp-content/uploads/2022/12/grace-commons.png
ORGANIZER;CN="Grace Commons Church":MAILTO:questions@gracecommons.org
END:VEVENT
BEGIN:VEVENT
DTSTART;TZID=UTC:20230706T090000
DTEND;TZID=UTC:20230706T103000
DTSTAMP:20260422T154233
CREATED:20221226T211405Z
LAST-MODIFIED:20221226T234529Z
UID:10002684-1688634000-1688639400@safeboulder.org
SUMMARY:Deacon's Closet
DESCRIPTION:The Deacons’ Closet provides clothing and hygiene assistance to individuals and families in need. \n\n\n\nOur inventory includes: \n\n\n\n– Clothing– Personal care items \n\n\n\nLaundry services available before 9:30Or call 720-235-8520 to reserve in advance
URL:https://safeboulder.org/event/deacons-closet/2023-07-06/
LOCATION:Grace Commons Church Annex\, 1603 Walnut St\, Boulder\, Colorado\, 80302\, United States
CATEGORIES:Charity,Free Clothes,Free Hygiene Supplies,Laundry,Religious
ATTACH;FMTTYPE=image/png:https://safeboulder.org/wp-content/uploads/2022/12/grace-commons.png
ORGANIZER;CN="Grace Commons Church":MAILTO:questions@gracecommons.org
END:VEVENT
BEGIN:VEVENT
DTSTART;TZID=UTC:20230629T090000
DTEND;TZID=UTC:20230629T103000
DTSTAMP:20260422T154233
CREATED:20221226T211405Z
LAST-MODIFIED:20221226T234529Z
UID:10002683-1688029200-1688034600@safeboulder.org
SUMMARY:Deacon's Closet
DESCRIPTION:The Deacons’ Closet provides clothing and hygiene assistance to individuals and families in need. \n\n\n\nOur inventory includes: \n\n\n\n– Clothing– Personal care items \n\n\n\nLaundry services available before 9:30Or call 720-235-8520 to reserve in advance
URL:https://safeboulder.org/event/deacons-closet/2023-06-29/
LOCATION:Grace Commons Church Annex\, 1603 Walnut St\, Boulder\, Colorado\, 80302\, United States
CATEGORIES:Charity,Free Clothes,Free Hygiene Supplies,Laundry,Religious
ATTACH;FMTTYPE=image/png:https://safeboulder.org/wp-content/uploads/2022/12/grace-commons.png
ORGANIZER;CN="Grace Commons Church":MAILTO:questions@gracecommons.org
END:VEVENT
BEGIN:VEVENT
DTSTART;TZID=UTC:20230623T170000
DTEND;TZID=UTC:20230623T180000
DTSTAMP:20260422T154233
CREATED:20221104T222845Z
LAST-MODIFIED:20230707T021251Z
UID:10001333-1687539600-1687543200@safeboulder.org
SUMMARY:“Grab & Go" dinner
DESCRIPTION:Sack Meal\, “Grab & Go” in the parking lot of Grace Commons Annex\, 1603 Walnut.
URL:https://safeboulder.org/event/grab-go-dinner/2023-06-23/
LOCATION:Grace Commons Church Annex\, 1603 Walnut St\, Boulder\, Colorado\, 80302\, United States
CATEGORIES:Charity,Free Meal,Secular
ATTACH;FMTTYPE=image/png:https://safeboulder.org/wp-content/uploads/2022/11/community-table-kitchen-bh.png
ORGANIZER;CN="Bridge House Community Table Kitchen":MAILTO:orders@communitytablekitchen.org
END:VEVENT
BEGIN:VEVENT
DTSTART;TZID=UTC:20230622T170000
DTEND;TZID=UTC:20230622T180000
DTSTAMP:20260422T154233
CREATED:20221104T222845Z
LAST-MODIFIED:20230707T021251Z
UID:10001332-1687453200-1687456800@safeboulder.org
SUMMARY:“Grab & Go" dinner
DESCRIPTION:Sack Meal\, “Grab & Go” in the parking lot of Grace Commons Annex\, 1603 Walnut.
URL:https://safeboulder.org/event/grab-go-dinner/2023-06-22/
LOCATION:Grace Commons Church Annex\, 1603 Walnut St\, Boulder\, Colorado\, 80302\, United States
CATEGORIES:Charity,Free Meal,Secular
ATTACH;FMTTYPE=image/png:https://safeboulder.org/wp-content/uploads/2022/11/community-table-kitchen-bh.png
ORGANIZER;CN="Bridge House Community Table Kitchen":MAILTO:orders@communitytablekitchen.org
END:VEVENT
BEGIN:VEVENT
DTSTART;TZID=UTC:20230622T090000
DTEND;TZID=UTC:20230622T103000
DTSTAMP:20260422T154233
CREATED:20221226T211405Z
LAST-MODIFIED:20221226T234529Z
UID:10002682-1687424400-1687429800@safeboulder.org
SUMMARY:Deacon's Closet
DESCRIPTION:The Deacons’ Closet provides clothing and hygiene assistance to individuals and families in need. \n\n\n\nOur inventory includes: \n\n\n\n– Clothing– Personal care items \n\n\n\nLaundry services available before 9:30Or call 720-235-8520 to reserve in advance
URL:https://safeboulder.org/event/deacons-closet/2023-06-22/
LOCATION:Grace Commons Church Annex\, 1603 Walnut St\, Boulder\, Colorado\, 80302\, United States
CATEGORIES:Charity,Free Clothes,Free Hygiene Supplies,Laundry,Religious
ATTACH;FMTTYPE=image/png:https://safeboulder.org/wp-content/uploads/2022/12/grace-commons.png
ORGANIZER;CN="Grace Commons Church":MAILTO:questions@gracecommons.org
END:VEVENT
BEGIN:VEVENT
DTSTART;TZID=UTC:20230621T170000
DTEND;TZID=UTC:20230621T180000
DTSTAMP:20260422T154233
CREATED:20221104T222845Z
LAST-MODIFIED:20230707T021251Z
UID:10001331-1687366800-1687370400@safeboulder.org
SUMMARY:“Grab & Go" dinner
DESCRIPTION:Sack Meal\, “Grab & Go” in the parking lot of Grace Commons Annex\, 1603 Walnut.
URL:https://safeboulder.org/event/grab-go-dinner/2023-06-21/
LOCATION:Grace Commons Church Annex\, 1603 Walnut St\, Boulder\, Colorado\, 80302\, United States
CATEGORIES:Charity,Free Meal,Secular
ATTACH;FMTTYPE=image/png:https://safeboulder.org/wp-content/uploads/2022/11/community-table-kitchen-bh.png
ORGANIZER;CN="Bridge House Community Table Kitchen":MAILTO:orders@communitytablekitchen.org
END:VEVENT
BEGIN:VEVENT
DTSTART;TZID=UTC:20230620T170000
DTEND;TZID=UTC:20230620T180000
DTSTAMP:20260422T154233
CREATED:20221104T222845Z
LAST-MODIFIED:20230707T021251Z
UID:10001330-1687280400-1687284000@safeboulder.org
SUMMARY:“Grab & Go" dinner
DESCRIPTION:Sack Meal\, “Grab & Go” in the parking lot of Grace Commons Annex\, 1603 Walnut.
URL:https://safeboulder.org/event/grab-go-dinner/2023-06-20/
LOCATION:Grace Commons Church Annex\, 1603 Walnut St\, Boulder\, Colorado\, 80302\, United States
CATEGORIES:Charity,Free Meal,Secular
ATTACH;FMTTYPE=image/png:https://safeboulder.org/wp-content/uploads/2022/11/community-table-kitchen-bh.png
ORGANIZER;CN="Bridge House Community Table Kitchen":MAILTO:orders@communitytablekitchen.org
END:VEVENT
BEGIN:VEVENT
DTSTART;TZID=UTC:20230619T170000
DTEND;TZID=UTC:20230619T180000
DTSTAMP:20260422T154233
CREATED:20221104T222845Z
LAST-MODIFIED:20230707T021251Z
UID:10001329-1687194000-1687197600@safeboulder.org
SUMMARY:“Grab & Go" dinner
DESCRIPTION:Sack Meal\, “Grab & Go” in the parking lot of Grace Commons Annex\, 1603 Walnut.
URL:https://safeboulder.org/event/grab-go-dinner/2023-06-19/
LOCATION:Grace Commons Church Annex\, 1603 Walnut St\, Boulder\, Colorado\, 80302\, United States
CATEGORIES:Charity,Free Meal,Secular
ATTACH;FMTTYPE=image/png:https://safeboulder.org/wp-content/uploads/2022/11/community-table-kitchen-bh.png
ORGANIZER;CN="Bridge House Community Table Kitchen":MAILTO:orders@communitytablekitchen.org
END:VEVENT
BEGIN:VEVENT
DTSTART;TZID=UTC:20230616T170000
DTEND;TZID=UTC:20230616T180000
DTSTAMP:20260422T154233
CREATED:20221104T222845Z
LAST-MODIFIED:20230707T021251Z
UID:10001328-1686934800-1686938400@safeboulder.org
SUMMARY:“Grab & Go" dinner
DESCRIPTION:Sack Meal\, “Grab & Go” in the parking lot of Grace Commons Annex\, 1603 Walnut.
URL:https://safeboulder.org/event/grab-go-dinner/2023-06-16/
LOCATION:Grace Commons Church Annex\, 1603 Walnut St\, Boulder\, Colorado\, 80302\, United States
CATEGORIES:Charity,Free Meal,Secular
ATTACH;FMTTYPE=image/png:https://safeboulder.org/wp-content/uploads/2022/11/community-table-kitchen-bh.png
ORGANIZER;CN="Bridge House Community Table Kitchen":MAILTO:orders@communitytablekitchen.org
END:VEVENT
BEGIN:VEVENT
DTSTART;TZID=UTC:20230615T170000
DTEND;TZID=UTC:20230615T180000
DTSTAMP:20260422T154233
CREATED:20221104T222845Z
LAST-MODIFIED:20230707T021251Z
UID:10001327-1686848400-1686852000@safeboulder.org
SUMMARY:“Grab & Go" dinner
DESCRIPTION:Sack Meal\, “Grab & Go” in the parking lot of Grace Commons Annex\, 1603 Walnut.
URL:https://safeboulder.org/event/grab-go-dinner/2023-06-15/
LOCATION:Grace Commons Church Annex\, 1603 Walnut St\, Boulder\, Colorado\, 80302\, United States
CATEGORIES:Charity,Free Meal,Secular
ATTACH;FMTTYPE=image/png:https://safeboulder.org/wp-content/uploads/2022/11/community-table-kitchen-bh.png
ORGANIZER;CN="Bridge House Community Table Kitchen":MAILTO:orders@communitytablekitchen.org
END:VEVENT
BEGIN:VEVENT
DTSTART;TZID=UTC:20230615T090000
DTEND;TZID=UTC:20230615T103000
DTSTAMP:20260422T154233
CREATED:20221226T211405Z
LAST-MODIFIED:20221226T234529Z
UID:10002681-1686819600-1686825000@safeboulder.org
SUMMARY:Deacon's Closet
DESCRIPTION:The Deacons’ Closet provides clothing and hygiene assistance to individuals and families in need. \n\n\n\nOur inventory includes: \n\n\n\n– Clothing– Personal care items \n\n\n\nLaundry services available before 9:30Or call 720-235-8520 to reserve in advance
URL:https://safeboulder.org/event/deacons-closet/2023-06-15/
LOCATION:Grace Commons Church Annex\, 1603 Walnut St\, Boulder\, Colorado\, 80302\, United States
CATEGORIES:Charity,Free Clothes,Free Hygiene Supplies,Laundry,Religious
ATTACH;FMTTYPE=image/png:https://safeboulder.org/wp-content/uploads/2022/12/grace-commons.png
ORGANIZER;CN="Grace Commons Church":MAILTO:questions@gracecommons.org
END:VEVENT
BEGIN:VEVENT
DTSTART;TZID=UTC:20230614T170000
DTEND;TZID=UTC:20230614T180000
DTSTAMP:20260422T154233
CREATED:20221104T222845Z
LAST-MODIFIED:20230707T021251Z
UID:10001326-1686762000-1686765600@safeboulder.org
SUMMARY:“Grab & Go" dinner
DESCRIPTION:Sack Meal\, “Grab & Go” in the parking lot of Grace Commons Annex\, 1603 Walnut.
URL:https://safeboulder.org/event/grab-go-dinner/2023-06-14/
LOCATION:Grace Commons Church Annex\, 1603 Walnut St\, Boulder\, Colorado\, 80302\, United States
CATEGORIES:Charity,Free Meal,Secular
ATTACH;FMTTYPE=image/png:https://safeboulder.org/wp-content/uploads/2022/11/community-table-kitchen-bh.png
ORGANIZER;CN="Bridge House Community Table Kitchen":MAILTO:orders@communitytablekitchen.org
END:VEVENT
BEGIN:VEVENT
DTSTART;TZID=UTC:20230613T170000
DTEND;TZID=UTC:20230613T180000
DTSTAMP:20260422T154233
CREATED:20221104T222845Z
LAST-MODIFIED:20230707T021251Z
UID:10001325-1686675600-1686679200@safeboulder.org
SUMMARY:“Grab & Go" dinner
DESCRIPTION:Sack Meal\, “Grab & Go” in the parking lot of Grace Commons Annex\, 1603 Walnut.
URL:https://safeboulder.org/event/grab-go-dinner/2023-06-13/
LOCATION:Grace Commons Church Annex\, 1603 Walnut St\, Boulder\, Colorado\, 80302\, United States
CATEGORIES:Charity,Free Meal,Secular
ATTACH;FMTTYPE=image/png:https://safeboulder.org/wp-content/uploads/2022/11/community-table-kitchen-bh.png
ORGANIZER;CN="Bridge House Community Table Kitchen":MAILTO:orders@communitytablekitchen.org
END:VEVENT
BEGIN:VEVENT
DTSTART;TZID=UTC:20230612T170000
DTEND;TZID=UTC:20230612T180000
DTSTAMP:20260422T154233
CREATED:20221104T222845Z
LAST-MODIFIED:20230707T021251Z
UID:10001324-1686589200-1686592800@safeboulder.org
SUMMARY:“Grab & Go" dinner
DESCRIPTION:Sack Meal\, “Grab & Go” in the parking lot of Grace Commons Annex\, 1603 Walnut.
URL:https://safeboulder.org/event/grab-go-dinner/2023-06-12/
LOCATION:Grace Commons Church Annex\, 1603 Walnut St\, Boulder\, Colorado\, 80302\, United States
CATEGORIES:Charity,Free Meal,Secular
ATTACH;FMTTYPE=image/png:https://safeboulder.org/wp-content/uploads/2022/11/community-table-kitchen-bh.png
ORGANIZER;CN="Bridge House Community Table Kitchen":MAILTO:orders@communitytablekitchen.org
END:VEVENT
BEGIN:VEVENT
DTSTART;TZID=UTC:20230609T170000
DTEND;TZID=UTC:20230609T180000
DTSTAMP:20260422T154233
CREATED:20221104T222845Z
LAST-MODIFIED:20230707T021251Z
UID:10001323-1686330000-1686333600@safeboulder.org
SUMMARY:“Grab & Go" dinner
DESCRIPTION:Sack Meal\, “Grab & Go” in the parking lot of Grace Commons Annex\, 1603 Walnut.
URL:https://safeboulder.org/event/grab-go-dinner/2023-06-09/
LOCATION:Grace Commons Church Annex\, 1603 Walnut St\, Boulder\, Colorado\, 80302\, United States
CATEGORIES:Charity,Free Meal,Secular
ATTACH;FMTTYPE=image/png:https://safeboulder.org/wp-content/uploads/2022/11/community-table-kitchen-bh.png
ORGANIZER;CN="Bridge House Community Table Kitchen":MAILTO:orders@communitytablekitchen.org
END:VEVENT
BEGIN:VEVENT
DTSTART;TZID=UTC:20230608T170000
DTEND;TZID=UTC:20230608T180000
DTSTAMP:20260422T154233
CREATED:20221104T222845Z
LAST-MODIFIED:20230707T021251Z
UID:10001322-1686243600-1686247200@safeboulder.org
SUMMARY:“Grab & Go" dinner
DESCRIPTION:Sack Meal\, “Grab & Go” in the parking lot of Grace Commons Annex\, 1603 Walnut.
URL:https://safeboulder.org/event/grab-go-dinner/2023-06-08/
LOCATION:Grace Commons Church Annex\, 1603 Walnut St\, Boulder\, Colorado\, 80302\, United States
CATEGORIES:Charity,Free Meal,Secular
ATTACH;FMTTYPE=image/png:https://safeboulder.org/wp-content/uploads/2022/11/community-table-kitchen-bh.png
ORGANIZER;CN="Bridge House Community Table Kitchen":MAILTO:orders@communitytablekitchen.org
END:VEVENT
BEGIN:VEVENT
DTSTART;TZID=UTC:20230608T090000
DTEND;TZID=UTC:20230608T103000
DTSTAMP:20260422T154233
CREATED:20221226T211405Z
LAST-MODIFIED:20221226T234529Z
UID:10002680-1686214800-1686220200@safeboulder.org
SUMMARY:Deacon's Closet
DESCRIPTION:The Deacons’ Closet provides clothing and hygiene assistance to individuals and families in need. \n\n\n\nOur inventory includes: \n\n\n\n– Clothing– Personal care items \n\n\n\nLaundry services available before 9:30Or call 720-235-8520 to reserve in advance
URL:https://safeboulder.org/event/deacons-closet/2023-06-08/
LOCATION:Grace Commons Church Annex\, 1603 Walnut St\, Boulder\, Colorado\, 80302\, United States
CATEGORIES:Charity,Free Clothes,Free Hygiene Supplies,Laundry,Religious
ATTACH;FMTTYPE=image/png:https://safeboulder.org/wp-content/uploads/2022/12/grace-commons.png
ORGANIZER;CN="Grace Commons Church":MAILTO:questions@gracecommons.org
END:VEVENT
BEGIN:VEVENT
DTSTART;TZID=UTC:20230607T170000
DTEND;TZID=UTC:20230607T180000
DTSTAMP:20260422T154233
CREATED:20221104T222845Z
LAST-MODIFIED:20230707T021251Z
UID:10001321-1686157200-1686160800@safeboulder.org
SUMMARY:“Grab & Go" dinner
DESCRIPTION:Sack Meal\, “Grab & Go” in the parking lot of Grace Commons Annex\, 1603 Walnut.
URL:https://safeboulder.org/event/grab-go-dinner/2023-06-07/
LOCATION:Grace Commons Church Annex\, 1603 Walnut St\, Boulder\, Colorado\, 80302\, United States
CATEGORIES:Charity,Free Meal,Secular
ATTACH;FMTTYPE=image/png:https://safeboulder.org/wp-content/uploads/2022/11/community-table-kitchen-bh.png
ORGANIZER;CN="Bridge House Community Table Kitchen":MAILTO:orders@communitytablekitchen.org
END:VEVENT
END:VCALENDAR