BEGIN:VCALENDAR
VERSION:2.0
PRODID:-//SAFE Boulder - ECPv6.15.20//NONSGML v1.0//EN
CALSCALE:GREGORIAN
METHOD:PUBLISH
X-ORIGINAL-URL:https://safeboulder.org
X-WR-CALDESC:Events for SAFE Boulder
REFRESH-INTERVAL;VALUE=DURATION:PT1H
X-Robots-Tag:noindex
X-PUBLISHED-TTL:PT1H
BEGIN:VTIMEZONE
TZID:UTC
BEGIN:STANDARD
TZOFFSETFROM:+0000
TZOFFSETTO:+0000
TZNAME:UTC
DTSTART:20240101T000000
END:STANDARD
END:VTIMEZONE
BEGIN:VEVENT
DTSTART;TZID=UTC:20251128T163000
DTEND;TZID=UTC:20251128T173000
DTSTAMP:20260421T173421
CREATED:20240917T034459Z
LAST-MODIFIED:20240917T034500Z
UID:10017815-1764347400-1764351000@safeboulder.org
SUMMARY:Sit Down Dinner
DESCRIPTION:Free sit down dinner (Bridge House Community Table Dinners) at First Congregational 1128 Pine St\, Boulder
URL:https://safeboulder.org/event/sit-down-dinner-3/2025-11-28/
LOCATION:First Congregational Church\, 1128 Pine Street\, Boulder\, Colorado\, 80302\, United States
END:VEVENT
BEGIN:VEVENT
DTSTART;TZID=UTC:20251123T120000
DTEND;TZID=UTC:20251123T123000
DTSTAMP:20260421T173421
CREATED:20230705T015730Z
LAST-MODIFIED:20230706T211638Z
UID:10005991-1763899200-1763901000@safeboulder.org
SUMMARY:First Congregational Church Lunch
DESCRIPTION:Fourth Sunday of every month.
URL:https://safeboulder.org/event/first-congregational-church-lunch/2025-11-23/
LOCATION:First Congregational Church\, 1128 Pine Street\, Boulder\, Colorado\, 80302\, United States
CATEGORIES:Charity,Free Meal,Religious
ORGANIZER;CN="First Congregational Church":MAILTO:churchoffice@firstcong.net
END:VEVENT
BEGIN:VEVENT
DTSTART;TZID=UTC:20251121T163000
DTEND;TZID=UTC:20251121T173000
DTSTAMP:20260421T173421
CREATED:20240917T034459Z
LAST-MODIFIED:20240917T034500Z
UID:10017814-1763742600-1763746200@safeboulder.org
SUMMARY:Sit Down Dinner
DESCRIPTION:Free sit down dinner (Bridge House Community Table Dinners) at First Congregational 1128 Pine St\, Boulder
URL:https://safeboulder.org/event/sit-down-dinner-3/2025-11-21/
LOCATION:First Congregational Church\, 1128 Pine Street\, Boulder\, Colorado\, 80302\, United States
END:VEVENT
BEGIN:VEVENT
DTSTART;TZID=UTC:20251114T163000
DTEND;TZID=UTC:20251114T173000
DTSTAMP:20260421T173421
CREATED:20240917T034459Z
LAST-MODIFIED:20240917T034500Z
UID:10017813-1763137800-1763141400@safeboulder.org
SUMMARY:Sit Down Dinner
DESCRIPTION:Free sit down dinner (Bridge House Community Table Dinners) at First Congregational 1128 Pine St\, Boulder
URL:https://safeboulder.org/event/sit-down-dinner-3/2025-11-14/
LOCATION:First Congregational Church\, 1128 Pine Street\, Boulder\, Colorado\, 80302\, United States
END:VEVENT
BEGIN:VEVENT
DTSTART;TZID=UTC:20251107T163000
DTEND;TZID=UTC:20251107T173000
DTSTAMP:20260421T173421
CREATED:20240917T034459Z
LAST-MODIFIED:20240917T034500Z
UID:10017812-1762533000-1762536600@safeboulder.org
SUMMARY:Sit Down Dinner
DESCRIPTION:Free sit down dinner (Bridge House Community Table Dinners) at First Congregational 1128 Pine St\, Boulder
URL:https://safeboulder.org/event/sit-down-dinner-3/2025-11-07/
LOCATION:First Congregational Church\, 1128 Pine Street\, Boulder\, Colorado\, 80302\, United States
END:VEVENT
BEGIN:VEVENT
DTSTART;TZID=UTC:20251031T163000
DTEND;TZID=UTC:20251031T173000
DTSTAMP:20260421T173421
CREATED:20240917T034459Z
LAST-MODIFIED:20240917T034500Z
UID:10017811-1761928200-1761931800@safeboulder.org
SUMMARY:Sit Down Dinner
DESCRIPTION:Free sit down dinner (Bridge House Community Table Dinners) at First Congregational 1128 Pine St\, Boulder
URL:https://safeboulder.org/event/sit-down-dinner-3/2025-10-31/
LOCATION:First Congregational Church\, 1128 Pine Street\, Boulder\, Colorado\, 80302\, United States
END:VEVENT
BEGIN:VEVENT
DTSTART;TZID=UTC:20251026T120000
DTEND;TZID=UTC:20251026T123000
DTSTAMP:20260421T173421
CREATED:20230705T015730Z
LAST-MODIFIED:20230706T211638Z
UID:10005987-1761480000-1761481800@safeboulder.org
SUMMARY:First Congregational Church Lunch
DESCRIPTION:Fourth Sunday of every month.
URL:https://safeboulder.org/event/first-congregational-church-lunch/2025-10-26/
LOCATION:First Congregational Church\, 1128 Pine Street\, Boulder\, Colorado\, 80302\, United States
CATEGORIES:Charity,Free Meal,Religious
ORGANIZER;CN="First Congregational Church":MAILTO:churchoffice@firstcong.net
END:VEVENT
BEGIN:VEVENT
DTSTART;TZID=UTC:20251024T163000
DTEND;TZID=UTC:20251024T173000
DTSTAMP:20260421T173421
CREATED:20240917T034459Z
LAST-MODIFIED:20240917T034500Z
UID:10017810-1761323400-1761327000@safeboulder.org
SUMMARY:Sit Down Dinner
DESCRIPTION:Free sit down dinner (Bridge House Community Table Dinners) at First Congregational 1128 Pine St\, Boulder
URL:https://safeboulder.org/event/sit-down-dinner-3/2025-10-24/
LOCATION:First Congregational Church\, 1128 Pine Street\, Boulder\, Colorado\, 80302\, United States
END:VEVENT
BEGIN:VEVENT
DTSTART;TZID=UTC:20251017T163000
DTEND;TZID=UTC:20251017T173000
DTSTAMP:20260421T173421
CREATED:20240917T034459Z
LAST-MODIFIED:20240917T034500Z
UID:10017809-1760718600-1760722200@safeboulder.org
SUMMARY:Sit Down Dinner
DESCRIPTION:Free sit down dinner (Bridge House Community Table Dinners) at First Congregational 1128 Pine St\, Boulder
URL:https://safeboulder.org/event/sit-down-dinner-3/2025-10-17/
LOCATION:First Congregational Church\, 1128 Pine Street\, Boulder\, Colorado\, 80302\, United States
END:VEVENT
BEGIN:VEVENT
DTSTART;TZID=UTC:20251010T163000
DTEND;TZID=UTC:20251010T173000
DTSTAMP:20260421T173421
CREATED:20240917T034459Z
LAST-MODIFIED:20240917T034500Z
UID:10017808-1760113800-1760117400@safeboulder.org
SUMMARY:Sit Down Dinner
DESCRIPTION:Free sit down dinner (Bridge House Community Table Dinners) at First Congregational 1128 Pine St\, Boulder
URL:https://safeboulder.org/event/sit-down-dinner-3/2025-10-10/
LOCATION:First Congregational Church\, 1128 Pine Street\, Boulder\, Colorado\, 80302\, United States
END:VEVENT
BEGIN:VEVENT
DTSTART;TZID=UTC:20251003T163000
DTEND;TZID=UTC:20251003T173000
DTSTAMP:20260421T173421
CREATED:20240917T034459Z
LAST-MODIFIED:20240917T034500Z
UID:10017807-1759509000-1759512600@safeboulder.org
SUMMARY:Sit Down Dinner
DESCRIPTION:Free sit down dinner (Bridge House Community Table Dinners) at First Congregational 1128 Pine St\, Boulder
URL:https://safeboulder.org/event/sit-down-dinner-3/2025-10-03/
LOCATION:First Congregational Church\, 1128 Pine Street\, Boulder\, Colorado\, 80302\, United States
END:VEVENT
BEGIN:VEVENT
DTSTART;TZID=UTC:20250928T120000
DTEND;TZID=UTC:20250928T123000
DTSTAMP:20260421T173421
CREATED:20230705T015730Z
LAST-MODIFIED:20230706T211638Z
UID:10005983-1759060800-1759062600@safeboulder.org
SUMMARY:First Congregational Church Lunch
DESCRIPTION:Fourth Sunday of every month.
URL:https://safeboulder.org/event/first-congregational-church-lunch/2025-09-28/
LOCATION:First Congregational Church\, 1128 Pine Street\, Boulder\, Colorado\, 80302\, United States
CATEGORIES:Charity,Free Meal,Religious
ORGANIZER;CN="First Congregational Church":MAILTO:churchoffice@firstcong.net
END:VEVENT
BEGIN:VEVENT
DTSTART;TZID=UTC:20250926T163000
DTEND;TZID=UTC:20250926T173000
DTSTAMP:20260421T173421
CREATED:20240917T034459Z
LAST-MODIFIED:20240917T034500Z
UID:10017806-1758904200-1758907800@safeboulder.org
SUMMARY:Sit Down Dinner
DESCRIPTION:Free sit down dinner (Bridge House Community Table Dinners) at First Congregational 1128 Pine St\, Boulder
URL:https://safeboulder.org/event/sit-down-dinner-3/2025-09-26/
LOCATION:First Congregational Church\, 1128 Pine Street\, Boulder\, Colorado\, 80302\, United States
END:VEVENT
BEGIN:VEVENT
DTSTART;TZID=UTC:20250919T163000
DTEND;TZID=UTC:20250919T173000
DTSTAMP:20260421T173421
CREATED:20240917T034459Z
LAST-MODIFIED:20240917T034500Z
UID:10017805-1758299400-1758303000@safeboulder.org
SUMMARY:Sit Down Dinner
DESCRIPTION:Free sit down dinner (Bridge House Community Table Dinners) at First Congregational 1128 Pine St\, Boulder
URL:https://safeboulder.org/event/sit-down-dinner-3/2025-09-19/
LOCATION:First Congregational Church\, 1128 Pine Street\, Boulder\, Colorado\, 80302\, United States
END:VEVENT
BEGIN:VEVENT
DTSTART;TZID=UTC:20250912T163000
DTEND;TZID=UTC:20250912T173000
DTSTAMP:20260421T173421
CREATED:20240917T034459Z
LAST-MODIFIED:20240917T034500Z
UID:10017804-1757694600-1757698200@safeboulder.org
SUMMARY:Sit Down Dinner
DESCRIPTION:Free sit down dinner (Bridge House Community Table Dinners) at First Congregational 1128 Pine St\, Boulder
URL:https://safeboulder.org/event/sit-down-dinner-3/2025-09-12/
LOCATION:First Congregational Church\, 1128 Pine Street\, Boulder\, Colorado\, 80302\, United States
END:VEVENT
BEGIN:VEVENT
DTSTART;TZID=UTC:20250905T163000
DTEND;TZID=UTC:20250905T173000
DTSTAMP:20260421T173421
CREATED:20240917T034459Z
LAST-MODIFIED:20240917T034500Z
UID:10017803-1757089800-1757093400@safeboulder.org
SUMMARY:Sit Down Dinner
DESCRIPTION:Free sit down dinner (Bridge House Community Table Dinners) at First Congregational 1128 Pine St\, Boulder
URL:https://safeboulder.org/event/sit-down-dinner-3/2025-09-05/
LOCATION:First Congregational Church\, 1128 Pine Street\, Boulder\, Colorado\, 80302\, United States
END:VEVENT
BEGIN:VEVENT
DTSTART;TZID=UTC:20250829T163000
DTEND;TZID=UTC:20250829T173000
DTSTAMP:20260421T173421
CREATED:20240917T034459Z
LAST-MODIFIED:20240917T034500Z
UID:10017802-1756485000-1756488600@safeboulder.org
SUMMARY:Sit Down Dinner
DESCRIPTION:Free sit down dinner (Bridge House Community Table Dinners) at First Congregational 1128 Pine St\, Boulder
URL:https://safeboulder.org/event/sit-down-dinner-3/2025-08-29/
LOCATION:First Congregational Church\, 1128 Pine Street\, Boulder\, Colorado\, 80302\, United States
END:VEVENT
BEGIN:VEVENT
DTSTART;TZID=UTC:20250824T120000
DTEND;TZID=UTC:20250824T123000
DTSTAMP:20260421T173421
CREATED:20230705T015730Z
LAST-MODIFIED:20230706T211638Z
UID:10005978-1756036800-1756038600@safeboulder.org
SUMMARY:First Congregational Church Lunch
DESCRIPTION:Fourth Sunday of every month.
URL:https://safeboulder.org/event/first-congregational-church-lunch/2025-08-24/
LOCATION:First Congregational Church\, 1128 Pine Street\, Boulder\, Colorado\, 80302\, United States
CATEGORIES:Charity,Free Meal,Religious
ORGANIZER;CN="First Congregational Church":MAILTO:churchoffice@firstcong.net
END:VEVENT
BEGIN:VEVENT
DTSTART;TZID=UTC:20250822T163000
DTEND;TZID=UTC:20250822T173000
DTSTAMP:20260421T173421
CREATED:20240917T034459Z
LAST-MODIFIED:20240917T034500Z
UID:10017801-1755880200-1755883800@safeboulder.org
SUMMARY:Sit Down Dinner
DESCRIPTION:Free sit down dinner (Bridge House Community Table Dinners) at First Congregational 1128 Pine St\, Boulder
URL:https://safeboulder.org/event/sit-down-dinner-3/2025-08-22/
LOCATION:First Congregational Church\, 1128 Pine Street\, Boulder\, Colorado\, 80302\, United States
END:VEVENT
BEGIN:VEVENT
DTSTART;TZID=UTC:20250815T163000
DTEND;TZID=UTC:20250815T173000
DTSTAMP:20260421T173421
CREATED:20240917T034459Z
LAST-MODIFIED:20240917T034500Z
UID:10017800-1755275400-1755279000@safeboulder.org
SUMMARY:Sit Down Dinner
DESCRIPTION:Free sit down dinner (Bridge House Community Table Dinners) at First Congregational 1128 Pine St\, Boulder
URL:https://safeboulder.org/event/sit-down-dinner-3/2025-08-15/
LOCATION:First Congregational Church\, 1128 Pine Street\, Boulder\, Colorado\, 80302\, United States
END:VEVENT
BEGIN:VEVENT
DTSTART;TZID=UTC:20250808T163000
DTEND;TZID=UTC:20250808T173000
DTSTAMP:20260421T173421
CREATED:20240917T034459Z
LAST-MODIFIED:20240917T034500Z
UID:10017799-1754670600-1754674200@safeboulder.org
SUMMARY:Sit Down Dinner
DESCRIPTION:Free sit down dinner (Bridge House Community Table Dinners) at First Congregational 1128 Pine St\, Boulder
URL:https://safeboulder.org/event/sit-down-dinner-3/2025-08-08/
LOCATION:First Congregational Church\, 1128 Pine Street\, Boulder\, Colorado\, 80302\, United States
END:VEVENT
BEGIN:VEVENT
DTSTART;TZID=UTC:20250801T163000
DTEND;TZID=UTC:20250801T173000
DTSTAMP:20260421T173421
CREATED:20240917T034459Z
LAST-MODIFIED:20240917T034500Z
UID:10017798-1754065800-1754069400@safeboulder.org
SUMMARY:Sit Down Dinner
DESCRIPTION:Free sit down dinner (Bridge House Community Table Dinners) at First Congregational 1128 Pine St\, Boulder
URL:https://safeboulder.org/event/sit-down-dinner-3/2025-08-01/
LOCATION:First Congregational Church\, 1128 Pine Street\, Boulder\, Colorado\, 80302\, United States
END:VEVENT
BEGIN:VEVENT
DTSTART;TZID=UTC:20250727T120000
DTEND;TZID=UTC:20250727T123000
DTSTAMP:20260421T173421
CREATED:20230705T015730Z
LAST-MODIFIED:20230706T211638Z
UID:10005974-1753617600-1753619400@safeboulder.org
SUMMARY:First Congregational Church Lunch
DESCRIPTION:Fourth Sunday of every month.
URL:https://safeboulder.org/event/first-congregational-church-lunch/2025-07-27/
LOCATION:First Congregational Church\, 1128 Pine Street\, Boulder\, Colorado\, 80302\, United States
CATEGORIES:Charity,Free Meal,Religious
ORGANIZER;CN="First Congregational Church":MAILTO:churchoffice@firstcong.net
END:VEVENT
BEGIN:VEVENT
DTSTART;TZID=UTC:20250725T163000
DTEND;TZID=UTC:20250725T173000
DTSTAMP:20260421T173421
CREATED:20240917T034459Z
LAST-MODIFIED:20240917T034500Z
UID:10017797-1753461000-1753464600@safeboulder.org
SUMMARY:Sit Down Dinner
DESCRIPTION:Free sit down dinner (Bridge House Community Table Dinners) at First Congregational 1128 Pine St\, Boulder
URL:https://safeboulder.org/event/sit-down-dinner-3/2025-07-25/
LOCATION:First Congregational Church\, 1128 Pine Street\, Boulder\, Colorado\, 80302\, United States
END:VEVENT
BEGIN:VEVENT
DTSTART;TZID=UTC:20250718T163000
DTEND;TZID=UTC:20250718T173000
DTSTAMP:20260421T173421
CREATED:20240917T034459Z
LAST-MODIFIED:20240917T034500Z
UID:10017796-1752856200-1752859800@safeboulder.org
SUMMARY:Sit Down Dinner
DESCRIPTION:Free sit down dinner (Bridge House Community Table Dinners) at First Congregational 1128 Pine St\, Boulder
URL:https://safeboulder.org/event/sit-down-dinner-3/2025-07-18/
LOCATION:First Congregational Church\, 1128 Pine Street\, Boulder\, Colorado\, 80302\, United States
END:VEVENT
BEGIN:VEVENT
DTSTART;TZID=UTC:20250711T163000
DTEND;TZID=UTC:20250711T173000
DTSTAMP:20260421T173421
CREATED:20240917T034459Z
LAST-MODIFIED:20240917T034500Z
UID:10017795-1752251400-1752255000@safeboulder.org
SUMMARY:Sit Down Dinner
DESCRIPTION:Free sit down dinner (Bridge House Community Table Dinners) at First Congregational 1128 Pine St\, Boulder
URL:https://safeboulder.org/event/sit-down-dinner-3/2025-07-11/
LOCATION:First Congregational Church\, 1128 Pine Street\, Boulder\, Colorado\, 80302\, United States
END:VEVENT
BEGIN:VEVENT
DTSTART;TZID=UTC:20250704T163000
DTEND;TZID=UTC:20250704T173000
DTSTAMP:20260421T173421
CREATED:20240917T034459Z
LAST-MODIFIED:20240917T034500Z
UID:10017794-1751646600-1751650200@safeboulder.org
SUMMARY:Sit Down Dinner
DESCRIPTION:Free sit down dinner (Bridge House Community Table Dinners) at First Congregational 1128 Pine St\, Boulder
URL:https://safeboulder.org/event/sit-down-dinner-3/2025-07-04/
LOCATION:First Congregational Church\, 1128 Pine Street\, Boulder\, Colorado\, 80302\, United States
END:VEVENT
BEGIN:VEVENT
DTSTART;TZID=UTC:20250627T163000
DTEND;TZID=UTC:20250627T173000
DTSTAMP:20260421T173421
CREATED:20240917T034459Z
LAST-MODIFIED:20240917T034500Z
UID:10017793-1751041800-1751045400@safeboulder.org
SUMMARY:Sit Down Dinner
DESCRIPTION:Free sit down dinner (Bridge House Community Table Dinners) at First Congregational 1128 Pine St\, Boulder
URL:https://safeboulder.org/event/sit-down-dinner-3/2025-06-27/
LOCATION:First Congregational Church\, 1128 Pine Street\, Boulder\, Colorado\, 80302\, United States
END:VEVENT
BEGIN:VEVENT
DTSTART;TZID=UTC:20250622T120000
DTEND;TZID=UTC:20250622T123000
DTSTAMP:20260421T173421
CREATED:20230705T015730Z
LAST-MODIFIED:20230706T211638Z
UID:10005969-1750593600-1750595400@safeboulder.org
SUMMARY:First Congregational Church Lunch
DESCRIPTION:Fourth Sunday of every month.
URL:https://safeboulder.org/event/first-congregational-church-lunch/2025-06-22/
LOCATION:First Congregational Church\, 1128 Pine Street\, Boulder\, Colorado\, 80302\, United States
CATEGORIES:Charity,Free Meal,Religious
ORGANIZER;CN="First Congregational Church":MAILTO:churchoffice@firstcong.net
END:VEVENT
BEGIN:VEVENT
DTSTART;TZID=UTC:20250620T163000
DTEND;TZID=UTC:20250620T173000
DTSTAMP:20260421T173421
CREATED:20240917T034459Z
LAST-MODIFIED:20240917T034500Z
UID:10017792-1750437000-1750440600@safeboulder.org
SUMMARY:Sit Down Dinner
DESCRIPTION:Free sit down dinner (Bridge House Community Table Dinners) at First Congregational 1128 Pine St\, Boulder
URL:https://safeboulder.org/event/sit-down-dinner-3/2025-06-20/
LOCATION:First Congregational Church\, 1128 Pine Street\, Boulder\, Colorado\, 80302\, United States
END:VEVENT
END:VCALENDAR