BEGIN:VCALENDAR
VERSION:2.0
PRODID:-//SAFE Boulder - ECPv6.15.20//NONSGML v1.0//EN
CALSCALE:GREGORIAN
METHOD:PUBLISH
X-WR-CALNAME:SAFE Boulder
X-ORIGINAL-URL:https://safeboulder.org
X-WR-CALDESC:Events for SAFE Boulder
REFRESH-INTERVAL;VALUE=DURATION:PT1H
X-Robots-Tag:noindex
X-PUBLISHED-TTL:PT1H
BEGIN:VTIMEZONE
TZID:UTC
BEGIN:STANDARD
TZOFFSETFROM:+0000
TZOFFSETTO:+0000
TZNAME:UTC
DTSTART:20250101T000000
END:STANDARD
END:VTIMEZONE
BEGIN:VEVENT
DTSTART;TZID=UTC:20260401T121500
DTEND;TZID=UTC:20260401T133000
DTSTAMP:20260423T095444
CREATED:20230704T220138Z
LAST-MODIFIED:20250515T004139Z
UID:10021761-1775045700-1775050200@safeboulder.org
SUMMARY:Hot Soups\, Sandwiches\, & Desserts
DESCRIPTION:Boulder Bandshell & along Boulder Creek \n\n\n\nWe deliver the food to the Boulder Bandshell and adjourning park just south of Canyon Boulevard and West of 13th Street. We also distribute hard-boiled eggs\, fruit\, bottled water\, hand warmers\, hand wipes\, toiletries\, hand sanitizers\, gloves\, socks and hats.
URL:https://safeboulder.org/event/hot-soups-sandwiches-desserts-2/2026-04-01/
LOCATION:Boulder Bandshell\, 1212 Canyon Blvd\, Boulder\, Colorado\, 80302\, United States
CATEGORIES:Charity,Free Meal,Secular
ATTACH;FMTTYPE=image/jpeg:https://safeboulder.org/wp-content/uploads/2022/11/image08.jpg
ORGANIZER;CN="Circle of Love":MAILTO:circleoflove80026@gmail.com
END:VEVENT
BEGIN:VEVENT
DTSTART;TZID=UTC:20260401T100000
DTEND;TZID=UTC:20260401T110000
DTSTAMP:20260423T095444
CREATED:20231104T045701Z
LAST-MODIFIED:20231104T045704Z
UID:10004701-1775037600-1775041200@safeboulder.org
SUMMARY:Breakfast in the park
DESCRIPTION:Breakfast in the park near the Bandshell. \n\n\n\nShowers are not being offered at this time
URL:https://safeboulder.org/event/breakfast-in-the-park-showers/2026-04-01/
LOCATION:Boulder Bandshell\, 1212 Canyon Blvd\, Boulder\, Colorado\, 80302\, United States
CATEGORIES:Charity,Free Meal,Secular,Shower
ORGANIZER;CN="Homeless Cares":MAILTO:support@thenopi.org
END:VEVENT
BEGIN:VEVENT
DTSTART;TZID=UTC:20260330T121500
DTEND;TZID=UTC:20260330T133000
DTSTAMP:20260423T095444
CREATED:20230704T220138Z
LAST-MODIFIED:20250515T004139Z
UID:10018107-1774872900-1774877400@safeboulder.org
SUMMARY:Hot Soups\, Sandwiches\, & Desserts
DESCRIPTION:Boulder Bandshell & along Boulder Creek \n\n\n\nWe deliver the food to the Boulder Bandshell and adjourning park just south of Canyon Boulevard and West of 13th Street. We also distribute hard-boiled eggs\, fruit\, bottled water\, hand warmers\, hand wipes\, toiletries\, hand sanitizers\, gloves\, socks and hats.
URL:https://safeboulder.org/event/hot-soups-sandwiches-desserts-2/2026-03-30/
LOCATION:Boulder Bandshell\, 1212 Canyon Blvd\, Boulder\, Colorado\, 80302\, United States
CATEGORIES:Charity,Free Meal,Secular
ATTACH;FMTTYPE=image/jpeg:https://safeboulder.org/wp-content/uploads/2022/11/image08.jpg
ORGANIZER;CN="Circle of Love":MAILTO:circleoflove80026@gmail.com
END:VEVENT
BEGIN:VEVENT
DTSTART;TZID=UTC:20260328T160000
DTEND;TZID=UTC:20260328T170000
DTSTAMP:20260423T095444
CREATED:20250412T043742Z
LAST-MODIFIED:20250412T043744Z
UID:10021407-1774713600-1774717200@safeboulder.org
SUMMARY:Dinner in the Park
DESCRIPTION:Transforming food waste into free\, hot meals served on Saturdays with Journey Church \n\n\n\nMeets at 13th and Canyon near the Bandshell in good weather. \n\n\n\nIn bad weather\, meals are served under the Library\, where the little skatepark is. \n\n\n\nWhat to expect:\n\n\n\nAlways\n\n\n\n\nHot meals*\n\n\n\n\n*This Food Not Bombs chapter serves meat as well as vegetarian dishes.
URL:https://safeboulder.org/event/dinner-in-the-park-2/2026-03-28/
LOCATION:Boulder Bandshell\, 1212 Canyon Blvd\, Boulder\, Colorado\, 80302\, United States
CATEGORIES:Free Meal,Mutual Aid,Secular
ATTACH;FMTTYPE=image/png:https://safeboulder.org/wp-content/uploads/2022/10/FNB_logo_color_small-copy.png
ORGANIZER;CN="Food Not Bombs - Boulder":MAILTO:foodnotbombsboco@gmail.com
END:VEVENT
BEGIN:VEVENT
DTSTART;TZID=UTC:20260325T121500
DTEND;TZID=UTC:20260325T133000
DTSTAMP:20260423T095444
CREATED:20230704T220138Z
LAST-MODIFIED:20250515T004139Z
UID:10021760-1774440900-1774445400@safeboulder.org
SUMMARY:Hot Soups\, Sandwiches\, & Desserts
DESCRIPTION:Boulder Bandshell & along Boulder Creek \n\n\n\nWe deliver the food to the Boulder Bandshell and adjourning park just south of Canyon Boulevard and West of 13th Street. We also distribute hard-boiled eggs\, fruit\, bottled water\, hand warmers\, hand wipes\, toiletries\, hand sanitizers\, gloves\, socks and hats.
URL:https://safeboulder.org/event/hot-soups-sandwiches-desserts-2/2026-03-25/
LOCATION:Boulder Bandshell\, 1212 Canyon Blvd\, Boulder\, Colorado\, 80302\, United States
CATEGORIES:Charity,Free Meal,Secular
ATTACH;FMTTYPE=image/jpeg:https://safeboulder.org/wp-content/uploads/2022/11/image08.jpg
ORGANIZER;CN="Circle of Love":MAILTO:circleoflove80026@gmail.com
END:VEVENT
BEGIN:VEVENT
DTSTART;TZID=UTC:20260325T100000
DTEND;TZID=UTC:20260325T110000
DTSTAMP:20260423T095444
CREATED:20231104T045701Z
LAST-MODIFIED:20231104T045704Z
UID:10004700-1774432800-1774436400@safeboulder.org
SUMMARY:Breakfast in the park
DESCRIPTION:Breakfast in the park near the Bandshell. \n\n\n\nShowers are not being offered at this time
URL:https://safeboulder.org/event/breakfast-in-the-park-showers/2026-03-25/
LOCATION:Boulder Bandshell\, 1212 Canyon Blvd\, Boulder\, Colorado\, 80302\, United States
CATEGORIES:Charity,Free Meal,Secular,Shower
ORGANIZER;CN="Homeless Cares":MAILTO:support@thenopi.org
END:VEVENT
BEGIN:VEVENT
DTSTART;TZID=UTC:20260323T121500
DTEND;TZID=UTC:20260323T133000
DTSTAMP:20260423T095444
CREATED:20230704T220138Z
LAST-MODIFIED:20250515T004139Z
UID:10018106-1774268100-1774272600@safeboulder.org
SUMMARY:Hot Soups\, Sandwiches\, & Desserts
DESCRIPTION:Boulder Bandshell & along Boulder Creek \n\n\n\nWe deliver the food to the Boulder Bandshell and adjourning park just south of Canyon Boulevard and West of 13th Street. We also distribute hard-boiled eggs\, fruit\, bottled water\, hand warmers\, hand wipes\, toiletries\, hand sanitizers\, gloves\, socks and hats.
URL:https://safeboulder.org/event/hot-soups-sandwiches-desserts-2/2026-03-23/
LOCATION:Boulder Bandshell\, 1212 Canyon Blvd\, Boulder\, Colorado\, 80302\, United States
CATEGORIES:Charity,Free Meal,Secular
ATTACH;FMTTYPE=image/jpeg:https://safeboulder.org/wp-content/uploads/2022/11/image08.jpg
ORGANIZER;CN="Circle of Love":MAILTO:circleoflove80026@gmail.com
END:VEVENT
BEGIN:VEVENT
DTSTART;TZID=UTC:20260321T160000
DTEND;TZID=UTC:20260321T170000
DTSTAMP:20260423T095444
CREATED:20250412T043742Z
LAST-MODIFIED:20250412T043744Z
UID:10021406-1774108800-1774112400@safeboulder.org
SUMMARY:Dinner in the Park
DESCRIPTION:Transforming food waste into free\, hot meals served on Saturdays with Journey Church \n\n\n\nMeets at 13th and Canyon near the Bandshell in good weather. \n\n\n\nIn bad weather\, meals are served under the Library\, where the little skatepark is. \n\n\n\nWhat to expect:\n\n\n\nAlways\n\n\n\n\nHot meals*\n\n\n\n\n*This Food Not Bombs chapter serves meat as well as vegetarian dishes.
URL:https://safeboulder.org/event/dinner-in-the-park-2/2026-03-21/
LOCATION:Boulder Bandshell\, 1212 Canyon Blvd\, Boulder\, Colorado\, 80302\, United States
CATEGORIES:Free Meal,Mutual Aid,Secular
ATTACH;FMTTYPE=image/png:https://safeboulder.org/wp-content/uploads/2022/10/FNB_logo_color_small-copy.png
ORGANIZER;CN="Food Not Bombs - Boulder":MAILTO:foodnotbombsboco@gmail.com
END:VEVENT
BEGIN:VEVENT
DTSTART;TZID=UTC:20260318T121500
DTEND;TZID=UTC:20260318T133000
DTSTAMP:20260423T095444
CREATED:20230704T220138Z
LAST-MODIFIED:20250515T004139Z
UID:10021759-1773836100-1773840600@safeboulder.org
SUMMARY:Hot Soups\, Sandwiches\, & Desserts
DESCRIPTION:Boulder Bandshell & along Boulder Creek \n\n\n\nWe deliver the food to the Boulder Bandshell and adjourning park just south of Canyon Boulevard and West of 13th Street. We also distribute hard-boiled eggs\, fruit\, bottled water\, hand warmers\, hand wipes\, toiletries\, hand sanitizers\, gloves\, socks and hats.
URL:https://safeboulder.org/event/hot-soups-sandwiches-desserts-2/2026-03-18/
LOCATION:Boulder Bandshell\, 1212 Canyon Blvd\, Boulder\, Colorado\, 80302\, United States
CATEGORIES:Charity,Free Meal,Secular
ATTACH;FMTTYPE=image/jpeg:https://safeboulder.org/wp-content/uploads/2022/11/image08.jpg
ORGANIZER;CN="Circle of Love":MAILTO:circleoflove80026@gmail.com
END:VEVENT
BEGIN:VEVENT
DTSTART;TZID=UTC:20260318T100000
DTEND;TZID=UTC:20260318T110000
DTSTAMP:20260423T095444
CREATED:20231104T045701Z
LAST-MODIFIED:20231104T045704Z
UID:10004699-1773828000-1773831600@safeboulder.org
SUMMARY:Breakfast in the park
DESCRIPTION:Breakfast in the park near the Bandshell. \n\n\n\nShowers are not being offered at this time
URL:https://safeboulder.org/event/breakfast-in-the-park-showers/2026-03-18/
LOCATION:Boulder Bandshell\, 1212 Canyon Blvd\, Boulder\, Colorado\, 80302\, United States
CATEGORIES:Charity,Free Meal,Secular,Shower
ORGANIZER;CN="Homeless Cares":MAILTO:support@thenopi.org
END:VEVENT
BEGIN:VEVENT
DTSTART;TZID=UTC:20260316T121500
DTEND;TZID=UTC:20260316T133000
DTSTAMP:20260423T095444
CREATED:20230704T220138Z
LAST-MODIFIED:20250515T004139Z
UID:10018105-1773663300-1773667800@safeboulder.org
SUMMARY:Hot Soups\, Sandwiches\, & Desserts
DESCRIPTION:Boulder Bandshell & along Boulder Creek \n\n\n\nWe deliver the food to the Boulder Bandshell and adjourning park just south of Canyon Boulevard and West of 13th Street. We also distribute hard-boiled eggs\, fruit\, bottled water\, hand warmers\, hand wipes\, toiletries\, hand sanitizers\, gloves\, socks and hats.
URL:https://safeboulder.org/event/hot-soups-sandwiches-desserts-2/2026-03-16/
LOCATION:Boulder Bandshell\, 1212 Canyon Blvd\, Boulder\, Colorado\, 80302\, United States
CATEGORIES:Charity,Free Meal,Secular
ATTACH;FMTTYPE=image/jpeg:https://safeboulder.org/wp-content/uploads/2022/11/image08.jpg
ORGANIZER;CN="Circle of Love":MAILTO:circleoflove80026@gmail.com
END:VEVENT
BEGIN:VEVENT
DTSTART;TZID=UTC:20260314T160000
DTEND;TZID=UTC:20260314T170000
DTSTAMP:20260423T095444
CREATED:20250412T043742Z
LAST-MODIFIED:20250412T043744Z
UID:10021405-1773504000-1773507600@safeboulder.org
SUMMARY:Dinner in the Park
DESCRIPTION:Transforming food waste into free\, hot meals served on Saturdays with Journey Church \n\n\n\nMeets at 13th and Canyon near the Bandshell in good weather. \n\n\n\nIn bad weather\, meals are served under the Library\, where the little skatepark is. \n\n\n\nWhat to expect:\n\n\n\nAlways\n\n\n\n\nHot meals*\n\n\n\n\n*This Food Not Bombs chapter serves meat as well as vegetarian dishes.
URL:https://safeboulder.org/event/dinner-in-the-park-2/2026-03-14/
LOCATION:Boulder Bandshell\, 1212 Canyon Blvd\, Boulder\, Colorado\, 80302\, United States
CATEGORIES:Free Meal,Mutual Aid,Secular
ATTACH;FMTTYPE=image/png:https://safeboulder.org/wp-content/uploads/2022/10/FNB_logo_color_small-copy.png
ORGANIZER;CN="Food Not Bombs - Boulder":MAILTO:foodnotbombsboco@gmail.com
END:VEVENT
BEGIN:VEVENT
DTSTART;TZID=UTC:20260311T121500
DTEND;TZID=UTC:20260311T133000
DTSTAMP:20260423T095444
CREATED:20230704T220138Z
LAST-MODIFIED:20250515T004139Z
UID:10021758-1773231300-1773235800@safeboulder.org
SUMMARY:Hot Soups\, Sandwiches\, & Desserts
DESCRIPTION:Boulder Bandshell & along Boulder Creek \n\n\n\nWe deliver the food to the Boulder Bandshell and adjourning park just south of Canyon Boulevard and West of 13th Street. We also distribute hard-boiled eggs\, fruit\, bottled water\, hand warmers\, hand wipes\, toiletries\, hand sanitizers\, gloves\, socks and hats.
URL:https://safeboulder.org/event/hot-soups-sandwiches-desserts-2/2026-03-11/
LOCATION:Boulder Bandshell\, 1212 Canyon Blvd\, Boulder\, Colorado\, 80302\, United States
CATEGORIES:Charity,Free Meal,Secular
ATTACH;FMTTYPE=image/jpeg:https://safeboulder.org/wp-content/uploads/2022/11/image08.jpg
ORGANIZER;CN="Circle of Love":MAILTO:circleoflove80026@gmail.com
END:VEVENT
BEGIN:VEVENT
DTSTART;TZID=UTC:20260311T100000
DTEND;TZID=UTC:20260311T110000
DTSTAMP:20260423T095444
CREATED:20231104T045701Z
LAST-MODIFIED:20231104T045704Z
UID:10004698-1773223200-1773226800@safeboulder.org
SUMMARY:Breakfast in the park
DESCRIPTION:Breakfast in the park near the Bandshell. \n\n\n\nShowers are not being offered at this time
URL:https://safeboulder.org/event/breakfast-in-the-park-showers/2026-03-11/
LOCATION:Boulder Bandshell\, 1212 Canyon Blvd\, Boulder\, Colorado\, 80302\, United States
CATEGORIES:Charity,Free Meal,Secular,Shower
ORGANIZER;CN="Homeless Cares":MAILTO:support@thenopi.org
END:VEVENT
BEGIN:VEVENT
DTSTART;TZID=UTC:20260309T121500
DTEND;TZID=UTC:20260309T133000
DTSTAMP:20260423T095444
CREATED:20230704T220138Z
LAST-MODIFIED:20250515T004139Z
UID:10018104-1773058500-1773063000@safeboulder.org
SUMMARY:Hot Soups\, Sandwiches\, & Desserts
DESCRIPTION:Boulder Bandshell & along Boulder Creek \n\n\n\nWe deliver the food to the Boulder Bandshell and adjourning park just south of Canyon Boulevard and West of 13th Street. We also distribute hard-boiled eggs\, fruit\, bottled water\, hand warmers\, hand wipes\, toiletries\, hand sanitizers\, gloves\, socks and hats.
URL:https://safeboulder.org/event/hot-soups-sandwiches-desserts-2/2026-03-09/
LOCATION:Boulder Bandshell\, 1212 Canyon Blvd\, Boulder\, Colorado\, 80302\, United States
CATEGORIES:Charity,Free Meal,Secular
ATTACH;FMTTYPE=image/jpeg:https://safeboulder.org/wp-content/uploads/2022/11/image08.jpg
ORGANIZER;CN="Circle of Love":MAILTO:circleoflove80026@gmail.com
END:VEVENT
BEGIN:VEVENT
DTSTART;TZID=UTC:20260307T160000
DTEND;TZID=UTC:20260307T170000
DTSTAMP:20260423T095444
CREATED:20250412T043742Z
LAST-MODIFIED:20250412T043744Z
UID:10021404-1772899200-1772902800@safeboulder.org
SUMMARY:Dinner in the Park
DESCRIPTION:Transforming food waste into free\, hot meals served on Saturdays with Journey Church \n\n\n\nMeets at 13th and Canyon near the Bandshell in good weather. \n\n\n\nIn bad weather\, meals are served under the Library\, where the little skatepark is. \n\n\n\nWhat to expect:\n\n\n\nAlways\n\n\n\n\nHot meals*\n\n\n\n\n*This Food Not Bombs chapter serves meat as well as vegetarian dishes.
URL:https://safeboulder.org/event/dinner-in-the-park-2/2026-03-07/
LOCATION:Boulder Bandshell\, 1212 Canyon Blvd\, Boulder\, Colorado\, 80302\, United States
CATEGORIES:Free Meal,Mutual Aid,Secular
ATTACH;FMTTYPE=image/png:https://safeboulder.org/wp-content/uploads/2022/10/FNB_logo_color_small-copy.png
ORGANIZER;CN="Food Not Bombs - Boulder":MAILTO:foodnotbombsboco@gmail.com
END:VEVENT
BEGIN:VEVENT
DTSTART;TZID=UTC:20260304T121500
DTEND;TZID=UTC:20260304T133000
DTSTAMP:20260423T095444
CREATED:20230704T220138Z
LAST-MODIFIED:20250515T004139Z
UID:10021757-1772626500-1772631000@safeboulder.org
SUMMARY:Hot Soups\, Sandwiches\, & Desserts
DESCRIPTION:Boulder Bandshell & along Boulder Creek \n\n\n\nWe deliver the food to the Boulder Bandshell and adjourning park just south of Canyon Boulevard and West of 13th Street. We also distribute hard-boiled eggs\, fruit\, bottled water\, hand warmers\, hand wipes\, toiletries\, hand sanitizers\, gloves\, socks and hats.
URL:https://safeboulder.org/event/hot-soups-sandwiches-desserts-2/2026-03-04/
LOCATION:Boulder Bandshell\, 1212 Canyon Blvd\, Boulder\, Colorado\, 80302\, United States
CATEGORIES:Charity,Free Meal,Secular
ATTACH;FMTTYPE=image/jpeg:https://safeboulder.org/wp-content/uploads/2022/11/image08.jpg
ORGANIZER;CN="Circle of Love":MAILTO:circleoflove80026@gmail.com
END:VEVENT
BEGIN:VEVENT
DTSTART;TZID=UTC:20260304T100000
DTEND;TZID=UTC:20260304T110000
DTSTAMP:20260423T095444
CREATED:20231104T045701Z
LAST-MODIFIED:20231104T045704Z
UID:10004697-1772618400-1772622000@safeboulder.org
SUMMARY:Breakfast in the park
DESCRIPTION:Breakfast in the park near the Bandshell. \n\n\n\nShowers are not being offered at this time
URL:https://safeboulder.org/event/breakfast-in-the-park-showers/2026-03-04/
LOCATION:Boulder Bandshell\, 1212 Canyon Blvd\, Boulder\, Colorado\, 80302\, United States
CATEGORIES:Charity,Free Meal,Secular,Shower
ORGANIZER;CN="Homeless Cares":MAILTO:support@thenopi.org
END:VEVENT
BEGIN:VEVENT
DTSTART;TZID=UTC:20260302T121500
DTEND;TZID=UTC:20260302T133000
DTSTAMP:20260423T095444
CREATED:20230704T220138Z
LAST-MODIFIED:20250515T004139Z
UID:10018103-1772453700-1772458200@safeboulder.org
SUMMARY:Hot Soups\, Sandwiches\, & Desserts
DESCRIPTION:Boulder Bandshell & along Boulder Creek \n\n\n\nWe deliver the food to the Boulder Bandshell and adjourning park just south of Canyon Boulevard and West of 13th Street. We also distribute hard-boiled eggs\, fruit\, bottled water\, hand warmers\, hand wipes\, toiletries\, hand sanitizers\, gloves\, socks and hats.
URL:https://safeboulder.org/event/hot-soups-sandwiches-desserts-2/2026-03-02/
LOCATION:Boulder Bandshell\, 1212 Canyon Blvd\, Boulder\, Colorado\, 80302\, United States
CATEGORIES:Charity,Free Meal,Secular
ATTACH;FMTTYPE=image/jpeg:https://safeboulder.org/wp-content/uploads/2022/11/image08.jpg
ORGANIZER;CN="Circle of Love":MAILTO:circleoflove80026@gmail.com
END:VEVENT
BEGIN:VEVENT
DTSTART;TZID=UTC:20260228T160000
DTEND;TZID=UTC:20260228T170000
DTSTAMP:20260423T095444
CREATED:20250412T043742Z
LAST-MODIFIED:20250412T043744Z
UID:10021403-1772294400-1772298000@safeboulder.org
SUMMARY:Dinner in the Park
DESCRIPTION:Transforming food waste into free\, hot meals served on Saturdays with Journey Church \n\n\n\nMeets at 13th and Canyon near the Bandshell in good weather. \n\n\n\nIn bad weather\, meals are served under the Library\, where the little skatepark is. \n\n\n\nWhat to expect:\n\n\n\nAlways\n\n\n\n\nHot meals*\n\n\n\n\n*This Food Not Bombs chapter serves meat as well as vegetarian dishes.
URL:https://safeboulder.org/event/dinner-in-the-park-2/2026-02-28/
LOCATION:Boulder Bandshell\, 1212 Canyon Blvd\, Boulder\, Colorado\, 80302\, United States
CATEGORIES:Free Meal,Mutual Aid,Secular
ATTACH;FMTTYPE=image/png:https://safeboulder.org/wp-content/uploads/2022/10/FNB_logo_color_small-copy.png
ORGANIZER;CN="Food Not Bombs - Boulder":MAILTO:foodnotbombsboco@gmail.com
END:VEVENT
BEGIN:VEVENT
DTSTART;TZID=UTC:20260225T121500
DTEND;TZID=UTC:20260225T133000
DTSTAMP:20260423T095444
CREATED:20230704T220138Z
LAST-MODIFIED:20250515T004139Z
UID:10021756-1772021700-1772026200@safeboulder.org
SUMMARY:Hot Soups\, Sandwiches\, & Desserts
DESCRIPTION:Boulder Bandshell & along Boulder Creek \n\n\n\nWe deliver the food to the Boulder Bandshell and adjourning park just south of Canyon Boulevard and West of 13th Street. We also distribute hard-boiled eggs\, fruit\, bottled water\, hand warmers\, hand wipes\, toiletries\, hand sanitizers\, gloves\, socks and hats.
URL:https://safeboulder.org/event/hot-soups-sandwiches-desserts-2/2026-02-25/
LOCATION:Boulder Bandshell\, 1212 Canyon Blvd\, Boulder\, Colorado\, 80302\, United States
CATEGORIES:Charity,Free Meal,Secular
ATTACH;FMTTYPE=image/jpeg:https://safeboulder.org/wp-content/uploads/2022/11/image08.jpg
ORGANIZER;CN="Circle of Love":MAILTO:circleoflove80026@gmail.com
END:VEVENT
BEGIN:VEVENT
DTSTART;TZID=UTC:20260225T100000
DTEND;TZID=UTC:20260225T110000
DTSTAMP:20260423T095444
CREATED:20231104T045701Z
LAST-MODIFIED:20231104T045704Z
UID:10004696-1772013600-1772017200@safeboulder.org
SUMMARY:Breakfast in the park
DESCRIPTION:Breakfast in the park near the Bandshell. \n\n\n\nShowers are not being offered at this time
URL:https://safeboulder.org/event/breakfast-in-the-park-showers/2026-02-25/
LOCATION:Boulder Bandshell\, 1212 Canyon Blvd\, Boulder\, Colorado\, 80302\, United States
CATEGORIES:Charity,Free Meal,Secular,Shower
ORGANIZER;CN="Homeless Cares":MAILTO:support@thenopi.org
END:VEVENT
BEGIN:VEVENT
DTSTART;TZID=UTC:20260223T121500
DTEND;TZID=UTC:20260223T133000
DTSTAMP:20260423T095444
CREATED:20230704T220138Z
LAST-MODIFIED:20250515T004139Z
UID:10018102-1771848900-1771853400@safeboulder.org
SUMMARY:Hot Soups\, Sandwiches\, & Desserts
DESCRIPTION:Boulder Bandshell & along Boulder Creek \n\n\n\nWe deliver the food to the Boulder Bandshell and adjourning park just south of Canyon Boulevard and West of 13th Street. We also distribute hard-boiled eggs\, fruit\, bottled water\, hand warmers\, hand wipes\, toiletries\, hand sanitizers\, gloves\, socks and hats.
URL:https://safeboulder.org/event/hot-soups-sandwiches-desserts-2/2026-02-23/
LOCATION:Boulder Bandshell\, 1212 Canyon Blvd\, Boulder\, Colorado\, 80302\, United States
CATEGORIES:Charity,Free Meal,Secular
ATTACH;FMTTYPE=image/jpeg:https://safeboulder.org/wp-content/uploads/2022/11/image08.jpg
ORGANIZER;CN="Circle of Love":MAILTO:circleoflove80026@gmail.com
END:VEVENT
BEGIN:VEVENT
DTSTART;TZID=UTC:20260221T160000
DTEND;TZID=UTC:20260221T170000
DTSTAMP:20260423T095444
CREATED:20250412T043742Z
LAST-MODIFIED:20250412T043744Z
UID:10021402-1771689600-1771693200@safeboulder.org
SUMMARY:Dinner in the Park
DESCRIPTION:Transforming food waste into free\, hot meals served on Saturdays with Journey Church \n\n\n\nMeets at 13th and Canyon near the Bandshell in good weather. \n\n\n\nIn bad weather\, meals are served under the Library\, where the little skatepark is. \n\n\n\nWhat to expect:\n\n\n\nAlways\n\n\n\n\nHot meals*\n\n\n\n\n*This Food Not Bombs chapter serves meat as well as vegetarian dishes.
URL:https://safeboulder.org/event/dinner-in-the-park-2/2026-02-21/
LOCATION:Boulder Bandshell\, 1212 Canyon Blvd\, Boulder\, Colorado\, 80302\, United States
CATEGORIES:Free Meal,Mutual Aid,Secular
ATTACH;FMTTYPE=image/png:https://safeboulder.org/wp-content/uploads/2022/10/FNB_logo_color_small-copy.png
ORGANIZER;CN="Food Not Bombs - Boulder":MAILTO:foodnotbombsboco@gmail.com
END:VEVENT
BEGIN:VEVENT
DTSTART;TZID=UTC:20260218T121500
DTEND;TZID=UTC:20260218T133000
DTSTAMP:20260423T095444
CREATED:20230704T220138Z
LAST-MODIFIED:20250515T004139Z
UID:10021755-1771416900-1771421400@safeboulder.org
SUMMARY:Hot Soups\, Sandwiches\, & Desserts
DESCRIPTION:Boulder Bandshell & along Boulder Creek \n\n\n\nWe deliver the food to the Boulder Bandshell and adjourning park just south of Canyon Boulevard and West of 13th Street. We also distribute hard-boiled eggs\, fruit\, bottled water\, hand warmers\, hand wipes\, toiletries\, hand sanitizers\, gloves\, socks and hats.
URL:https://safeboulder.org/event/hot-soups-sandwiches-desserts-2/2026-02-18/
LOCATION:Boulder Bandshell\, 1212 Canyon Blvd\, Boulder\, Colorado\, 80302\, United States
CATEGORIES:Charity,Free Meal,Secular
ATTACH;FMTTYPE=image/jpeg:https://safeboulder.org/wp-content/uploads/2022/11/image08.jpg
ORGANIZER;CN="Circle of Love":MAILTO:circleoflove80026@gmail.com
END:VEVENT
BEGIN:VEVENT
DTSTART;TZID=UTC:20260218T100000
DTEND;TZID=UTC:20260218T110000
DTSTAMP:20260423T095444
CREATED:20231104T045701Z
LAST-MODIFIED:20231104T045704Z
UID:10004695-1771408800-1771412400@safeboulder.org
SUMMARY:Breakfast in the park
DESCRIPTION:Breakfast in the park near the Bandshell. \n\n\n\nShowers are not being offered at this time
URL:https://safeboulder.org/event/breakfast-in-the-park-showers/2026-02-18/
LOCATION:Boulder Bandshell\, 1212 Canyon Blvd\, Boulder\, Colorado\, 80302\, United States
CATEGORIES:Charity,Free Meal,Secular,Shower
ORGANIZER;CN="Homeless Cares":MAILTO:support@thenopi.org
END:VEVENT
BEGIN:VEVENT
DTSTART;TZID=UTC:20260216T121500
DTEND;TZID=UTC:20260216T133000
DTSTAMP:20260423T095444
CREATED:20230704T220138Z
LAST-MODIFIED:20250515T004139Z
UID:10018101-1771244100-1771248600@safeboulder.org
SUMMARY:Hot Soups\, Sandwiches\, & Desserts
DESCRIPTION:Boulder Bandshell & along Boulder Creek \n\n\n\nWe deliver the food to the Boulder Bandshell and adjourning park just south of Canyon Boulevard and West of 13th Street. We also distribute hard-boiled eggs\, fruit\, bottled water\, hand warmers\, hand wipes\, toiletries\, hand sanitizers\, gloves\, socks and hats.
URL:https://safeboulder.org/event/hot-soups-sandwiches-desserts-2/2026-02-16/
LOCATION:Boulder Bandshell\, 1212 Canyon Blvd\, Boulder\, Colorado\, 80302\, United States
CATEGORIES:Charity,Free Meal,Secular
ATTACH;FMTTYPE=image/jpeg:https://safeboulder.org/wp-content/uploads/2022/11/image08.jpg
ORGANIZER;CN="Circle of Love":MAILTO:circleoflove80026@gmail.com
END:VEVENT
BEGIN:VEVENT
DTSTART;TZID=UTC:20260214T160000
DTEND;TZID=UTC:20260214T170000
DTSTAMP:20260423T095444
CREATED:20250412T043742Z
LAST-MODIFIED:20250412T043744Z
UID:10021401-1771084800-1771088400@safeboulder.org
SUMMARY:Dinner in the Park
DESCRIPTION:Transforming food waste into free\, hot meals served on Saturdays with Journey Church \n\n\n\nMeets at 13th and Canyon near the Bandshell in good weather. \n\n\n\nIn bad weather\, meals are served under the Library\, where the little skatepark is. \n\n\n\nWhat to expect:\n\n\n\nAlways\n\n\n\n\nHot meals*\n\n\n\n\n*This Food Not Bombs chapter serves meat as well as vegetarian dishes.
URL:https://safeboulder.org/event/dinner-in-the-park-2/2026-02-14/
LOCATION:Boulder Bandshell\, 1212 Canyon Blvd\, Boulder\, Colorado\, 80302\, United States
CATEGORIES:Free Meal,Mutual Aid,Secular
ATTACH;FMTTYPE=image/png:https://safeboulder.org/wp-content/uploads/2022/10/FNB_logo_color_small-copy.png
ORGANIZER;CN="Food Not Bombs - Boulder":MAILTO:foodnotbombsboco@gmail.com
END:VEVENT
BEGIN:VEVENT
DTSTART;TZID=UTC:20260211T121500
DTEND;TZID=UTC:20260211T133000
DTSTAMP:20260423T095444
CREATED:20230704T220138Z
LAST-MODIFIED:20250515T004139Z
UID:10021754-1770812100-1770816600@safeboulder.org
SUMMARY:Hot Soups\, Sandwiches\, & Desserts
DESCRIPTION:Boulder Bandshell & along Boulder Creek \n\n\n\nWe deliver the food to the Boulder Bandshell and adjourning park just south of Canyon Boulevard and West of 13th Street. We also distribute hard-boiled eggs\, fruit\, bottled water\, hand warmers\, hand wipes\, toiletries\, hand sanitizers\, gloves\, socks and hats.
URL:https://safeboulder.org/event/hot-soups-sandwiches-desserts-2/2026-02-11/
LOCATION:Boulder Bandshell\, 1212 Canyon Blvd\, Boulder\, Colorado\, 80302\, United States
CATEGORIES:Charity,Free Meal,Secular
ATTACH;FMTTYPE=image/jpeg:https://safeboulder.org/wp-content/uploads/2022/11/image08.jpg
ORGANIZER;CN="Circle of Love":MAILTO:circleoflove80026@gmail.com
END:VEVENT
BEGIN:VEVENT
DTSTART;TZID=UTC:20260211T100000
DTEND;TZID=UTC:20260211T110000
DTSTAMP:20260423T095444
CREATED:20231104T045701Z
LAST-MODIFIED:20231104T045704Z
UID:10004694-1770804000-1770807600@safeboulder.org
SUMMARY:Breakfast in the park
DESCRIPTION:Breakfast in the park near the Bandshell. \n\n\n\nShowers are not being offered at this time
URL:https://safeboulder.org/event/breakfast-in-the-park-showers/2026-02-11/
LOCATION:Boulder Bandshell\, 1212 Canyon Blvd\, Boulder\, Colorado\, 80302\, United States
CATEGORIES:Charity,Free Meal,Secular,Shower
ORGANIZER;CN="Homeless Cares":MAILTO:support@thenopi.org
END:VEVENT
END:VCALENDAR