BEGIN:VCALENDAR
VERSION:2.0
PRODID:-//SAFE Boulder - ECPv6.15.20//NONSGML v1.0//EN
CALSCALE:GREGORIAN
METHOD:PUBLISH
X-ORIGINAL-URL:https://safeboulder.org
X-WR-CALDESC:Events for SAFE Boulder
REFRESH-INTERVAL;VALUE=DURATION:PT1H
X-Robots-Tag:noindex
X-PUBLISHED-TTL:PT1H
BEGIN:VTIMEZONE
TZID:UTC
BEGIN:STANDARD
TZOFFSETFROM:+0000
TZOFFSETTO:+0000
TZNAME:UTC
DTSTART:20230101T000000
END:STANDARD
END:VTIMEZONE
BEGIN:VEVENT
DTSTART;TZID=UTC:20240801T090000
DTEND;TZID=UTC:20240801T103000
DTSTAMP:20260419T133857
CREATED:20221226T211405Z
LAST-MODIFIED:20221226T234529Z
UID:10002740-1722502800-1722508200@safeboulder.org
SUMMARY:Deacon's Closet
DESCRIPTION:The Deacons’ Closet provides clothing and hygiene assistance to individuals and families in need. \n\n\n\nOur inventory includes: \n\n\n\n– Clothing– Personal care items \n\n\n\nLaundry services available before 9:30Or call 720-235-8520 to reserve in advance
URL:https://safeboulder.org/event/deacons-closet/2024-08-01/
LOCATION:Grace Commons Church Annex\, 1603 Walnut St\, Boulder\, Colorado\, 80302\, United States
CATEGORIES:Charity,Free Clothes,Free Hygiene Supplies,Laundry,Religious
ATTACH;FMTTYPE=image/png:https://safeboulder.org/wp-content/uploads/2022/12/grace-commons.png
ORGANIZER;CN="Grace Commons Church":MAILTO:questions@gracecommons.org
END:VEVENT
BEGIN:VEVENT
DTSTART;TZID=UTC:20240725T090000
DTEND;TZID=UTC:20240725T103000
DTSTAMP:20260419T133857
CREATED:20221226T211405Z
LAST-MODIFIED:20221226T234529Z
UID:10002739-1721898000-1721903400@safeboulder.org
SUMMARY:Deacon's Closet
DESCRIPTION:The Deacons’ Closet provides clothing and hygiene assistance to individuals and families in need. \n\n\n\nOur inventory includes: \n\n\n\n– Clothing– Personal care items \n\n\n\nLaundry services available before 9:30Or call 720-235-8520 to reserve in advance
URL:https://safeboulder.org/event/deacons-closet/2024-07-25/
LOCATION:Grace Commons Church Annex\, 1603 Walnut St\, Boulder\, Colorado\, 80302\, United States
CATEGORIES:Charity,Free Clothes,Free Hygiene Supplies,Laundry,Religious
ATTACH;FMTTYPE=image/png:https://safeboulder.org/wp-content/uploads/2022/12/grace-commons.png
ORGANIZER;CN="Grace Commons Church":MAILTO:questions@gracecommons.org
END:VEVENT
BEGIN:VEVENT
DTSTART;TZID=UTC:20240718T090000
DTEND;TZID=UTC:20240718T103000
DTSTAMP:20260419T133857
CREATED:20221226T211405Z
LAST-MODIFIED:20221226T234529Z
UID:10002738-1721293200-1721298600@safeboulder.org
SUMMARY:Deacon's Closet
DESCRIPTION:The Deacons’ Closet provides clothing and hygiene assistance to individuals and families in need. \n\n\n\nOur inventory includes: \n\n\n\n– Clothing– Personal care items \n\n\n\nLaundry services available before 9:30Or call 720-235-8520 to reserve in advance
URL:https://safeboulder.org/event/deacons-closet/2024-07-18/
LOCATION:Grace Commons Church Annex\, 1603 Walnut St\, Boulder\, Colorado\, 80302\, United States
CATEGORIES:Charity,Free Clothes,Free Hygiene Supplies,Laundry,Religious
ATTACH;FMTTYPE=image/png:https://safeboulder.org/wp-content/uploads/2022/12/grace-commons.png
ORGANIZER;CN="Grace Commons Church":MAILTO:questions@gracecommons.org
END:VEVENT
BEGIN:VEVENT
DTSTART;TZID=UTC:20240711T090000
DTEND;TZID=UTC:20240711T103000
DTSTAMP:20260419T133857
CREATED:20221226T211405Z
LAST-MODIFIED:20221226T234529Z
UID:10002737-1720688400-1720693800@safeboulder.org
SUMMARY:Deacon's Closet
DESCRIPTION:The Deacons’ Closet provides clothing and hygiene assistance to individuals and families in need. \n\n\n\nOur inventory includes: \n\n\n\n– Clothing– Personal care items \n\n\n\nLaundry services available before 9:30Or call 720-235-8520 to reserve in advance
URL:https://safeboulder.org/event/deacons-closet/2024-07-11/
LOCATION:Grace Commons Church Annex\, 1603 Walnut St\, Boulder\, Colorado\, 80302\, United States
CATEGORIES:Charity,Free Clothes,Free Hygiene Supplies,Laundry,Religious
ATTACH;FMTTYPE=image/png:https://safeboulder.org/wp-content/uploads/2022/12/grace-commons.png
ORGANIZER;CN="Grace Commons Church":MAILTO:questions@gracecommons.org
END:VEVENT
BEGIN:VEVENT
DTSTART;TZID=UTC:20240704T090000
DTEND;TZID=UTC:20240704T103000
DTSTAMP:20260419T133857
CREATED:20221226T211405Z
LAST-MODIFIED:20221226T234529Z
UID:10002736-1720083600-1720089000@safeboulder.org
SUMMARY:Deacon's Closet
DESCRIPTION:The Deacons’ Closet provides clothing and hygiene assistance to individuals and families in need. \n\n\n\nOur inventory includes: \n\n\n\n– Clothing– Personal care items \n\n\n\nLaundry services available before 9:30Or call 720-235-8520 to reserve in advance
URL:https://safeboulder.org/event/deacons-closet/2024-07-04/
LOCATION:Grace Commons Church Annex\, 1603 Walnut St\, Boulder\, Colorado\, 80302\, United States
CATEGORIES:Charity,Free Clothes,Free Hygiene Supplies,Laundry,Religious
ATTACH;FMTTYPE=image/png:https://safeboulder.org/wp-content/uploads/2022/12/grace-commons.png
ORGANIZER;CN="Grace Commons Church":MAILTO:questions@gracecommons.org
END:VEVENT
BEGIN:VEVENT
DTSTART;TZID=UTC:20240630T120000
DTEND;TZID=UTC:20240630T123000
DTSTAMP:20260419T133857
CREATED:20230705T020113Z
LAST-MODIFIED:20230706T210427Z
UID:10006179-1719748800-1719750600@safeboulder.org
SUMMARY:Grace Commons Lunch
DESCRIPTION:
URL:https://safeboulder.org/event/grace-commons-lunch-2/2024-06-30/
LOCATION:Grace Commons Church Courtyard\, ‍1820 15th Street\, Boulder\, Colorado\, 80032\, United States
CATEGORIES:Charity,Free Meal,Religious
ORGANIZER;CN="Grace Commons Church":MAILTO:questions@gracecommons.org
END:VEVENT
BEGIN:VEVENT
DTSTART;TZID=UTC:20240627T090000
DTEND;TZID=UTC:20240627T103000
DTSTAMP:20260419T133857
CREATED:20221226T211405Z
LAST-MODIFIED:20221226T234529Z
UID:10002735-1719478800-1719484200@safeboulder.org
SUMMARY:Deacon's Closet
DESCRIPTION:The Deacons’ Closet provides clothing and hygiene assistance to individuals and families in need. \n\n\n\nOur inventory includes: \n\n\n\n– Clothing– Personal care items \n\n\n\nLaundry services available before 9:30Or call 720-235-8520 to reserve in advance
URL:https://safeboulder.org/event/deacons-closet/2024-06-27/
LOCATION:Grace Commons Church Annex\, 1603 Walnut St\, Boulder\, Colorado\, 80302\, United States
CATEGORIES:Charity,Free Clothes,Free Hygiene Supplies,Laundry,Religious
ATTACH;FMTTYPE=image/png:https://safeboulder.org/wp-content/uploads/2022/12/grace-commons.png
ORGANIZER;CN="Grace Commons Church":MAILTO:questions@gracecommons.org
END:VEVENT
BEGIN:VEVENT
DTSTART;TZID=UTC:20240620T090000
DTEND;TZID=UTC:20240620T103000
DTSTAMP:20260419T133857
CREATED:20221226T211405Z
LAST-MODIFIED:20221226T234529Z
UID:10002734-1718874000-1718879400@safeboulder.org
SUMMARY:Deacon's Closet
DESCRIPTION:The Deacons’ Closet provides clothing and hygiene assistance to individuals and families in need. \n\n\n\nOur inventory includes: \n\n\n\n– Clothing– Personal care items \n\n\n\nLaundry services available before 9:30Or call 720-235-8520 to reserve in advance
URL:https://safeboulder.org/event/deacons-closet/2024-06-20/
LOCATION:Grace Commons Church Annex\, 1603 Walnut St\, Boulder\, Colorado\, 80302\, United States
CATEGORIES:Charity,Free Clothes,Free Hygiene Supplies,Laundry,Religious
ATTACH;FMTTYPE=image/png:https://safeboulder.org/wp-content/uploads/2022/12/grace-commons.png
ORGANIZER;CN="Grace Commons Church":MAILTO:questions@gracecommons.org
END:VEVENT
BEGIN:VEVENT
DTSTART;TZID=UTC:20240613T090000
DTEND;TZID=UTC:20240613T103000
DTSTAMP:20260419T133857
CREATED:20221226T211405Z
LAST-MODIFIED:20221226T234529Z
UID:10002733-1718269200-1718274600@safeboulder.org
SUMMARY:Deacon's Closet
DESCRIPTION:The Deacons’ Closet provides clothing and hygiene assistance to individuals and families in need. \n\n\n\nOur inventory includes: \n\n\n\n– Clothing– Personal care items \n\n\n\nLaundry services available before 9:30Or call 720-235-8520 to reserve in advance
URL:https://safeboulder.org/event/deacons-closet/2024-06-13/
LOCATION:Grace Commons Church Annex\, 1603 Walnut St\, Boulder\, Colorado\, 80302\, United States
CATEGORIES:Charity,Free Clothes,Free Hygiene Supplies,Laundry,Religious
ATTACH;FMTTYPE=image/png:https://safeboulder.org/wp-content/uploads/2022/12/grace-commons.png
ORGANIZER;CN="Grace Commons Church":MAILTO:questions@gracecommons.org
END:VEVENT
BEGIN:VEVENT
DTSTART;TZID=UTC:20240606T090000
DTEND;TZID=UTC:20240606T103000
DTSTAMP:20260419T133857
CREATED:20221226T211405Z
LAST-MODIFIED:20221226T234529Z
UID:10002732-1717664400-1717669800@safeboulder.org
SUMMARY:Deacon's Closet
DESCRIPTION:The Deacons’ Closet provides clothing and hygiene assistance to individuals and families in need. \n\n\n\nOur inventory includes: \n\n\n\n– Clothing– Personal care items \n\n\n\nLaundry services available before 9:30Or call 720-235-8520 to reserve in advance
URL:https://safeboulder.org/event/deacons-closet/2024-06-06/
LOCATION:Grace Commons Church Annex\, 1603 Walnut St\, Boulder\, Colorado\, 80302\, United States
CATEGORIES:Charity,Free Clothes,Free Hygiene Supplies,Laundry,Religious
ATTACH;FMTTYPE=image/png:https://safeboulder.org/wp-content/uploads/2022/12/grace-commons.png
ORGANIZER;CN="Grace Commons Church":MAILTO:questions@gracecommons.org
END:VEVENT
BEGIN:VEVENT
DTSTART;TZID=UTC:20240530T090000
DTEND;TZID=UTC:20240530T103000
DTSTAMP:20260419T133857
CREATED:20221226T211405Z
LAST-MODIFIED:20221226T234529Z
UID:10002731-1717059600-1717065000@safeboulder.org
SUMMARY:Deacon's Closet
DESCRIPTION:The Deacons’ Closet provides clothing and hygiene assistance to individuals and families in need. \n\n\n\nOur inventory includes: \n\n\n\n– Clothing– Personal care items \n\n\n\nLaundry services available before 9:30Or call 720-235-8520 to reserve in advance
URL:https://safeboulder.org/event/deacons-closet/2024-05-30/
LOCATION:Grace Commons Church Annex\, 1603 Walnut St\, Boulder\, Colorado\, 80302\, United States
CATEGORIES:Charity,Free Clothes,Free Hygiene Supplies,Laundry,Religious
ATTACH;FMTTYPE=image/png:https://safeboulder.org/wp-content/uploads/2022/12/grace-commons.png
ORGANIZER;CN="Grace Commons Church":MAILTO:questions@gracecommons.org
END:VEVENT
BEGIN:VEVENT
DTSTART;TZID=UTC:20240523T090000
DTEND;TZID=UTC:20240523T103000
DTSTAMP:20260419T133857
CREATED:20221226T211405Z
LAST-MODIFIED:20221226T234529Z
UID:10002730-1716454800-1716460200@safeboulder.org
SUMMARY:Deacon's Closet
DESCRIPTION:The Deacons’ Closet provides clothing and hygiene assistance to individuals and families in need. \n\n\n\nOur inventory includes: \n\n\n\n– Clothing– Personal care items \n\n\n\nLaundry services available before 9:30Or call 720-235-8520 to reserve in advance
URL:https://safeboulder.org/event/deacons-closet/2024-05-23/
LOCATION:Grace Commons Church Annex\, 1603 Walnut St\, Boulder\, Colorado\, 80302\, United States
CATEGORIES:Charity,Free Clothes,Free Hygiene Supplies,Laundry,Religious
ATTACH;FMTTYPE=image/png:https://safeboulder.org/wp-content/uploads/2022/12/grace-commons.png
ORGANIZER;CN="Grace Commons Church":MAILTO:questions@gracecommons.org
END:VEVENT
BEGIN:VEVENT
DTSTART;TZID=UTC:20240516T090000
DTEND;TZID=UTC:20240516T103000
DTSTAMP:20260419T133857
CREATED:20221226T211405Z
LAST-MODIFIED:20221226T234529Z
UID:10002729-1715850000-1715855400@safeboulder.org
SUMMARY:Deacon's Closet
DESCRIPTION:The Deacons’ Closet provides clothing and hygiene assistance to individuals and families in need. \n\n\n\nOur inventory includes: \n\n\n\n– Clothing– Personal care items \n\n\n\nLaundry services available before 9:30Or call 720-235-8520 to reserve in advance
URL:https://safeboulder.org/event/deacons-closet/2024-05-16/
LOCATION:Grace Commons Church Annex\, 1603 Walnut St\, Boulder\, Colorado\, 80302\, United States
CATEGORIES:Charity,Free Clothes,Free Hygiene Supplies,Laundry,Religious
ATTACH;FMTTYPE=image/png:https://safeboulder.org/wp-content/uploads/2022/12/grace-commons.png
ORGANIZER;CN="Grace Commons Church":MAILTO:questions@gracecommons.org
END:VEVENT
BEGIN:VEVENT
DTSTART;TZID=UTC:20240509T090000
DTEND;TZID=UTC:20240509T103000
DTSTAMP:20260419T133857
CREATED:20221226T211405Z
LAST-MODIFIED:20221226T234529Z
UID:10002728-1715245200-1715250600@safeboulder.org
SUMMARY:Deacon's Closet
DESCRIPTION:The Deacons’ Closet provides clothing and hygiene assistance to individuals and families in need. \n\n\n\nOur inventory includes: \n\n\n\n– Clothing– Personal care items \n\n\n\nLaundry services available before 9:30Or call 720-235-8520 to reserve in advance
URL:https://safeboulder.org/event/deacons-closet/2024-05-09/
LOCATION:Grace Commons Church Annex\, 1603 Walnut St\, Boulder\, Colorado\, 80302\, United States
CATEGORIES:Charity,Free Clothes,Free Hygiene Supplies,Laundry,Religious
ATTACH;FMTTYPE=image/png:https://safeboulder.org/wp-content/uploads/2022/12/grace-commons.png
ORGANIZER;CN="Grace Commons Church":MAILTO:questions@gracecommons.org
END:VEVENT
BEGIN:VEVENT
DTSTART;TZID=UTC:20240502T090000
DTEND;TZID=UTC:20240502T103000
DTSTAMP:20260419T133857
CREATED:20221226T211405Z
LAST-MODIFIED:20221226T234529Z
UID:10002727-1714640400-1714645800@safeboulder.org
SUMMARY:Deacon's Closet
DESCRIPTION:The Deacons’ Closet provides clothing and hygiene assistance to individuals and families in need. \n\n\n\nOur inventory includes: \n\n\n\n– Clothing– Personal care items \n\n\n\nLaundry services available before 9:30Or call 720-235-8520 to reserve in advance
URL:https://safeboulder.org/event/deacons-closet/2024-05-02/
LOCATION:Grace Commons Church Annex\, 1603 Walnut St\, Boulder\, Colorado\, 80302\, United States
CATEGORIES:Charity,Free Clothes,Free Hygiene Supplies,Laundry,Religious
ATTACH;FMTTYPE=image/png:https://safeboulder.org/wp-content/uploads/2022/12/grace-commons.png
ORGANIZER;CN="Grace Commons Church":MAILTO:questions@gracecommons.org
END:VEVENT
BEGIN:VEVENT
DTSTART;TZID=UTC:20240425T090000
DTEND;TZID=UTC:20240425T103000
DTSTAMP:20260419T133857
CREATED:20221226T211405Z
LAST-MODIFIED:20221226T234529Z
UID:10002726-1714035600-1714041000@safeboulder.org
SUMMARY:Deacon's Closet
DESCRIPTION:The Deacons’ Closet provides clothing and hygiene assistance to individuals and families in need. \n\n\n\nOur inventory includes: \n\n\n\n– Clothing– Personal care items \n\n\n\nLaundry services available before 9:30Or call 720-235-8520 to reserve in advance
URL:https://safeboulder.org/event/deacons-closet/2024-04-25/
LOCATION:Grace Commons Church Annex\, 1603 Walnut St\, Boulder\, Colorado\, 80302\, United States
CATEGORIES:Charity,Free Clothes,Free Hygiene Supplies,Laundry,Religious
ATTACH;FMTTYPE=image/png:https://safeboulder.org/wp-content/uploads/2022/12/grace-commons.png
ORGANIZER;CN="Grace Commons Church":MAILTO:questions@gracecommons.org
END:VEVENT
BEGIN:VEVENT
DTSTART;TZID=UTC:20240418T090000
DTEND;TZID=UTC:20240418T103000
DTSTAMP:20260419T133857
CREATED:20221226T211405Z
LAST-MODIFIED:20221226T234529Z
UID:10002725-1713430800-1713436200@safeboulder.org
SUMMARY:Deacon's Closet
DESCRIPTION:The Deacons’ Closet provides clothing and hygiene assistance to individuals and families in need. \n\n\n\nOur inventory includes: \n\n\n\n– Clothing– Personal care items \n\n\n\nLaundry services available before 9:30Or call 720-235-8520 to reserve in advance
URL:https://safeboulder.org/event/deacons-closet/2024-04-18/
LOCATION:Grace Commons Church Annex\, 1603 Walnut St\, Boulder\, Colorado\, 80302\, United States
CATEGORIES:Charity,Free Clothes,Free Hygiene Supplies,Laundry,Religious
ATTACH;FMTTYPE=image/png:https://safeboulder.org/wp-content/uploads/2022/12/grace-commons.png
ORGANIZER;CN="Grace Commons Church":MAILTO:questions@gracecommons.org
END:VEVENT
BEGIN:VEVENT
DTSTART;TZID=UTC:20240411T090000
DTEND;TZID=UTC:20240411T103000
DTSTAMP:20260419T133857
CREATED:20221226T211405Z
LAST-MODIFIED:20221226T234529Z
UID:10002724-1712826000-1712831400@safeboulder.org
SUMMARY:Deacon's Closet
DESCRIPTION:The Deacons’ Closet provides clothing and hygiene assistance to individuals and families in need. \n\n\n\nOur inventory includes: \n\n\n\n– Clothing– Personal care items \n\n\n\nLaundry services available before 9:30Or call 720-235-8520 to reserve in advance
URL:https://safeboulder.org/event/deacons-closet/2024-04-11/
LOCATION:Grace Commons Church Annex\, 1603 Walnut St\, Boulder\, Colorado\, 80302\, United States
CATEGORIES:Charity,Free Clothes,Free Hygiene Supplies,Laundry,Religious
ATTACH;FMTTYPE=image/png:https://safeboulder.org/wp-content/uploads/2022/12/grace-commons.png
ORGANIZER;CN="Grace Commons Church":MAILTO:questions@gracecommons.org
END:VEVENT
BEGIN:VEVENT
DTSTART;TZID=UTC:20240404T090000
DTEND;TZID=UTC:20240404T103000
DTSTAMP:20260419T133857
CREATED:20221226T211405Z
LAST-MODIFIED:20221226T234529Z
UID:10002723-1712221200-1712226600@safeboulder.org
SUMMARY:Deacon's Closet
DESCRIPTION:The Deacons’ Closet provides clothing and hygiene assistance to individuals and families in need. \n\n\n\nOur inventory includes: \n\n\n\n– Clothing– Personal care items \n\n\n\nLaundry services available before 9:30Or call 720-235-8520 to reserve in advance
URL:https://safeboulder.org/event/deacons-closet/2024-04-04/
LOCATION:Grace Commons Church Annex\, 1603 Walnut St\, Boulder\, Colorado\, 80302\, United States
CATEGORIES:Charity,Free Clothes,Free Hygiene Supplies,Laundry,Religious
ATTACH;FMTTYPE=image/png:https://safeboulder.org/wp-content/uploads/2022/12/grace-commons.png
ORGANIZER;CN="Grace Commons Church":MAILTO:questions@gracecommons.org
END:VEVENT
BEGIN:VEVENT
DTSTART;TZID=UTC:20240331T120000
DTEND;TZID=UTC:20240331T123000
DTSTAMP:20260419T133857
CREATED:20230705T020113Z
LAST-MODIFIED:20230706T210427Z
UID:10006166-1711886400-1711888200@safeboulder.org
SUMMARY:Grace Commons Lunch
DESCRIPTION:
URL:https://safeboulder.org/event/grace-commons-lunch-2/2024-03-31/
LOCATION:Grace Commons Church Courtyard\, ‍1820 15th Street\, Boulder\, Colorado\, 80032\, United States
CATEGORIES:Charity,Free Meal,Religious
ORGANIZER;CN="Grace Commons Church":MAILTO:questions@gracecommons.org
END:VEVENT
BEGIN:VEVENT
DTSTART;TZID=UTC:20240328T090000
DTEND;TZID=UTC:20240328T103000
DTSTAMP:20260419T133857
CREATED:20221226T211405Z
LAST-MODIFIED:20221226T234529Z
UID:10002722-1711616400-1711621800@safeboulder.org
SUMMARY:Deacon's Closet
DESCRIPTION:The Deacons’ Closet provides clothing and hygiene assistance to individuals and families in need. \n\n\n\nOur inventory includes: \n\n\n\n– Clothing– Personal care items \n\n\n\nLaundry services available before 9:30Or call 720-235-8520 to reserve in advance
URL:https://safeboulder.org/event/deacons-closet/2024-03-28/
LOCATION:Grace Commons Church Annex\, 1603 Walnut St\, Boulder\, Colorado\, 80302\, United States
CATEGORIES:Charity,Free Clothes,Free Hygiene Supplies,Laundry,Religious
ATTACH;FMTTYPE=image/png:https://safeboulder.org/wp-content/uploads/2022/12/grace-commons.png
ORGANIZER;CN="Grace Commons Church":MAILTO:questions@gracecommons.org
END:VEVENT
BEGIN:VEVENT
DTSTART;TZID=UTC:20240321T090000
DTEND;TZID=UTC:20240321T103000
DTSTAMP:20260419T133857
CREATED:20221226T211405Z
LAST-MODIFIED:20221226T234529Z
UID:10002721-1711011600-1711017000@safeboulder.org
SUMMARY:Deacon's Closet
DESCRIPTION:The Deacons’ Closet provides clothing and hygiene assistance to individuals and families in need. \n\n\n\nOur inventory includes: \n\n\n\n– Clothing– Personal care items \n\n\n\nLaundry services available before 9:30Or call 720-235-8520 to reserve in advance
URL:https://safeboulder.org/event/deacons-closet/2024-03-21/
LOCATION:Grace Commons Church Annex\, 1603 Walnut St\, Boulder\, Colorado\, 80302\, United States
CATEGORIES:Charity,Free Clothes,Free Hygiene Supplies,Laundry,Religious
ATTACH;FMTTYPE=image/png:https://safeboulder.org/wp-content/uploads/2022/12/grace-commons.png
ORGANIZER;CN="Grace Commons Church":MAILTO:questions@gracecommons.org
END:VEVENT
BEGIN:VEVENT
DTSTART;TZID=UTC:20240314T090000
DTEND;TZID=UTC:20240314T103000
DTSTAMP:20260419T133857
CREATED:20221226T211405Z
LAST-MODIFIED:20221226T234529Z
UID:10002720-1710406800-1710412200@safeboulder.org
SUMMARY:Deacon's Closet
DESCRIPTION:The Deacons’ Closet provides clothing and hygiene assistance to individuals and families in need. \n\n\n\nOur inventory includes: \n\n\n\n– Clothing– Personal care items \n\n\n\nLaundry services available before 9:30Or call 720-235-8520 to reserve in advance
URL:https://safeboulder.org/event/deacons-closet/2024-03-14/
LOCATION:Grace Commons Church Annex\, 1603 Walnut St\, Boulder\, Colorado\, 80302\, United States
CATEGORIES:Charity,Free Clothes,Free Hygiene Supplies,Laundry,Religious
ATTACH;FMTTYPE=image/png:https://safeboulder.org/wp-content/uploads/2022/12/grace-commons.png
ORGANIZER;CN="Grace Commons Church":MAILTO:questions@gracecommons.org
END:VEVENT
BEGIN:VEVENT
DTSTART;TZID=UTC:20240307T090000
DTEND;TZID=UTC:20240307T103000
DTSTAMP:20260419T133857
CREATED:20221226T211405Z
LAST-MODIFIED:20221226T234529Z
UID:10002719-1709802000-1709807400@safeboulder.org
SUMMARY:Deacon's Closet
DESCRIPTION:The Deacons’ Closet provides clothing and hygiene assistance to individuals and families in need. \n\n\n\nOur inventory includes: \n\n\n\n– Clothing– Personal care items \n\n\n\nLaundry services available before 9:30Or call 720-235-8520 to reserve in advance
URL:https://safeboulder.org/event/deacons-closet/2024-03-07/
LOCATION:Grace Commons Church Annex\, 1603 Walnut St\, Boulder\, Colorado\, 80302\, United States
CATEGORIES:Charity,Free Clothes,Free Hygiene Supplies,Laundry,Religious
ATTACH;FMTTYPE=image/png:https://safeboulder.org/wp-content/uploads/2022/12/grace-commons.png
ORGANIZER;CN="Grace Commons Church":MAILTO:questions@gracecommons.org
END:VEVENT
BEGIN:VEVENT
DTSTART;TZID=UTC:20240229T090000
DTEND;TZID=UTC:20240229T103000
DTSTAMP:20260419T133857
CREATED:20221226T211405Z
LAST-MODIFIED:20221226T234529Z
UID:10002718-1709197200-1709202600@safeboulder.org
SUMMARY:Deacon's Closet
DESCRIPTION:The Deacons’ Closet provides clothing and hygiene assistance to individuals and families in need. \n\n\n\nOur inventory includes: \n\n\n\n– Clothing– Personal care items \n\n\n\nLaundry services available before 9:30Or call 720-235-8520 to reserve in advance
URL:https://safeboulder.org/event/deacons-closet/2024-02-29/
LOCATION:Grace Commons Church Annex\, 1603 Walnut St\, Boulder\, Colorado\, 80302\, United States
CATEGORIES:Charity,Free Clothes,Free Hygiene Supplies,Laundry,Religious
ATTACH;FMTTYPE=image/png:https://safeboulder.org/wp-content/uploads/2022/12/grace-commons.png
ORGANIZER;CN="Grace Commons Church":MAILTO:questions@gracecommons.org
END:VEVENT
BEGIN:VEVENT
DTSTART;TZID=UTC:20240222T090000
DTEND;TZID=UTC:20240222T103000
DTSTAMP:20260419T133857
CREATED:20221226T211405Z
LAST-MODIFIED:20221226T234529Z
UID:10002717-1708592400-1708597800@safeboulder.org
SUMMARY:Deacon's Closet
DESCRIPTION:The Deacons’ Closet provides clothing and hygiene assistance to individuals and families in need. \n\n\n\nOur inventory includes: \n\n\n\n– Clothing– Personal care items \n\n\n\nLaundry services available before 9:30Or call 720-235-8520 to reserve in advance
URL:https://safeboulder.org/event/deacons-closet/2024-02-22/
LOCATION:Grace Commons Church Annex\, 1603 Walnut St\, Boulder\, Colorado\, 80302\, United States
CATEGORIES:Charity,Free Clothes,Free Hygiene Supplies,Laundry,Religious
ATTACH;FMTTYPE=image/png:https://safeboulder.org/wp-content/uploads/2022/12/grace-commons.png
ORGANIZER;CN="Grace Commons Church":MAILTO:questions@gracecommons.org
END:VEVENT
BEGIN:VEVENT
DTSTART;TZID=UTC:20240215T090000
DTEND;TZID=UTC:20240215T103000
DTSTAMP:20260419T133857
CREATED:20221226T211405Z
LAST-MODIFIED:20221226T234529Z
UID:10002716-1707987600-1707993000@safeboulder.org
SUMMARY:Deacon's Closet
DESCRIPTION:The Deacons’ Closet provides clothing and hygiene assistance to individuals and families in need. \n\n\n\nOur inventory includes: \n\n\n\n– Clothing– Personal care items \n\n\n\nLaundry services available before 9:30Or call 720-235-8520 to reserve in advance
URL:https://safeboulder.org/event/deacons-closet/2024-02-15/
LOCATION:Grace Commons Church Annex\, 1603 Walnut St\, Boulder\, Colorado\, 80302\, United States
CATEGORIES:Charity,Free Clothes,Free Hygiene Supplies,Laundry,Religious
ATTACH;FMTTYPE=image/png:https://safeboulder.org/wp-content/uploads/2022/12/grace-commons.png
ORGANIZER;CN="Grace Commons Church":MAILTO:questions@gracecommons.org
END:VEVENT
BEGIN:VEVENT
DTSTART;TZID=UTC:20240208T090000
DTEND;TZID=UTC:20240208T103000
DTSTAMP:20260419T133857
CREATED:20221226T211405Z
LAST-MODIFIED:20221226T234529Z
UID:10002715-1707382800-1707388200@safeboulder.org
SUMMARY:Deacon's Closet
DESCRIPTION:The Deacons’ Closet provides clothing and hygiene assistance to individuals and families in need. \n\n\n\nOur inventory includes: \n\n\n\n– Clothing– Personal care items \n\n\n\nLaundry services available before 9:30Or call 720-235-8520 to reserve in advance
URL:https://safeboulder.org/event/deacons-closet/2024-02-08/
LOCATION:Grace Commons Church Annex\, 1603 Walnut St\, Boulder\, Colorado\, 80302\, United States
CATEGORIES:Charity,Free Clothes,Free Hygiene Supplies,Laundry,Religious
ATTACH;FMTTYPE=image/png:https://safeboulder.org/wp-content/uploads/2022/12/grace-commons.png
ORGANIZER;CN="Grace Commons Church":MAILTO:questions@gracecommons.org
END:VEVENT
BEGIN:VEVENT
DTSTART;TZID=UTC:20240201T090000
DTEND;TZID=UTC:20240201T103000
DTSTAMP:20260419T133857
CREATED:20221226T211405Z
LAST-MODIFIED:20221226T234529Z
UID:10002714-1706778000-1706783400@safeboulder.org
SUMMARY:Deacon's Closet
DESCRIPTION:The Deacons’ Closet provides clothing and hygiene assistance to individuals and families in need. \n\n\n\nOur inventory includes: \n\n\n\n– Clothing– Personal care items \n\n\n\nLaundry services available before 9:30Or call 720-235-8520 to reserve in advance
URL:https://safeboulder.org/event/deacons-closet/2024-02-01/
LOCATION:Grace Commons Church Annex\, 1603 Walnut St\, Boulder\, Colorado\, 80302\, United States
CATEGORIES:Charity,Free Clothes,Free Hygiene Supplies,Laundry,Religious
ATTACH;FMTTYPE=image/png:https://safeboulder.org/wp-content/uploads/2022/12/grace-commons.png
ORGANIZER;CN="Grace Commons Church":MAILTO:questions@gracecommons.org
END:VEVENT
BEGIN:VEVENT
DTSTART;TZID=UTC:20240125T090000
DTEND;TZID=UTC:20240125T103000
DTSTAMP:20260419T133857
CREATED:20221226T211405Z
LAST-MODIFIED:20221226T234529Z
UID:10002713-1706173200-1706178600@safeboulder.org
SUMMARY:Deacon's Closet
DESCRIPTION:The Deacons’ Closet provides clothing and hygiene assistance to individuals and families in need. \n\n\n\nOur inventory includes: \n\n\n\n– Clothing– Personal care items \n\n\n\nLaundry services available before 9:30Or call 720-235-8520 to reserve in advance
URL:https://safeboulder.org/event/deacons-closet/2024-01-25/
LOCATION:Grace Commons Church Annex\, 1603 Walnut St\, Boulder\, Colorado\, 80302\, United States
CATEGORIES:Charity,Free Clothes,Free Hygiene Supplies,Laundry,Religious
ATTACH;FMTTYPE=image/png:https://safeboulder.org/wp-content/uploads/2022/12/grace-commons.png
ORGANIZER;CN="Grace Commons Church":MAILTO:questions@gracecommons.org
END:VEVENT
END:VCALENDAR