BEGIN:VCALENDAR
VERSION:2.0
PRODID:-//SAFE Boulder - ECPv6.15.20//NONSGML v1.0//EN
CALSCALE:GREGORIAN
METHOD:PUBLISH
X-ORIGINAL-URL:https://safeboulder.org
X-WR-CALDESC:Events for SAFE Boulder
REFRESH-INTERVAL;VALUE=DURATION:PT1H
X-Robots-Tag:noindex
X-PUBLISHED-TTL:PT1H
BEGIN:VTIMEZONE
TZID:UTC
BEGIN:STANDARD
TZOFFSETFROM:+0000
TZOFFSETTO:+0000
TZNAME:UTC
DTSTART:20280101T000000
END:STANDARD
END:VTIMEZONE
BEGIN:VEVENT
DTSTART;TZID=UTC:20290510T093000
DTEND;TZID=UTC:20290510T103000
DTSTAMP:20260422T231506
CREATED:20240904T013847Z
LAST-MODIFIED:20240904T013848Z
UID:10017208-1873099800-1873103400@safeboulder.org
SUMMARY:Deacon's Closet
DESCRIPTION:The Deacons’ Closet provides clothing and hygiene assistance to individuals and families in need. \n\n\n\nOur inventory includes: \n\n\n\n– Clothing– Personal care items \n\n\n\nLaundry services available before 9:30Or call 720-235-8520 to reserve in advance \n\n\n\nPenfield Tate II Municipal Building 1777 Broadway/ SW corner of Broadway & Canyon
URL:https://safeboulder.org/event/deacons-closet-2/2029-05-10/
LOCATION:Penfield Tate II Municipal Building 1777 Broadway / SW corner of Broadway & Canyon\, Boulder\, 80302
CATEGORIES:Charity,Free Clothes,Free Hygiene Supplies,Laundry,Religious
ATTACH;FMTTYPE=image/png:https://safeboulder.org/wp-content/uploads/2022/12/grace-commons.png
ORGANIZER;CN="Grace Commons Church":MAILTO:questions@gracecommons.org
END:VEVENT
BEGIN:VEVENT
DTSTART;TZID=UTC:20290517T093000
DTEND;TZID=UTC:20290517T103000
DTSTAMP:20260422T231506
CREATED:20240904T013847Z
LAST-MODIFIED:20240904T013848Z
UID:10017209-1873704600-1873708200@safeboulder.org
SUMMARY:Deacon's Closet
DESCRIPTION:The Deacons’ Closet provides clothing and hygiene assistance to individuals and families in need. \n\n\n\nOur inventory includes: \n\n\n\n– Clothing– Personal care items \n\n\n\nLaundry services available before 9:30Or call 720-235-8520 to reserve in advance \n\n\n\nPenfield Tate II Municipal Building 1777 Broadway/ SW corner of Broadway & Canyon
URL:https://safeboulder.org/event/deacons-closet-2/2029-05-17/
LOCATION:Penfield Tate II Municipal Building 1777 Broadway / SW corner of Broadway & Canyon\, Boulder\, 80302
CATEGORIES:Charity,Free Clothes,Free Hygiene Supplies,Laundry,Religious
ATTACH;FMTTYPE=image/png:https://safeboulder.org/wp-content/uploads/2022/12/grace-commons.png
ORGANIZER;CN="Grace Commons Church":MAILTO:questions@gracecommons.org
END:VEVENT
BEGIN:VEVENT
DTSTART;TZID=UTC:20290524T093000
DTEND;TZID=UTC:20290524T103000
DTSTAMP:20260422T231506
CREATED:20240904T013847Z
LAST-MODIFIED:20240904T013848Z
UID:10017210-1874309400-1874313000@safeboulder.org
SUMMARY:Deacon's Closet
DESCRIPTION:The Deacons’ Closet provides clothing and hygiene assistance to individuals and families in need. \n\n\n\nOur inventory includes: \n\n\n\n– Clothing– Personal care items \n\n\n\nLaundry services available before 9:30Or call 720-235-8520 to reserve in advance \n\n\n\nPenfield Tate II Municipal Building 1777 Broadway/ SW corner of Broadway & Canyon
URL:https://safeboulder.org/event/deacons-closet-2/2029-05-24/
LOCATION:Penfield Tate II Municipal Building 1777 Broadway / SW corner of Broadway & Canyon\, Boulder\, 80302
CATEGORIES:Charity,Free Clothes,Free Hygiene Supplies,Laundry,Religious
ATTACH;FMTTYPE=image/png:https://safeboulder.org/wp-content/uploads/2022/12/grace-commons.png
ORGANIZER;CN="Grace Commons Church":MAILTO:questions@gracecommons.org
END:VEVENT
BEGIN:VEVENT
DTSTART;TZID=UTC:20290531T093000
DTEND;TZID=UTC:20290531T103000
DTSTAMP:20260422T231506
CREATED:20240904T013847Z
LAST-MODIFIED:20240904T013848Z
UID:10017211-1874914200-1874917800@safeboulder.org
SUMMARY:Deacon's Closet
DESCRIPTION:The Deacons’ Closet provides clothing and hygiene assistance to individuals and families in need. \n\n\n\nOur inventory includes: \n\n\n\n– Clothing– Personal care items \n\n\n\nLaundry services available before 9:30Or call 720-235-8520 to reserve in advance \n\n\n\nPenfield Tate II Municipal Building 1777 Broadway/ SW corner of Broadway & Canyon
URL:https://safeboulder.org/event/deacons-closet-2/2029-05-31/
LOCATION:Penfield Tate II Municipal Building 1777 Broadway / SW corner of Broadway & Canyon\, Boulder\, 80302
CATEGORIES:Charity,Free Clothes,Free Hygiene Supplies,Laundry,Religious
ATTACH;FMTTYPE=image/png:https://safeboulder.org/wp-content/uploads/2022/12/grace-commons.png
ORGANIZER;CN="Grace Commons Church":MAILTO:questions@gracecommons.org
END:VEVENT
BEGIN:VEVENT
DTSTART;TZID=UTC:20290607T093000
DTEND;TZID=UTC:20290607T103000
DTSTAMP:20260422T231506
CREATED:20240904T013847Z
LAST-MODIFIED:20240904T013848Z
UID:10017212-1875519000-1875522600@safeboulder.org
SUMMARY:Deacon's Closet
DESCRIPTION:The Deacons’ Closet provides clothing and hygiene assistance to individuals and families in need. \n\n\n\nOur inventory includes: \n\n\n\n– Clothing– Personal care items \n\n\n\nLaundry services available before 9:30Or call 720-235-8520 to reserve in advance \n\n\n\nPenfield Tate II Municipal Building 1777 Broadway/ SW corner of Broadway & Canyon
URL:https://safeboulder.org/event/deacons-closet-2/2029-06-07/
LOCATION:Penfield Tate II Municipal Building 1777 Broadway / SW corner of Broadway & Canyon\, Boulder\, 80302
CATEGORIES:Charity,Free Clothes,Free Hygiene Supplies,Laundry,Religious
ATTACH;FMTTYPE=image/png:https://safeboulder.org/wp-content/uploads/2022/12/grace-commons.png
ORGANIZER;CN="Grace Commons Church":MAILTO:questions@gracecommons.org
END:VEVENT
BEGIN:VEVENT
DTSTART;TZID=UTC:20290614T093000
DTEND;TZID=UTC:20290614T103000
DTSTAMP:20260422T231506
CREATED:20240904T013847Z
LAST-MODIFIED:20240904T013848Z
UID:10017213-1876123800-1876127400@safeboulder.org
SUMMARY:Deacon's Closet
DESCRIPTION:The Deacons’ Closet provides clothing and hygiene assistance to individuals and families in need. \n\n\n\nOur inventory includes: \n\n\n\n– Clothing– Personal care items \n\n\n\nLaundry services available before 9:30Or call 720-235-8520 to reserve in advance \n\n\n\nPenfield Tate II Municipal Building 1777 Broadway/ SW corner of Broadway & Canyon
URL:https://safeboulder.org/event/deacons-closet-2/2029-06-14/
LOCATION:Penfield Tate II Municipal Building 1777 Broadway / SW corner of Broadway & Canyon\, Boulder\, 80302
CATEGORIES:Charity,Free Clothes,Free Hygiene Supplies,Laundry,Religious
ATTACH;FMTTYPE=image/png:https://safeboulder.org/wp-content/uploads/2022/12/grace-commons.png
ORGANIZER;CN="Grace Commons Church":MAILTO:questions@gracecommons.org
END:VEVENT
BEGIN:VEVENT
DTSTART;TZID=UTC:20290621T093000
DTEND;TZID=UTC:20290621T103000
DTSTAMP:20260422T231506
CREATED:20240904T013847Z
LAST-MODIFIED:20240904T013848Z
UID:10017214-1876728600-1876732200@safeboulder.org
SUMMARY:Deacon's Closet
DESCRIPTION:The Deacons’ Closet provides clothing and hygiene assistance to individuals and families in need. \n\n\n\nOur inventory includes: \n\n\n\n– Clothing– Personal care items \n\n\n\nLaundry services available before 9:30Or call 720-235-8520 to reserve in advance \n\n\n\nPenfield Tate II Municipal Building 1777 Broadway/ SW corner of Broadway & Canyon
URL:https://safeboulder.org/event/deacons-closet-2/2029-06-21/
LOCATION:Penfield Tate II Municipal Building 1777 Broadway / SW corner of Broadway & Canyon\, Boulder\, 80302
CATEGORIES:Charity,Free Clothes,Free Hygiene Supplies,Laundry,Religious
ATTACH;FMTTYPE=image/png:https://safeboulder.org/wp-content/uploads/2022/12/grace-commons.png
ORGANIZER;CN="Grace Commons Church":MAILTO:questions@gracecommons.org
END:VEVENT
BEGIN:VEVENT
DTSTART;TZID=UTC:20290628T093000
DTEND;TZID=UTC:20290628T103000
DTSTAMP:20260422T231506
CREATED:20240904T013847Z
LAST-MODIFIED:20240904T013848Z
UID:10017215-1877333400-1877337000@safeboulder.org
SUMMARY:Deacon's Closet
DESCRIPTION:The Deacons’ Closet provides clothing and hygiene assistance to individuals and families in need. \n\n\n\nOur inventory includes: \n\n\n\n– Clothing– Personal care items \n\n\n\nLaundry services available before 9:30Or call 720-235-8520 to reserve in advance \n\n\n\nPenfield Tate II Municipal Building 1777 Broadway/ SW corner of Broadway & Canyon
URL:https://safeboulder.org/event/deacons-closet-2/2029-06-28/
LOCATION:Penfield Tate II Municipal Building 1777 Broadway / SW corner of Broadway & Canyon\, Boulder\, 80302
CATEGORIES:Charity,Free Clothes,Free Hygiene Supplies,Laundry,Religious
ATTACH;FMTTYPE=image/png:https://safeboulder.org/wp-content/uploads/2022/12/grace-commons.png
ORGANIZER;CN="Grace Commons Church":MAILTO:questions@gracecommons.org
END:VEVENT
BEGIN:VEVENT
DTSTART;TZID=UTC:20290705T093000
DTEND;TZID=UTC:20290705T103000
DTSTAMP:20260422T231506
CREATED:20240904T013847Z
LAST-MODIFIED:20240904T013848Z
UID:10017216-1877938200-1877941800@safeboulder.org
SUMMARY:Deacon's Closet
DESCRIPTION:The Deacons’ Closet provides clothing and hygiene assistance to individuals and families in need. \n\n\n\nOur inventory includes: \n\n\n\n– Clothing– Personal care items \n\n\n\nLaundry services available before 9:30Or call 720-235-8520 to reserve in advance \n\n\n\nPenfield Tate II Municipal Building 1777 Broadway/ SW corner of Broadway & Canyon
URL:https://safeboulder.org/event/deacons-closet-2/2029-07-05/
LOCATION:Penfield Tate II Municipal Building 1777 Broadway / SW corner of Broadway & Canyon\, Boulder\, 80302
CATEGORIES:Charity,Free Clothes,Free Hygiene Supplies,Laundry,Religious
ATTACH;FMTTYPE=image/png:https://safeboulder.org/wp-content/uploads/2022/12/grace-commons.png
ORGANIZER;CN="Grace Commons Church":MAILTO:questions@gracecommons.org
END:VEVENT
BEGIN:VEVENT
DTSTART;TZID=UTC:20290712T093000
DTEND;TZID=UTC:20290712T103000
DTSTAMP:20260422T231506
CREATED:20240904T013847Z
LAST-MODIFIED:20240904T013848Z
UID:10017217-1878543000-1878546600@safeboulder.org
SUMMARY:Deacon's Closet
DESCRIPTION:The Deacons’ Closet provides clothing and hygiene assistance to individuals and families in need. \n\n\n\nOur inventory includes: \n\n\n\n– Clothing– Personal care items \n\n\n\nLaundry services available before 9:30Or call 720-235-8520 to reserve in advance \n\n\n\nPenfield Tate II Municipal Building 1777 Broadway/ SW corner of Broadway & Canyon
URL:https://safeboulder.org/event/deacons-closet-2/2029-07-12/
LOCATION:Penfield Tate II Municipal Building 1777 Broadway / SW corner of Broadway & Canyon\, Boulder\, 80302
CATEGORIES:Charity,Free Clothes,Free Hygiene Supplies,Laundry,Religious
ATTACH;FMTTYPE=image/png:https://safeboulder.org/wp-content/uploads/2022/12/grace-commons.png
ORGANIZER;CN="Grace Commons Church":MAILTO:questions@gracecommons.org
END:VEVENT
BEGIN:VEVENT
DTSTART;TZID=UTC:20290719T093000
DTEND;TZID=UTC:20290719T103000
DTSTAMP:20260422T231506
CREATED:20240904T013847Z
LAST-MODIFIED:20240904T013848Z
UID:10017218-1879147800-1879151400@safeboulder.org
SUMMARY:Deacon's Closet
DESCRIPTION:The Deacons’ Closet provides clothing and hygiene assistance to individuals and families in need. \n\n\n\nOur inventory includes: \n\n\n\n– Clothing– Personal care items \n\n\n\nLaundry services available before 9:30Or call 720-235-8520 to reserve in advance \n\n\n\nPenfield Tate II Municipal Building 1777 Broadway/ SW corner of Broadway & Canyon
URL:https://safeboulder.org/event/deacons-closet-2/2029-07-19/
LOCATION:Penfield Tate II Municipal Building 1777 Broadway / SW corner of Broadway & Canyon\, Boulder\, 80302
CATEGORIES:Charity,Free Clothes,Free Hygiene Supplies,Laundry,Religious
ATTACH;FMTTYPE=image/png:https://safeboulder.org/wp-content/uploads/2022/12/grace-commons.png
ORGANIZER;CN="Grace Commons Church":MAILTO:questions@gracecommons.org
END:VEVENT
BEGIN:VEVENT
DTSTART;TZID=UTC:20290726T093000
DTEND;TZID=UTC:20290726T103000
DTSTAMP:20260422T231506
CREATED:20240904T013847Z
LAST-MODIFIED:20240904T013848Z
UID:10017219-1879752600-1879756200@safeboulder.org
SUMMARY:Deacon's Closet
DESCRIPTION:The Deacons’ Closet provides clothing and hygiene assistance to individuals and families in need. \n\n\n\nOur inventory includes: \n\n\n\n– Clothing– Personal care items \n\n\n\nLaundry services available before 9:30Or call 720-235-8520 to reserve in advance \n\n\n\nPenfield Tate II Municipal Building 1777 Broadway/ SW corner of Broadway & Canyon
URL:https://safeboulder.org/event/deacons-closet-2/2029-07-26/
LOCATION:Penfield Tate II Municipal Building 1777 Broadway / SW corner of Broadway & Canyon\, Boulder\, 80302
CATEGORIES:Charity,Free Clothes,Free Hygiene Supplies,Laundry,Religious
ATTACH;FMTTYPE=image/png:https://safeboulder.org/wp-content/uploads/2022/12/grace-commons.png
ORGANIZER;CN="Grace Commons Church":MAILTO:questions@gracecommons.org
END:VEVENT
BEGIN:VEVENT
DTSTART;TZID=UTC:20290802T093000
DTEND;TZID=UTC:20290802T103000
DTSTAMP:20260422T231506
CREATED:20240904T013847Z
LAST-MODIFIED:20240904T013848Z
UID:10017220-1880357400-1880361000@safeboulder.org
SUMMARY:Deacon's Closet
DESCRIPTION:The Deacons’ Closet provides clothing and hygiene assistance to individuals and families in need. \n\n\n\nOur inventory includes: \n\n\n\n– Clothing– Personal care items \n\n\n\nLaundry services available before 9:30Or call 720-235-8520 to reserve in advance \n\n\n\nPenfield Tate II Municipal Building 1777 Broadway/ SW corner of Broadway & Canyon
URL:https://safeboulder.org/event/deacons-closet-2/2029-08-02/
LOCATION:Penfield Tate II Municipal Building 1777 Broadway / SW corner of Broadway & Canyon\, Boulder\, 80302
CATEGORIES:Charity,Free Clothes,Free Hygiene Supplies,Laundry,Religious
ATTACH;FMTTYPE=image/png:https://safeboulder.org/wp-content/uploads/2022/12/grace-commons.png
ORGANIZER;CN="Grace Commons Church":MAILTO:questions@gracecommons.org
END:VEVENT
BEGIN:VEVENT
DTSTART;TZID=UTC:20290809T093000
DTEND;TZID=UTC:20290809T103000
DTSTAMP:20260422T231506
CREATED:20240904T013847Z
LAST-MODIFIED:20240904T013848Z
UID:10017221-1880962200-1880965800@safeboulder.org
SUMMARY:Deacon's Closet
DESCRIPTION:The Deacons’ Closet provides clothing and hygiene assistance to individuals and families in need. \n\n\n\nOur inventory includes: \n\n\n\n– Clothing– Personal care items \n\n\n\nLaundry services available before 9:30Or call 720-235-8520 to reserve in advance \n\n\n\nPenfield Tate II Municipal Building 1777 Broadway/ SW corner of Broadway & Canyon
URL:https://safeboulder.org/event/deacons-closet-2/2029-08-09/
LOCATION:Penfield Tate II Municipal Building 1777 Broadway / SW corner of Broadway & Canyon\, Boulder\, 80302
CATEGORIES:Charity,Free Clothes,Free Hygiene Supplies,Laundry,Religious
ATTACH;FMTTYPE=image/png:https://safeboulder.org/wp-content/uploads/2022/12/grace-commons.png
ORGANIZER;CN="Grace Commons Church":MAILTO:questions@gracecommons.org
END:VEVENT
BEGIN:VEVENT
DTSTART;TZID=UTC:20290816T093000
DTEND;TZID=UTC:20290816T103000
DTSTAMP:20260422T231506
CREATED:20240904T013847Z
LAST-MODIFIED:20240904T013848Z
UID:10017222-1881567000-1881570600@safeboulder.org
SUMMARY:Deacon's Closet
DESCRIPTION:The Deacons’ Closet provides clothing and hygiene assistance to individuals and families in need. \n\n\n\nOur inventory includes: \n\n\n\n– Clothing– Personal care items \n\n\n\nLaundry services available before 9:30Or call 720-235-8520 to reserve in advance \n\n\n\nPenfield Tate II Municipal Building 1777 Broadway/ SW corner of Broadway & Canyon
URL:https://safeboulder.org/event/deacons-closet-2/2029-08-16/
LOCATION:Penfield Tate II Municipal Building 1777 Broadway / SW corner of Broadway & Canyon\, Boulder\, 80302
CATEGORIES:Charity,Free Clothes,Free Hygiene Supplies,Laundry,Religious
ATTACH;FMTTYPE=image/png:https://safeboulder.org/wp-content/uploads/2022/12/grace-commons.png
ORGANIZER;CN="Grace Commons Church":MAILTO:questions@gracecommons.org
END:VEVENT
BEGIN:VEVENT
DTSTART;TZID=UTC:20290823T093000
DTEND;TZID=UTC:20290823T103000
DTSTAMP:20260422T231506
CREATED:20240904T013847Z
LAST-MODIFIED:20240904T013848Z
UID:10017223-1882171800-1882175400@safeboulder.org
SUMMARY:Deacon's Closet
DESCRIPTION:The Deacons’ Closet provides clothing and hygiene assistance to individuals and families in need. \n\n\n\nOur inventory includes: \n\n\n\n– Clothing– Personal care items \n\n\n\nLaundry services available before 9:30Or call 720-235-8520 to reserve in advance \n\n\n\nPenfield Tate II Municipal Building 1777 Broadway/ SW corner of Broadway & Canyon
URL:https://safeboulder.org/event/deacons-closet-2/2029-08-23/
LOCATION:Penfield Tate II Municipal Building 1777 Broadway / SW corner of Broadway & Canyon\, Boulder\, 80302
CATEGORIES:Charity,Free Clothes,Free Hygiene Supplies,Laundry,Religious
ATTACH;FMTTYPE=image/png:https://safeboulder.org/wp-content/uploads/2022/12/grace-commons.png
ORGANIZER;CN="Grace Commons Church":MAILTO:questions@gracecommons.org
END:VEVENT
BEGIN:VEVENT
DTSTART;TZID=UTC:20290830T093000
DTEND;TZID=UTC:20290830T103000
DTSTAMP:20260422T231506
CREATED:20240904T013847Z
LAST-MODIFIED:20240904T013848Z
UID:10017224-1882776600-1882780200@safeboulder.org
SUMMARY:Deacon's Closet
DESCRIPTION:The Deacons’ Closet provides clothing and hygiene assistance to individuals and families in need. \n\n\n\nOur inventory includes: \n\n\n\n– Clothing– Personal care items \n\n\n\nLaundry services available before 9:30Or call 720-235-8520 to reserve in advance \n\n\n\nPenfield Tate II Municipal Building 1777 Broadway/ SW corner of Broadway & Canyon
URL:https://safeboulder.org/event/deacons-closet-2/2029-08-30/
LOCATION:Penfield Tate II Municipal Building 1777 Broadway / SW corner of Broadway & Canyon\, Boulder\, 80302
CATEGORIES:Charity,Free Clothes,Free Hygiene Supplies,Laundry,Religious
ATTACH;FMTTYPE=image/png:https://safeboulder.org/wp-content/uploads/2022/12/grace-commons.png
ORGANIZER;CN="Grace Commons Church":MAILTO:questions@gracecommons.org
END:VEVENT
END:VCALENDAR