BEGIN:VCALENDAR
VERSION:2.0
PRODID:-//SAFE Boulder - ECPv6.15.20//NONSGML v1.0//EN
CALSCALE:GREGORIAN
METHOD:PUBLISH
X-WR-CALNAME:SAFE Boulder
X-ORIGINAL-URL:https://safeboulder.org
X-WR-CALDESC:Events for SAFE Boulder
REFRESH-INTERVAL;VALUE=DURATION:PT1H
X-Robots-Tag:noindex
X-PUBLISHED-TTL:PT1H
BEGIN:VTIMEZONE
TZID:UTC
BEGIN:STANDARD
TZOFFSETFROM:+0000
TZOFFSETTO:+0000
TZNAME:UTC
DTSTART:20270101T000000
END:STANDARD
END:VTIMEZONE
BEGIN:VEVENT
DTSTART;TZID=UTC:20280521T170000
DTEND;TZID=UTC:20280521T180000
DTSTAMP:20260423T100708
CREATED:20221226T210620Z
LAST-MODIFIED:20230707T021129Z
UID:10007769-1842541200-1842544800@safeboulder.org
SUMMARY:Meals on The Street
DESCRIPTION:We are one of the very few Boulder County nonprofits that takes hot meals and critically needed clothing directly to where indigent people live. Our mobile trailers are fully stocked with food and clothing.
URL:https://safeboulder.org/event/meals-on-the-street/2028-05-21/
LOCATION:“Justice” Center Parking Lot\, 1777 6th St\, Boulder\, Colorado\, 80302\, United States
CATEGORIES:Charity,Free Clothes,Free Meal,Secular
ATTACH;FMTTYPE=image/png:https://safeboulder.org/wp-content/uploads/2022/12/New-FINAL-LOGO-red-1.png
ORGANIZER;CN="Colorado FriendShip":MAILTO:info@coloradofriendship.org
END:VEVENT
BEGIN:VEVENT
DTSTART;TZID=UTC:20280528T170000
DTEND;TZID=UTC:20280528T180000
DTSTAMP:20260423T100708
CREATED:20221226T210620Z
LAST-MODIFIED:20230707T021129Z
UID:10007770-1843146000-1843149600@safeboulder.org
SUMMARY:Meals on The Street
DESCRIPTION:We are one of the very few Boulder County nonprofits that takes hot meals and critically needed clothing directly to where indigent people live. Our mobile trailers are fully stocked with food and clothing.
URL:https://safeboulder.org/event/meals-on-the-street/2028-05-28/
LOCATION:“Justice” Center Parking Lot\, 1777 6th St\, Boulder\, Colorado\, 80302\, United States
CATEGORIES:Charity,Free Clothes,Free Meal,Secular
ATTACH;FMTTYPE=image/png:https://safeboulder.org/wp-content/uploads/2022/12/New-FINAL-LOGO-red-1.png
ORGANIZER;CN="Colorado FriendShip":MAILTO:info@coloradofriendship.org
END:VEVENT
BEGIN:VEVENT
DTSTART;TZID=UTC:20280604T170000
DTEND;TZID=UTC:20280604T180000
DTSTAMP:20260423T100708
CREATED:20221226T210620Z
LAST-MODIFIED:20230707T021129Z
UID:10007771-1843750800-1843754400@safeboulder.org
SUMMARY:Meals on The Street
DESCRIPTION:We are one of the very few Boulder County nonprofits that takes hot meals and critically needed clothing directly to where indigent people live. Our mobile trailers are fully stocked with food and clothing.
URL:https://safeboulder.org/event/meals-on-the-street/2028-06-04/
LOCATION:“Justice” Center Parking Lot\, 1777 6th St\, Boulder\, Colorado\, 80302\, United States
CATEGORIES:Charity,Free Clothes,Free Meal,Secular
ATTACH;FMTTYPE=image/png:https://safeboulder.org/wp-content/uploads/2022/12/New-FINAL-LOGO-red-1.png
ORGANIZER;CN="Colorado FriendShip":MAILTO:info@coloradofriendship.org
END:VEVENT
BEGIN:VEVENT
DTSTART;TZID=UTC:20280611T170000
DTEND;TZID=UTC:20280611T180000
DTSTAMP:20260423T100708
CREATED:20221226T210620Z
LAST-MODIFIED:20230707T021129Z
UID:10007772-1844355600-1844359200@safeboulder.org
SUMMARY:Meals on The Street
DESCRIPTION:We are one of the very few Boulder County nonprofits that takes hot meals and critically needed clothing directly to where indigent people live. Our mobile trailers are fully stocked with food and clothing.
URL:https://safeboulder.org/event/meals-on-the-street/2028-06-11/
LOCATION:“Justice” Center Parking Lot\, 1777 6th St\, Boulder\, Colorado\, 80302\, United States
CATEGORIES:Charity,Free Clothes,Free Meal,Secular
ATTACH;FMTTYPE=image/png:https://safeboulder.org/wp-content/uploads/2022/12/New-FINAL-LOGO-red-1.png
ORGANIZER;CN="Colorado FriendShip":MAILTO:info@coloradofriendship.org
END:VEVENT
BEGIN:VEVENT
DTSTART;TZID=UTC:20280618T170000
DTEND;TZID=UTC:20280618T180000
DTSTAMP:20260423T100708
CREATED:20221226T210620Z
LAST-MODIFIED:20230707T021129Z
UID:10007773-1844960400-1844964000@safeboulder.org
SUMMARY:Meals on The Street
DESCRIPTION:We are one of the very few Boulder County nonprofits that takes hot meals and critically needed clothing directly to where indigent people live. Our mobile trailers are fully stocked with food and clothing.
URL:https://safeboulder.org/event/meals-on-the-street/2028-06-18/
LOCATION:“Justice” Center Parking Lot\, 1777 6th St\, Boulder\, Colorado\, 80302\, United States
CATEGORIES:Charity,Free Clothes,Free Meal,Secular
ATTACH;FMTTYPE=image/png:https://safeboulder.org/wp-content/uploads/2022/12/New-FINAL-LOGO-red-1.png
ORGANIZER;CN="Colorado FriendShip":MAILTO:info@coloradofriendship.org
END:VEVENT
BEGIN:VEVENT
DTSTART;TZID=UTC:20280625T170000
DTEND;TZID=UTC:20280625T180000
DTSTAMP:20260423T100708
CREATED:20221226T210620Z
LAST-MODIFIED:20230707T021129Z
UID:10007774-1845565200-1845568800@safeboulder.org
SUMMARY:Meals on The Street
DESCRIPTION:We are one of the very few Boulder County nonprofits that takes hot meals and critically needed clothing directly to where indigent people live. Our mobile trailers are fully stocked with food and clothing.
URL:https://safeboulder.org/event/meals-on-the-street/2028-06-25/
LOCATION:“Justice” Center Parking Lot\, 1777 6th St\, Boulder\, Colorado\, 80302\, United States
CATEGORIES:Charity,Free Clothes,Free Meal,Secular
ATTACH;FMTTYPE=image/png:https://safeboulder.org/wp-content/uploads/2022/12/New-FINAL-LOGO-red-1.png
ORGANIZER;CN="Colorado FriendShip":MAILTO:info@coloradofriendship.org
END:VEVENT
BEGIN:VEVENT
DTSTART;TZID=UTC:20280702T170000
DTEND;TZID=UTC:20280702T180000
DTSTAMP:20260423T100708
CREATED:20221226T210620Z
LAST-MODIFIED:20230707T021129Z
UID:10007775-1846170000-1846173600@safeboulder.org
SUMMARY:Meals on The Street
DESCRIPTION:We are one of the very few Boulder County nonprofits that takes hot meals and critically needed clothing directly to where indigent people live. Our mobile trailers are fully stocked with food and clothing.
URL:https://safeboulder.org/event/meals-on-the-street/2028-07-02/
LOCATION:“Justice” Center Parking Lot\, 1777 6th St\, Boulder\, Colorado\, 80302\, United States
CATEGORIES:Charity,Free Clothes,Free Meal,Secular
ATTACH;FMTTYPE=image/png:https://safeboulder.org/wp-content/uploads/2022/12/New-FINAL-LOGO-red-1.png
ORGANIZER;CN="Colorado FriendShip":MAILTO:info@coloradofriendship.org
END:VEVENT
END:VCALENDAR