BEGIN:VCALENDAR
VERSION:2.0
PRODID:-//SAFE Boulder - ECPv6.15.20//NONSGML v1.0//EN
CALSCALE:GREGORIAN
METHOD:PUBLISH
X-WR-CALNAME:SAFE Boulder
X-ORIGINAL-URL:https://safeboulder.org
X-WR-CALDESC:Events for SAFE Boulder
REFRESH-INTERVAL;VALUE=DURATION:PT1H
X-Robots-Tag:noindex
X-PUBLISHED-TTL:PT1H
BEGIN:VTIMEZONE
TZID:UTC
BEGIN:STANDARD
TZOFFSETFROM:+0000
TZOFFSETTO:+0000
TZNAME:UTC
DTSTART:20260101T000000
END:STANDARD
END:VTIMEZONE
BEGIN:VEVENT
DTSTART;TZID=UTC:20270802T121500
DTEND;TZID=UTC:20270802T133000
DTSTAMP:20260424T104026
CREATED:20230704T220138Z
LAST-MODIFIED:20250515T004139Z
UID:10018177-1817208900-1817213400@safeboulder.org
SUMMARY:Hot Soups\, Sandwiches\, & Desserts
DESCRIPTION:Boulder Bandshell & along Boulder Creek \n\n\n\nWe deliver the food to the Boulder Bandshell and adjourning park just south of Canyon Boulevard and West of 13th Street. We also distribute hard-boiled eggs\, fruit\, bottled water\, hand warmers\, hand wipes\, toiletries\, hand sanitizers\, gloves\, socks and hats.
URL:https://safeboulder.org/event/hot-soups-sandwiches-desserts-2/2027-08-02/
LOCATION:Boulder Bandshell\, 1212 Canyon Blvd\, Boulder\, Colorado\, 80302\, United States
CATEGORIES:Charity,Free Meal,Secular
ATTACH;FMTTYPE=image/jpeg:https://safeboulder.org/wp-content/uploads/2022/11/image08.jpg
ORGANIZER;CN="Circle of Love":MAILTO:circleoflove80026@gmail.com
END:VEVENT
BEGIN:VEVENT
DTSTART;TZID=UTC:20270804T121500
DTEND;TZID=UTC:20270804T133000
DTSTAMP:20260424T104026
CREATED:20230704T220138Z
LAST-MODIFIED:20250515T004139Z
UID:10021831-1817381700-1817386200@safeboulder.org
SUMMARY:Hot Soups\, Sandwiches\, & Desserts
DESCRIPTION:Boulder Bandshell & along Boulder Creek \n\n\n\nWe deliver the food to the Boulder Bandshell and adjourning park just south of Canyon Boulevard and West of 13th Street. We also distribute hard-boiled eggs\, fruit\, bottled water\, hand warmers\, hand wipes\, toiletries\, hand sanitizers\, gloves\, socks and hats.
URL:https://safeboulder.org/event/hot-soups-sandwiches-desserts-2/2027-08-04/
LOCATION:Boulder Bandshell\, 1212 Canyon Blvd\, Boulder\, Colorado\, 80302\, United States
CATEGORIES:Charity,Free Meal,Secular
ATTACH;FMTTYPE=image/jpeg:https://safeboulder.org/wp-content/uploads/2022/11/image08.jpg
ORGANIZER;CN="Circle of Love":MAILTO:circleoflove80026@gmail.com
END:VEVENT
BEGIN:VEVENT
DTSTART;TZID=UTC:20270809T121500
DTEND;TZID=UTC:20270809T133000
DTSTAMP:20260424T104026
CREATED:20230704T220138Z
LAST-MODIFIED:20250515T004139Z
UID:10018178-1817813700-1817818200@safeboulder.org
SUMMARY:Hot Soups\, Sandwiches\, & Desserts
DESCRIPTION:Boulder Bandshell & along Boulder Creek \n\n\n\nWe deliver the food to the Boulder Bandshell and adjourning park just south of Canyon Boulevard and West of 13th Street. We also distribute hard-boiled eggs\, fruit\, bottled water\, hand warmers\, hand wipes\, toiletries\, hand sanitizers\, gloves\, socks and hats.
URL:https://safeboulder.org/event/hot-soups-sandwiches-desserts-2/2027-08-09/
LOCATION:Boulder Bandshell\, 1212 Canyon Blvd\, Boulder\, Colorado\, 80302\, United States
CATEGORIES:Charity,Free Meal,Secular
ATTACH;FMTTYPE=image/jpeg:https://safeboulder.org/wp-content/uploads/2022/11/image08.jpg
ORGANIZER;CN="Circle of Love":MAILTO:circleoflove80026@gmail.com
END:VEVENT
BEGIN:VEVENT
DTSTART;TZID=UTC:20270811T121500
DTEND;TZID=UTC:20270811T133000
DTSTAMP:20260424T104026
CREATED:20230704T220138Z
LAST-MODIFIED:20250515T004139Z
UID:10021832-1817986500-1817991000@safeboulder.org
SUMMARY:Hot Soups\, Sandwiches\, & Desserts
DESCRIPTION:Boulder Bandshell & along Boulder Creek \n\n\n\nWe deliver the food to the Boulder Bandshell and adjourning park just south of Canyon Boulevard and West of 13th Street. We also distribute hard-boiled eggs\, fruit\, bottled water\, hand warmers\, hand wipes\, toiletries\, hand sanitizers\, gloves\, socks and hats.
URL:https://safeboulder.org/event/hot-soups-sandwiches-desserts-2/2027-08-11/
LOCATION:Boulder Bandshell\, 1212 Canyon Blvd\, Boulder\, Colorado\, 80302\, United States
CATEGORIES:Charity,Free Meal,Secular
ATTACH;FMTTYPE=image/jpeg:https://safeboulder.org/wp-content/uploads/2022/11/image08.jpg
ORGANIZER;CN="Circle of Love":MAILTO:circleoflove80026@gmail.com
END:VEVENT
BEGIN:VEVENT
DTSTART;TZID=UTC:20270816T121500
DTEND;TZID=UTC:20270816T133000
DTSTAMP:20260424T104026
CREATED:20230704T220138Z
LAST-MODIFIED:20250515T004139Z
UID:10018179-1818418500-1818423000@safeboulder.org
SUMMARY:Hot Soups\, Sandwiches\, & Desserts
DESCRIPTION:Boulder Bandshell & along Boulder Creek \n\n\n\nWe deliver the food to the Boulder Bandshell and adjourning park just south of Canyon Boulevard and West of 13th Street. We also distribute hard-boiled eggs\, fruit\, bottled water\, hand warmers\, hand wipes\, toiletries\, hand sanitizers\, gloves\, socks and hats.
URL:https://safeboulder.org/event/hot-soups-sandwiches-desserts-2/2027-08-16/
LOCATION:Boulder Bandshell\, 1212 Canyon Blvd\, Boulder\, Colorado\, 80302\, United States
CATEGORIES:Charity,Free Meal,Secular
ATTACH;FMTTYPE=image/jpeg:https://safeboulder.org/wp-content/uploads/2022/11/image08.jpg
ORGANIZER;CN="Circle of Love":MAILTO:circleoflove80026@gmail.com
END:VEVENT
BEGIN:VEVENT
DTSTART;TZID=UTC:20270818T121500
DTEND;TZID=UTC:20270818T133000
DTSTAMP:20260424T104026
CREATED:20230704T220138Z
LAST-MODIFIED:20250515T004139Z
UID:10021833-1818591300-1818595800@safeboulder.org
SUMMARY:Hot Soups\, Sandwiches\, & Desserts
DESCRIPTION:Boulder Bandshell & along Boulder Creek \n\n\n\nWe deliver the food to the Boulder Bandshell and adjourning park just south of Canyon Boulevard and West of 13th Street. We also distribute hard-boiled eggs\, fruit\, bottled water\, hand warmers\, hand wipes\, toiletries\, hand sanitizers\, gloves\, socks and hats.
URL:https://safeboulder.org/event/hot-soups-sandwiches-desserts-2/2027-08-18/
LOCATION:Boulder Bandshell\, 1212 Canyon Blvd\, Boulder\, Colorado\, 80302\, United States
CATEGORIES:Charity,Free Meal,Secular
ATTACH;FMTTYPE=image/jpeg:https://safeboulder.org/wp-content/uploads/2022/11/image08.jpg
ORGANIZER;CN="Circle of Love":MAILTO:circleoflove80026@gmail.com
END:VEVENT
BEGIN:VEVENT
DTSTART;TZID=UTC:20270823T121500
DTEND;TZID=UTC:20270823T133000
DTSTAMP:20260424T104026
CREATED:20230704T220138Z
LAST-MODIFIED:20250515T004139Z
UID:10018180-1819023300-1819027800@safeboulder.org
SUMMARY:Hot Soups\, Sandwiches\, & Desserts
DESCRIPTION:Boulder Bandshell & along Boulder Creek \n\n\n\nWe deliver the food to the Boulder Bandshell and adjourning park just south of Canyon Boulevard and West of 13th Street. We also distribute hard-boiled eggs\, fruit\, bottled water\, hand warmers\, hand wipes\, toiletries\, hand sanitizers\, gloves\, socks and hats.
URL:https://safeboulder.org/event/hot-soups-sandwiches-desserts-2/2027-08-23/
LOCATION:Boulder Bandshell\, 1212 Canyon Blvd\, Boulder\, Colorado\, 80302\, United States
CATEGORIES:Charity,Free Meal,Secular
ATTACH;FMTTYPE=image/jpeg:https://safeboulder.org/wp-content/uploads/2022/11/image08.jpg
ORGANIZER;CN="Circle of Love":MAILTO:circleoflove80026@gmail.com
END:VEVENT
BEGIN:VEVENT
DTSTART;TZID=UTC:20270825T121500
DTEND;TZID=UTC:20270825T133000
DTSTAMP:20260424T104026
CREATED:20230704T220138Z
LAST-MODIFIED:20250515T004139Z
UID:10021834-1819196100-1819200600@safeboulder.org
SUMMARY:Hot Soups\, Sandwiches\, & Desserts
DESCRIPTION:Boulder Bandshell & along Boulder Creek \n\n\n\nWe deliver the food to the Boulder Bandshell and adjourning park just south of Canyon Boulevard and West of 13th Street. We also distribute hard-boiled eggs\, fruit\, bottled water\, hand warmers\, hand wipes\, toiletries\, hand sanitizers\, gloves\, socks and hats.
URL:https://safeboulder.org/event/hot-soups-sandwiches-desserts-2/2027-08-25/
LOCATION:Boulder Bandshell\, 1212 Canyon Blvd\, Boulder\, Colorado\, 80302\, United States
CATEGORIES:Charity,Free Meal,Secular
ATTACH;FMTTYPE=image/jpeg:https://safeboulder.org/wp-content/uploads/2022/11/image08.jpg
ORGANIZER;CN="Circle of Love":MAILTO:circleoflove80026@gmail.com
END:VEVENT
BEGIN:VEVENT
DTSTART;TZID=UTC:20270830T121500
DTEND;TZID=UTC:20270830T133000
DTSTAMP:20260424T104026
CREATED:20230704T220138Z
LAST-MODIFIED:20250515T004139Z
UID:10018181-1819628100-1819632600@safeboulder.org
SUMMARY:Hot Soups\, Sandwiches\, & Desserts
DESCRIPTION:Boulder Bandshell & along Boulder Creek \n\n\n\nWe deliver the food to the Boulder Bandshell and adjourning park just south of Canyon Boulevard and West of 13th Street. We also distribute hard-boiled eggs\, fruit\, bottled water\, hand warmers\, hand wipes\, toiletries\, hand sanitizers\, gloves\, socks and hats.
URL:https://safeboulder.org/event/hot-soups-sandwiches-desserts-2/2027-08-30/
LOCATION:Boulder Bandshell\, 1212 Canyon Blvd\, Boulder\, Colorado\, 80302\, United States
CATEGORIES:Charity,Free Meal,Secular
ATTACH;FMTTYPE=image/jpeg:https://safeboulder.org/wp-content/uploads/2022/11/image08.jpg
ORGANIZER;CN="Circle of Love":MAILTO:circleoflove80026@gmail.com
END:VEVENT
BEGIN:VEVENT
DTSTART;TZID=UTC:20270901T121500
DTEND;TZID=UTC:20270901T133000
DTSTAMP:20260424T104026
CREATED:20230704T220138Z
LAST-MODIFIED:20250515T004139Z
UID:10021835-1819800900-1819805400@safeboulder.org
SUMMARY:Hot Soups\, Sandwiches\, & Desserts
DESCRIPTION:Boulder Bandshell & along Boulder Creek \n\n\n\nWe deliver the food to the Boulder Bandshell and adjourning park just south of Canyon Boulevard and West of 13th Street. We also distribute hard-boiled eggs\, fruit\, bottled water\, hand warmers\, hand wipes\, toiletries\, hand sanitizers\, gloves\, socks and hats.
URL:https://safeboulder.org/event/hot-soups-sandwiches-desserts-2/2027-09-01/
LOCATION:Boulder Bandshell\, 1212 Canyon Blvd\, Boulder\, Colorado\, 80302\, United States
CATEGORIES:Charity,Free Meal,Secular
ATTACH;FMTTYPE=image/jpeg:https://safeboulder.org/wp-content/uploads/2022/11/image08.jpg
ORGANIZER;CN="Circle of Love":MAILTO:circleoflove80026@gmail.com
END:VEVENT
BEGIN:VEVENT
DTSTART;TZID=UTC:20270906T121500
DTEND;TZID=UTC:20270906T133000
DTSTAMP:20260424T104026
CREATED:20230704T220138Z
LAST-MODIFIED:20250515T004139Z
UID:10018182-1820232900-1820237400@safeboulder.org
SUMMARY:Hot Soups\, Sandwiches\, & Desserts
DESCRIPTION:Boulder Bandshell & along Boulder Creek \n\n\n\nWe deliver the food to the Boulder Bandshell and adjourning park just south of Canyon Boulevard and West of 13th Street. We also distribute hard-boiled eggs\, fruit\, bottled water\, hand warmers\, hand wipes\, toiletries\, hand sanitizers\, gloves\, socks and hats.
URL:https://safeboulder.org/event/hot-soups-sandwiches-desserts-2/2027-09-06/
LOCATION:Boulder Bandshell\, 1212 Canyon Blvd\, Boulder\, Colorado\, 80302\, United States
CATEGORIES:Charity,Free Meal,Secular
ATTACH;FMTTYPE=image/jpeg:https://safeboulder.org/wp-content/uploads/2022/11/image08.jpg
ORGANIZER;CN="Circle of Love":MAILTO:circleoflove80026@gmail.com
END:VEVENT
BEGIN:VEVENT
DTSTART;TZID=UTC:20270908T121500
DTEND;TZID=UTC:20270908T133000
DTSTAMP:20260424T104026
CREATED:20230704T220138Z
LAST-MODIFIED:20250515T004139Z
UID:10021836-1820405700-1820410200@safeboulder.org
SUMMARY:Hot Soups\, Sandwiches\, & Desserts
DESCRIPTION:Boulder Bandshell & along Boulder Creek \n\n\n\nWe deliver the food to the Boulder Bandshell and adjourning park just south of Canyon Boulevard and West of 13th Street. We also distribute hard-boiled eggs\, fruit\, bottled water\, hand warmers\, hand wipes\, toiletries\, hand sanitizers\, gloves\, socks and hats.
URL:https://safeboulder.org/event/hot-soups-sandwiches-desserts-2/2027-09-08/
LOCATION:Boulder Bandshell\, 1212 Canyon Blvd\, Boulder\, Colorado\, 80302\, United States
CATEGORIES:Charity,Free Meal,Secular
ATTACH;FMTTYPE=image/jpeg:https://safeboulder.org/wp-content/uploads/2022/11/image08.jpg
ORGANIZER;CN="Circle of Love":MAILTO:circleoflove80026@gmail.com
END:VEVENT
BEGIN:VEVENT
DTSTART;TZID=UTC:20270913T121500
DTEND;TZID=UTC:20270913T133000
DTSTAMP:20260424T104026
CREATED:20230704T220138Z
LAST-MODIFIED:20250515T004139Z
UID:10018183-1820837700-1820842200@safeboulder.org
SUMMARY:Hot Soups\, Sandwiches\, & Desserts
DESCRIPTION:Boulder Bandshell & along Boulder Creek \n\n\n\nWe deliver the food to the Boulder Bandshell and adjourning park just south of Canyon Boulevard and West of 13th Street. We also distribute hard-boiled eggs\, fruit\, bottled water\, hand warmers\, hand wipes\, toiletries\, hand sanitizers\, gloves\, socks and hats.
URL:https://safeboulder.org/event/hot-soups-sandwiches-desserts-2/2027-09-13/
LOCATION:Boulder Bandshell\, 1212 Canyon Blvd\, Boulder\, Colorado\, 80302\, United States
CATEGORIES:Charity,Free Meal,Secular
ATTACH;FMTTYPE=image/jpeg:https://safeboulder.org/wp-content/uploads/2022/11/image08.jpg
ORGANIZER;CN="Circle of Love":MAILTO:circleoflove80026@gmail.com
END:VEVENT
BEGIN:VEVENT
DTSTART;TZID=UTC:20270915T121500
DTEND;TZID=UTC:20270915T133000
DTSTAMP:20260424T104026
CREATED:20230704T220138Z
LAST-MODIFIED:20250515T004139Z
UID:10021837-1821010500-1821015000@safeboulder.org
SUMMARY:Hot Soups\, Sandwiches\, & Desserts
DESCRIPTION:Boulder Bandshell & along Boulder Creek \n\n\n\nWe deliver the food to the Boulder Bandshell and adjourning park just south of Canyon Boulevard and West of 13th Street. We also distribute hard-boiled eggs\, fruit\, bottled water\, hand warmers\, hand wipes\, toiletries\, hand sanitizers\, gloves\, socks and hats.
URL:https://safeboulder.org/event/hot-soups-sandwiches-desserts-2/2027-09-15/
LOCATION:Boulder Bandshell\, 1212 Canyon Blvd\, Boulder\, Colorado\, 80302\, United States
CATEGORIES:Charity,Free Meal,Secular
ATTACH;FMTTYPE=image/jpeg:https://safeboulder.org/wp-content/uploads/2022/11/image08.jpg
ORGANIZER;CN="Circle of Love":MAILTO:circleoflove80026@gmail.com
END:VEVENT
BEGIN:VEVENT
DTSTART;TZID=UTC:20270920T121500
DTEND;TZID=UTC:20270920T133000
DTSTAMP:20260424T104026
CREATED:20230704T220138Z
LAST-MODIFIED:20250515T004139Z
UID:10018184-1821442500-1821447000@safeboulder.org
SUMMARY:Hot Soups\, Sandwiches\, & Desserts
DESCRIPTION:Boulder Bandshell & along Boulder Creek \n\n\n\nWe deliver the food to the Boulder Bandshell and adjourning park just south of Canyon Boulevard and West of 13th Street. We also distribute hard-boiled eggs\, fruit\, bottled water\, hand warmers\, hand wipes\, toiletries\, hand sanitizers\, gloves\, socks and hats.
URL:https://safeboulder.org/event/hot-soups-sandwiches-desserts-2/2027-09-20/
LOCATION:Boulder Bandshell\, 1212 Canyon Blvd\, Boulder\, Colorado\, 80302\, United States
CATEGORIES:Charity,Free Meal,Secular
ATTACH;FMTTYPE=image/jpeg:https://safeboulder.org/wp-content/uploads/2022/11/image08.jpg
ORGANIZER;CN="Circle of Love":MAILTO:circleoflove80026@gmail.com
END:VEVENT
BEGIN:VEVENT
DTSTART;TZID=UTC:20270922T121500
DTEND;TZID=UTC:20270922T133000
DTSTAMP:20260424T104026
CREATED:20230704T220138Z
LAST-MODIFIED:20250515T004139Z
UID:10021838-1821615300-1821619800@safeboulder.org
SUMMARY:Hot Soups\, Sandwiches\, & Desserts
DESCRIPTION:Boulder Bandshell & along Boulder Creek \n\n\n\nWe deliver the food to the Boulder Bandshell and adjourning park just south of Canyon Boulevard and West of 13th Street. We also distribute hard-boiled eggs\, fruit\, bottled water\, hand warmers\, hand wipes\, toiletries\, hand sanitizers\, gloves\, socks and hats.
URL:https://safeboulder.org/event/hot-soups-sandwiches-desserts-2/2027-09-22/
LOCATION:Boulder Bandshell\, 1212 Canyon Blvd\, Boulder\, Colorado\, 80302\, United States
CATEGORIES:Charity,Free Meal,Secular
ATTACH;FMTTYPE=image/jpeg:https://safeboulder.org/wp-content/uploads/2022/11/image08.jpg
ORGANIZER;CN="Circle of Love":MAILTO:circleoflove80026@gmail.com
END:VEVENT
BEGIN:VEVENT
DTSTART;TZID=UTC:20270927T121500
DTEND;TZID=UTC:20270927T133000
DTSTAMP:20260424T104026
CREATED:20230704T220138Z
LAST-MODIFIED:20250515T004139Z
UID:10018185-1822047300-1822051800@safeboulder.org
SUMMARY:Hot Soups\, Sandwiches\, & Desserts
DESCRIPTION:Boulder Bandshell & along Boulder Creek \n\n\n\nWe deliver the food to the Boulder Bandshell and adjourning park just south of Canyon Boulevard and West of 13th Street. We also distribute hard-boiled eggs\, fruit\, bottled water\, hand warmers\, hand wipes\, toiletries\, hand sanitizers\, gloves\, socks and hats.
URL:https://safeboulder.org/event/hot-soups-sandwiches-desserts-2/2027-09-27/
LOCATION:Boulder Bandshell\, 1212 Canyon Blvd\, Boulder\, Colorado\, 80302\, United States
CATEGORIES:Charity,Free Meal,Secular
ATTACH;FMTTYPE=image/jpeg:https://safeboulder.org/wp-content/uploads/2022/11/image08.jpg
ORGANIZER;CN="Circle of Love":MAILTO:circleoflove80026@gmail.com
END:VEVENT
BEGIN:VEVENT
DTSTART;TZID=UTC:20270929T121500
DTEND;TZID=UTC:20270929T133000
DTSTAMP:20260424T104026
CREATED:20230704T220138Z
LAST-MODIFIED:20250515T004139Z
UID:10021839-1822220100-1822224600@safeboulder.org
SUMMARY:Hot Soups\, Sandwiches\, & Desserts
DESCRIPTION:Boulder Bandshell & along Boulder Creek \n\n\n\nWe deliver the food to the Boulder Bandshell and adjourning park just south of Canyon Boulevard and West of 13th Street. We also distribute hard-boiled eggs\, fruit\, bottled water\, hand warmers\, hand wipes\, toiletries\, hand sanitizers\, gloves\, socks and hats.
URL:https://safeboulder.org/event/hot-soups-sandwiches-desserts-2/2027-09-29/
LOCATION:Boulder Bandshell\, 1212 Canyon Blvd\, Boulder\, Colorado\, 80302\, United States
CATEGORIES:Charity,Free Meal,Secular
ATTACH;FMTTYPE=image/jpeg:https://safeboulder.org/wp-content/uploads/2022/11/image08.jpg
ORGANIZER;CN="Circle of Love":MAILTO:circleoflove80026@gmail.com
END:VEVENT
BEGIN:VEVENT
DTSTART;TZID=UTC:20271004T121500
DTEND;TZID=UTC:20271004T133000
DTSTAMP:20260424T104026
CREATED:20230704T220138Z
LAST-MODIFIED:20250515T004139Z
UID:10018186-1822652100-1822656600@safeboulder.org
SUMMARY:Hot Soups\, Sandwiches\, & Desserts
DESCRIPTION:Boulder Bandshell & along Boulder Creek \n\n\n\nWe deliver the food to the Boulder Bandshell and adjourning park just south of Canyon Boulevard and West of 13th Street. We also distribute hard-boiled eggs\, fruit\, bottled water\, hand warmers\, hand wipes\, toiletries\, hand sanitizers\, gloves\, socks and hats.
URL:https://safeboulder.org/event/hot-soups-sandwiches-desserts-2/2027-10-04/
LOCATION:Boulder Bandshell\, 1212 Canyon Blvd\, Boulder\, Colorado\, 80302\, United States
CATEGORIES:Charity,Free Meal,Secular
ATTACH;FMTTYPE=image/jpeg:https://safeboulder.org/wp-content/uploads/2022/11/image08.jpg
ORGANIZER;CN="Circle of Love":MAILTO:circleoflove80026@gmail.com
END:VEVENT
BEGIN:VEVENT
DTSTART;TZID=UTC:20271006T121500
DTEND;TZID=UTC:20271006T133000
DTSTAMP:20260424T104026
CREATED:20230704T220138Z
LAST-MODIFIED:20250515T004139Z
UID:10021840-1822824900-1822829400@safeboulder.org
SUMMARY:Hot Soups\, Sandwiches\, & Desserts
DESCRIPTION:Boulder Bandshell & along Boulder Creek \n\n\n\nWe deliver the food to the Boulder Bandshell and adjourning park just south of Canyon Boulevard and West of 13th Street. We also distribute hard-boiled eggs\, fruit\, bottled water\, hand warmers\, hand wipes\, toiletries\, hand sanitizers\, gloves\, socks and hats.
URL:https://safeboulder.org/event/hot-soups-sandwiches-desserts-2/2027-10-06/
LOCATION:Boulder Bandshell\, 1212 Canyon Blvd\, Boulder\, Colorado\, 80302\, United States
CATEGORIES:Charity,Free Meal,Secular
ATTACH;FMTTYPE=image/jpeg:https://safeboulder.org/wp-content/uploads/2022/11/image08.jpg
ORGANIZER;CN="Circle of Love":MAILTO:circleoflove80026@gmail.com
END:VEVENT
BEGIN:VEVENT
DTSTART;TZID=UTC:20271011T121500
DTEND;TZID=UTC:20271011T133000
DTSTAMP:20260424T104026
CREATED:20230704T220138Z
LAST-MODIFIED:20250515T004139Z
UID:10018187-1823256900-1823261400@safeboulder.org
SUMMARY:Hot Soups\, Sandwiches\, & Desserts
DESCRIPTION:Boulder Bandshell & along Boulder Creek \n\n\n\nWe deliver the food to the Boulder Bandshell and adjourning park just south of Canyon Boulevard and West of 13th Street. We also distribute hard-boiled eggs\, fruit\, bottled water\, hand warmers\, hand wipes\, toiletries\, hand sanitizers\, gloves\, socks and hats.
URL:https://safeboulder.org/event/hot-soups-sandwiches-desserts-2/2027-10-11/
LOCATION:Boulder Bandshell\, 1212 Canyon Blvd\, Boulder\, Colorado\, 80302\, United States
CATEGORIES:Charity,Free Meal,Secular
ATTACH;FMTTYPE=image/jpeg:https://safeboulder.org/wp-content/uploads/2022/11/image08.jpg
ORGANIZER;CN="Circle of Love":MAILTO:circleoflove80026@gmail.com
END:VEVENT
BEGIN:VEVENT
DTSTART;TZID=UTC:20271013T121500
DTEND;TZID=UTC:20271013T133000
DTSTAMP:20260424T104026
CREATED:20230704T220138Z
LAST-MODIFIED:20250515T004139Z
UID:10021841-1823429700-1823434200@safeboulder.org
SUMMARY:Hot Soups\, Sandwiches\, & Desserts
DESCRIPTION:Boulder Bandshell & along Boulder Creek \n\n\n\nWe deliver the food to the Boulder Bandshell and adjourning park just south of Canyon Boulevard and West of 13th Street. We also distribute hard-boiled eggs\, fruit\, bottled water\, hand warmers\, hand wipes\, toiletries\, hand sanitizers\, gloves\, socks and hats.
URL:https://safeboulder.org/event/hot-soups-sandwiches-desserts-2/2027-10-13/
LOCATION:Boulder Bandshell\, 1212 Canyon Blvd\, Boulder\, Colorado\, 80302\, United States
CATEGORIES:Charity,Free Meal,Secular
ATTACH;FMTTYPE=image/jpeg:https://safeboulder.org/wp-content/uploads/2022/11/image08.jpg
ORGANIZER;CN="Circle of Love":MAILTO:circleoflove80026@gmail.com
END:VEVENT
BEGIN:VEVENT
DTSTART;TZID=UTC:20271018T121500
DTEND;TZID=UTC:20271018T133000
DTSTAMP:20260424T104026
CREATED:20230704T220138Z
LAST-MODIFIED:20250515T004139Z
UID:10018188-1823861700-1823866200@safeboulder.org
SUMMARY:Hot Soups\, Sandwiches\, & Desserts
DESCRIPTION:Boulder Bandshell & along Boulder Creek \n\n\n\nWe deliver the food to the Boulder Bandshell and adjourning park just south of Canyon Boulevard and West of 13th Street. We also distribute hard-boiled eggs\, fruit\, bottled water\, hand warmers\, hand wipes\, toiletries\, hand sanitizers\, gloves\, socks and hats.
URL:https://safeboulder.org/event/hot-soups-sandwiches-desserts-2/2027-10-18/
LOCATION:Boulder Bandshell\, 1212 Canyon Blvd\, Boulder\, Colorado\, 80302\, United States
CATEGORIES:Charity,Free Meal,Secular
ATTACH;FMTTYPE=image/jpeg:https://safeboulder.org/wp-content/uploads/2022/11/image08.jpg
ORGANIZER;CN="Circle of Love":MAILTO:circleoflove80026@gmail.com
END:VEVENT
BEGIN:VEVENT
DTSTART;TZID=UTC:20271020T121500
DTEND;TZID=UTC:20271020T133000
DTSTAMP:20260424T104026
CREATED:20230704T220138Z
LAST-MODIFIED:20250515T004139Z
UID:10021842-1824034500-1824039000@safeboulder.org
SUMMARY:Hot Soups\, Sandwiches\, & Desserts
DESCRIPTION:Boulder Bandshell & along Boulder Creek \n\n\n\nWe deliver the food to the Boulder Bandshell and adjourning park just south of Canyon Boulevard and West of 13th Street. We also distribute hard-boiled eggs\, fruit\, bottled water\, hand warmers\, hand wipes\, toiletries\, hand sanitizers\, gloves\, socks and hats.
URL:https://safeboulder.org/event/hot-soups-sandwiches-desserts-2/2027-10-20/
LOCATION:Boulder Bandshell\, 1212 Canyon Blvd\, Boulder\, Colorado\, 80302\, United States
CATEGORIES:Charity,Free Meal,Secular
ATTACH;FMTTYPE=image/jpeg:https://safeboulder.org/wp-content/uploads/2022/11/image08.jpg
ORGANIZER;CN="Circle of Love":MAILTO:circleoflove80026@gmail.com
END:VEVENT
BEGIN:VEVENT
DTSTART;TZID=UTC:20271025T121500
DTEND;TZID=UTC:20271025T133000
DTSTAMP:20260424T104026
CREATED:20230704T220138Z
LAST-MODIFIED:20250515T004139Z
UID:10018189-1824466500-1824471000@safeboulder.org
SUMMARY:Hot Soups\, Sandwiches\, & Desserts
DESCRIPTION:Boulder Bandshell & along Boulder Creek \n\n\n\nWe deliver the food to the Boulder Bandshell and adjourning park just south of Canyon Boulevard and West of 13th Street. We also distribute hard-boiled eggs\, fruit\, bottled water\, hand warmers\, hand wipes\, toiletries\, hand sanitizers\, gloves\, socks and hats.
URL:https://safeboulder.org/event/hot-soups-sandwiches-desserts-2/2027-10-25/
LOCATION:Boulder Bandshell\, 1212 Canyon Blvd\, Boulder\, Colorado\, 80302\, United States
CATEGORIES:Charity,Free Meal,Secular
ATTACH;FMTTYPE=image/jpeg:https://safeboulder.org/wp-content/uploads/2022/11/image08.jpg
ORGANIZER;CN="Circle of Love":MAILTO:circleoflove80026@gmail.com
END:VEVENT
BEGIN:VEVENT
DTSTART;TZID=UTC:20271027T121500
DTEND;TZID=UTC:20271027T133000
DTSTAMP:20260424T104026
CREATED:20230704T220138Z
LAST-MODIFIED:20250515T004139Z
UID:10021843-1824639300-1824643800@safeboulder.org
SUMMARY:Hot Soups\, Sandwiches\, & Desserts
DESCRIPTION:Boulder Bandshell & along Boulder Creek \n\n\n\nWe deliver the food to the Boulder Bandshell and adjourning park just south of Canyon Boulevard and West of 13th Street. We also distribute hard-boiled eggs\, fruit\, bottled water\, hand warmers\, hand wipes\, toiletries\, hand sanitizers\, gloves\, socks and hats.
URL:https://safeboulder.org/event/hot-soups-sandwiches-desserts-2/2027-10-27/
LOCATION:Boulder Bandshell\, 1212 Canyon Blvd\, Boulder\, Colorado\, 80302\, United States
CATEGORIES:Charity,Free Meal,Secular
ATTACH;FMTTYPE=image/jpeg:https://safeboulder.org/wp-content/uploads/2022/11/image08.jpg
ORGANIZER;CN="Circle of Love":MAILTO:circleoflove80026@gmail.com
END:VEVENT
BEGIN:VEVENT
DTSTART;TZID=UTC:20271101T121500
DTEND;TZID=UTC:20271101T133000
DTSTAMP:20260424T104026
CREATED:20230704T220138Z
LAST-MODIFIED:20250515T004139Z
UID:10018190-1825071300-1825075800@safeboulder.org
SUMMARY:Hot Soups\, Sandwiches\, & Desserts
DESCRIPTION:Boulder Bandshell & along Boulder Creek \n\n\n\nWe deliver the food to the Boulder Bandshell and adjourning park just south of Canyon Boulevard and West of 13th Street. We also distribute hard-boiled eggs\, fruit\, bottled water\, hand warmers\, hand wipes\, toiletries\, hand sanitizers\, gloves\, socks and hats.
URL:https://safeboulder.org/event/hot-soups-sandwiches-desserts-2/2027-11-01/
LOCATION:Boulder Bandshell\, 1212 Canyon Blvd\, Boulder\, Colorado\, 80302\, United States
CATEGORIES:Charity,Free Meal,Secular
ATTACH;FMTTYPE=image/jpeg:https://safeboulder.org/wp-content/uploads/2022/11/image08.jpg
ORGANIZER;CN="Circle of Love":MAILTO:circleoflove80026@gmail.com
END:VEVENT
BEGIN:VEVENT
DTSTART;TZID=UTC:20271103T121500
DTEND;TZID=UTC:20271103T133000
DTSTAMP:20260424T104026
CREATED:20230704T220138Z
LAST-MODIFIED:20250515T004139Z
UID:10021844-1825244100-1825248600@safeboulder.org
SUMMARY:Hot Soups\, Sandwiches\, & Desserts
DESCRIPTION:Boulder Bandshell & along Boulder Creek \n\n\n\nWe deliver the food to the Boulder Bandshell and adjourning park just south of Canyon Boulevard and West of 13th Street. We also distribute hard-boiled eggs\, fruit\, bottled water\, hand warmers\, hand wipes\, toiletries\, hand sanitizers\, gloves\, socks and hats.
URL:https://safeboulder.org/event/hot-soups-sandwiches-desserts-2/2027-11-03/
LOCATION:Boulder Bandshell\, 1212 Canyon Blvd\, Boulder\, Colorado\, 80302\, United States
CATEGORIES:Charity,Free Meal,Secular
ATTACH;FMTTYPE=image/jpeg:https://safeboulder.org/wp-content/uploads/2022/11/image08.jpg
ORGANIZER;CN="Circle of Love":MAILTO:circleoflove80026@gmail.com
END:VEVENT
BEGIN:VEVENT
DTSTART;TZID=UTC:20271108T121500
DTEND;TZID=UTC:20271108T133000
DTSTAMP:20260424T104026
CREATED:20230704T220138Z
LAST-MODIFIED:20250515T004139Z
UID:10018191-1825676100-1825680600@safeboulder.org
SUMMARY:Hot Soups\, Sandwiches\, & Desserts
DESCRIPTION:Boulder Bandshell & along Boulder Creek \n\n\n\nWe deliver the food to the Boulder Bandshell and adjourning park just south of Canyon Boulevard and West of 13th Street. We also distribute hard-boiled eggs\, fruit\, bottled water\, hand warmers\, hand wipes\, toiletries\, hand sanitizers\, gloves\, socks and hats.
URL:https://safeboulder.org/event/hot-soups-sandwiches-desserts-2/2027-11-08/
LOCATION:Boulder Bandshell\, 1212 Canyon Blvd\, Boulder\, Colorado\, 80302\, United States
CATEGORIES:Charity,Free Meal,Secular
ATTACH;FMTTYPE=image/jpeg:https://safeboulder.org/wp-content/uploads/2022/11/image08.jpg
ORGANIZER;CN="Circle of Love":MAILTO:circleoflove80026@gmail.com
END:VEVENT
BEGIN:VEVENT
DTSTART;TZID=UTC:20271110T121500
DTEND;TZID=UTC:20271110T133000
DTSTAMP:20260424T104026
CREATED:20230704T220138Z
LAST-MODIFIED:20250515T004139Z
UID:10021845-1825848900-1825853400@safeboulder.org
SUMMARY:Hot Soups\, Sandwiches\, & Desserts
DESCRIPTION:Boulder Bandshell & along Boulder Creek \n\n\n\nWe deliver the food to the Boulder Bandshell and adjourning park just south of Canyon Boulevard and West of 13th Street. We also distribute hard-boiled eggs\, fruit\, bottled water\, hand warmers\, hand wipes\, toiletries\, hand sanitizers\, gloves\, socks and hats.
URL:https://safeboulder.org/event/hot-soups-sandwiches-desserts-2/2027-11-10/
LOCATION:Boulder Bandshell\, 1212 Canyon Blvd\, Boulder\, Colorado\, 80302\, United States
CATEGORIES:Charity,Free Meal,Secular
ATTACH;FMTTYPE=image/jpeg:https://safeboulder.org/wp-content/uploads/2022/11/image08.jpg
ORGANIZER;CN="Circle of Love":MAILTO:circleoflove80026@gmail.com
END:VEVENT
END:VCALENDAR