BEGIN:VCALENDAR
VERSION:2.0
PRODID:-//SAFE Boulder - ECPv6.15.20//NONSGML v1.0//EN
CALSCALE:GREGORIAN
METHOD:PUBLISH
X-WR-CALNAME:SAFE Boulder
X-ORIGINAL-URL:https://safeboulder.org
X-WR-CALDESC:Events for SAFE Boulder
REFRESH-INTERVAL;VALUE=DURATION:PT1H
X-Robots-Tag:noindex
X-PUBLISHED-TTL:PT1H
BEGIN:VTIMEZONE
TZID:UTC
BEGIN:STANDARD
TZOFFSETFROM:+0000
TZOFFSETTO:+0000
TZNAME:UTC
DTSTART:20260101T000000
END:STANDARD
END:VTIMEZONE
BEGIN:VEVENT
DTSTART;TZID=UTC:20270505T121500
DTEND;TZID=UTC:20270505T133000
DTSTAMP:20260422T093202
CREATED:20230704T220138Z
LAST-MODIFIED:20250515T004139Z
UID:10021818-1809519300-1809523800@safeboulder.org
SUMMARY:Hot Soups\, Sandwiches\, & Desserts
DESCRIPTION:Boulder Bandshell & along Boulder Creek \n\n\n\nWe deliver the food to the Boulder Bandshell and adjourning park just south of Canyon Boulevard and West of 13th Street. We also distribute hard-boiled eggs\, fruit\, bottled water\, hand warmers\, hand wipes\, toiletries\, hand sanitizers\, gloves\, socks and hats.
URL:https://safeboulder.org/event/hot-soups-sandwiches-desserts-2/2027-05-05/
LOCATION:Boulder Bandshell\, 1212 Canyon Blvd\, Boulder\, Colorado\, 80302\, United States
CATEGORIES:Charity,Free Meal,Secular
ATTACH;FMTTYPE=image/jpeg:https://safeboulder.org/wp-content/uploads/2022/11/image08.jpg
ORGANIZER;CN="Circle of Love":MAILTO:circleoflove80026@gmail.com
END:VEVENT
BEGIN:VEVENT
DTSTART;TZID=UTC:20270510T121500
DTEND;TZID=UTC:20270510T133000
DTSTAMP:20260422T093202
CREATED:20230704T220138Z
LAST-MODIFIED:20250515T004139Z
UID:10018165-1809951300-1809955800@safeboulder.org
SUMMARY:Hot Soups\, Sandwiches\, & Desserts
DESCRIPTION:Boulder Bandshell & along Boulder Creek \n\n\n\nWe deliver the food to the Boulder Bandshell and adjourning park just south of Canyon Boulevard and West of 13th Street. We also distribute hard-boiled eggs\, fruit\, bottled water\, hand warmers\, hand wipes\, toiletries\, hand sanitizers\, gloves\, socks and hats.
URL:https://safeboulder.org/event/hot-soups-sandwiches-desserts-2/2027-05-10/
LOCATION:Boulder Bandshell\, 1212 Canyon Blvd\, Boulder\, Colorado\, 80302\, United States
CATEGORIES:Charity,Free Meal,Secular
ATTACH;FMTTYPE=image/jpeg:https://safeboulder.org/wp-content/uploads/2022/11/image08.jpg
ORGANIZER;CN="Circle of Love":MAILTO:circleoflove80026@gmail.com
END:VEVENT
BEGIN:VEVENT
DTSTART;TZID=UTC:20270512T121500
DTEND;TZID=UTC:20270512T133000
DTSTAMP:20260422T093202
CREATED:20230704T220138Z
LAST-MODIFIED:20250515T004139Z
UID:10021819-1810124100-1810128600@safeboulder.org
SUMMARY:Hot Soups\, Sandwiches\, & Desserts
DESCRIPTION:Boulder Bandshell & along Boulder Creek \n\n\n\nWe deliver the food to the Boulder Bandshell and adjourning park just south of Canyon Boulevard and West of 13th Street. We also distribute hard-boiled eggs\, fruit\, bottled water\, hand warmers\, hand wipes\, toiletries\, hand sanitizers\, gloves\, socks and hats.
URL:https://safeboulder.org/event/hot-soups-sandwiches-desserts-2/2027-05-12/
LOCATION:Boulder Bandshell\, 1212 Canyon Blvd\, Boulder\, Colorado\, 80302\, United States
CATEGORIES:Charity,Free Meal,Secular
ATTACH;FMTTYPE=image/jpeg:https://safeboulder.org/wp-content/uploads/2022/11/image08.jpg
ORGANIZER;CN="Circle of Love":MAILTO:circleoflove80026@gmail.com
END:VEVENT
BEGIN:VEVENT
DTSTART;TZID=UTC:20270517T121500
DTEND;TZID=UTC:20270517T133000
DTSTAMP:20260422T093202
CREATED:20230704T220138Z
LAST-MODIFIED:20250515T004139Z
UID:10018166-1810556100-1810560600@safeboulder.org
SUMMARY:Hot Soups\, Sandwiches\, & Desserts
DESCRIPTION:Boulder Bandshell & along Boulder Creek \n\n\n\nWe deliver the food to the Boulder Bandshell and adjourning park just south of Canyon Boulevard and West of 13th Street. We also distribute hard-boiled eggs\, fruit\, bottled water\, hand warmers\, hand wipes\, toiletries\, hand sanitizers\, gloves\, socks and hats.
URL:https://safeboulder.org/event/hot-soups-sandwiches-desserts-2/2027-05-17/
LOCATION:Boulder Bandshell\, 1212 Canyon Blvd\, Boulder\, Colorado\, 80302\, United States
CATEGORIES:Charity,Free Meal,Secular
ATTACH;FMTTYPE=image/jpeg:https://safeboulder.org/wp-content/uploads/2022/11/image08.jpg
ORGANIZER;CN="Circle of Love":MAILTO:circleoflove80026@gmail.com
END:VEVENT
BEGIN:VEVENT
DTSTART;TZID=UTC:20270519T121500
DTEND;TZID=UTC:20270519T133000
DTSTAMP:20260422T093202
CREATED:20230704T220138Z
LAST-MODIFIED:20250515T004139Z
UID:10021820-1810728900-1810733400@safeboulder.org
SUMMARY:Hot Soups\, Sandwiches\, & Desserts
DESCRIPTION:Boulder Bandshell & along Boulder Creek \n\n\n\nWe deliver the food to the Boulder Bandshell and adjourning park just south of Canyon Boulevard and West of 13th Street. We also distribute hard-boiled eggs\, fruit\, bottled water\, hand warmers\, hand wipes\, toiletries\, hand sanitizers\, gloves\, socks and hats.
URL:https://safeboulder.org/event/hot-soups-sandwiches-desserts-2/2027-05-19/
LOCATION:Boulder Bandshell\, 1212 Canyon Blvd\, Boulder\, Colorado\, 80302\, United States
CATEGORIES:Charity,Free Meal,Secular
ATTACH;FMTTYPE=image/jpeg:https://safeboulder.org/wp-content/uploads/2022/11/image08.jpg
ORGANIZER;CN="Circle of Love":MAILTO:circleoflove80026@gmail.com
END:VEVENT
BEGIN:VEVENT
DTSTART;TZID=UTC:20270524T121500
DTEND;TZID=UTC:20270524T133000
DTSTAMP:20260422T093202
CREATED:20230704T220138Z
LAST-MODIFIED:20250515T004139Z
UID:10018167-1811160900-1811165400@safeboulder.org
SUMMARY:Hot Soups\, Sandwiches\, & Desserts
DESCRIPTION:Boulder Bandshell & along Boulder Creek \n\n\n\nWe deliver the food to the Boulder Bandshell and adjourning park just south of Canyon Boulevard and West of 13th Street. We also distribute hard-boiled eggs\, fruit\, bottled water\, hand warmers\, hand wipes\, toiletries\, hand sanitizers\, gloves\, socks and hats.
URL:https://safeboulder.org/event/hot-soups-sandwiches-desserts-2/2027-05-24/
LOCATION:Boulder Bandshell\, 1212 Canyon Blvd\, Boulder\, Colorado\, 80302\, United States
CATEGORIES:Charity,Free Meal,Secular
ATTACH;FMTTYPE=image/jpeg:https://safeboulder.org/wp-content/uploads/2022/11/image08.jpg
ORGANIZER;CN="Circle of Love":MAILTO:circleoflove80026@gmail.com
END:VEVENT
BEGIN:VEVENT
DTSTART;TZID=UTC:20270526T121500
DTEND;TZID=UTC:20270526T133000
DTSTAMP:20260422T093202
CREATED:20230704T220138Z
LAST-MODIFIED:20250515T004139Z
UID:10021821-1811333700-1811338200@safeboulder.org
SUMMARY:Hot Soups\, Sandwiches\, & Desserts
DESCRIPTION:Boulder Bandshell & along Boulder Creek \n\n\n\nWe deliver the food to the Boulder Bandshell and adjourning park just south of Canyon Boulevard and West of 13th Street. We also distribute hard-boiled eggs\, fruit\, bottled water\, hand warmers\, hand wipes\, toiletries\, hand sanitizers\, gloves\, socks and hats.
URL:https://safeboulder.org/event/hot-soups-sandwiches-desserts-2/2027-05-26/
LOCATION:Boulder Bandshell\, 1212 Canyon Blvd\, Boulder\, Colorado\, 80302\, United States
CATEGORIES:Charity,Free Meal,Secular
ATTACH;FMTTYPE=image/jpeg:https://safeboulder.org/wp-content/uploads/2022/11/image08.jpg
ORGANIZER;CN="Circle of Love":MAILTO:circleoflove80026@gmail.com
END:VEVENT
BEGIN:VEVENT
DTSTART;TZID=UTC:20270531T121500
DTEND;TZID=UTC:20270531T133000
DTSTAMP:20260422T093202
CREATED:20230704T220138Z
LAST-MODIFIED:20250515T004139Z
UID:10018168-1811765700-1811770200@safeboulder.org
SUMMARY:Hot Soups\, Sandwiches\, & Desserts
DESCRIPTION:Boulder Bandshell & along Boulder Creek \n\n\n\nWe deliver the food to the Boulder Bandshell and adjourning park just south of Canyon Boulevard and West of 13th Street. We also distribute hard-boiled eggs\, fruit\, bottled water\, hand warmers\, hand wipes\, toiletries\, hand sanitizers\, gloves\, socks and hats.
URL:https://safeboulder.org/event/hot-soups-sandwiches-desserts-2/2027-05-31/
LOCATION:Boulder Bandshell\, 1212 Canyon Blvd\, Boulder\, Colorado\, 80302\, United States
CATEGORIES:Charity,Free Meal,Secular
ATTACH;FMTTYPE=image/jpeg:https://safeboulder.org/wp-content/uploads/2022/11/image08.jpg
ORGANIZER;CN="Circle of Love":MAILTO:circleoflove80026@gmail.com
END:VEVENT
BEGIN:VEVENT
DTSTART;TZID=UTC:20270602T121500
DTEND;TZID=UTC:20270602T133000
DTSTAMP:20260422T093202
CREATED:20230704T220138Z
LAST-MODIFIED:20250515T004139Z
UID:10021822-1811938500-1811943000@safeboulder.org
SUMMARY:Hot Soups\, Sandwiches\, & Desserts
DESCRIPTION:Boulder Bandshell & along Boulder Creek \n\n\n\nWe deliver the food to the Boulder Bandshell and adjourning park just south of Canyon Boulevard and West of 13th Street. We also distribute hard-boiled eggs\, fruit\, bottled water\, hand warmers\, hand wipes\, toiletries\, hand sanitizers\, gloves\, socks and hats.
URL:https://safeboulder.org/event/hot-soups-sandwiches-desserts-2/2027-06-02/
LOCATION:Boulder Bandshell\, 1212 Canyon Blvd\, Boulder\, Colorado\, 80302\, United States
CATEGORIES:Charity,Free Meal,Secular
ATTACH;FMTTYPE=image/jpeg:https://safeboulder.org/wp-content/uploads/2022/11/image08.jpg
ORGANIZER;CN="Circle of Love":MAILTO:circleoflove80026@gmail.com
END:VEVENT
BEGIN:VEVENT
DTSTART;TZID=UTC:20270607T121500
DTEND;TZID=UTC:20270607T133000
DTSTAMP:20260422T093202
CREATED:20230704T220138Z
LAST-MODIFIED:20250515T004139Z
UID:10018169-1812370500-1812375000@safeboulder.org
SUMMARY:Hot Soups\, Sandwiches\, & Desserts
DESCRIPTION:Boulder Bandshell & along Boulder Creek \n\n\n\nWe deliver the food to the Boulder Bandshell and adjourning park just south of Canyon Boulevard and West of 13th Street. We also distribute hard-boiled eggs\, fruit\, bottled water\, hand warmers\, hand wipes\, toiletries\, hand sanitizers\, gloves\, socks and hats.
URL:https://safeboulder.org/event/hot-soups-sandwiches-desserts-2/2027-06-07/
LOCATION:Boulder Bandshell\, 1212 Canyon Blvd\, Boulder\, Colorado\, 80302\, United States
CATEGORIES:Charity,Free Meal,Secular
ATTACH;FMTTYPE=image/jpeg:https://safeboulder.org/wp-content/uploads/2022/11/image08.jpg
ORGANIZER;CN="Circle of Love":MAILTO:circleoflove80026@gmail.com
END:VEVENT
BEGIN:VEVENT
DTSTART;TZID=UTC:20270609T121500
DTEND;TZID=UTC:20270609T133000
DTSTAMP:20260422T093203
CREATED:20230704T220138Z
LAST-MODIFIED:20250515T004139Z
UID:10021823-1812543300-1812547800@safeboulder.org
SUMMARY:Hot Soups\, Sandwiches\, & Desserts
DESCRIPTION:Boulder Bandshell & along Boulder Creek \n\n\n\nWe deliver the food to the Boulder Bandshell and adjourning park just south of Canyon Boulevard and West of 13th Street. We also distribute hard-boiled eggs\, fruit\, bottled water\, hand warmers\, hand wipes\, toiletries\, hand sanitizers\, gloves\, socks and hats.
URL:https://safeboulder.org/event/hot-soups-sandwiches-desserts-2/2027-06-09/
LOCATION:Boulder Bandshell\, 1212 Canyon Blvd\, Boulder\, Colorado\, 80302\, United States
CATEGORIES:Charity,Free Meal,Secular
ATTACH;FMTTYPE=image/jpeg:https://safeboulder.org/wp-content/uploads/2022/11/image08.jpg
ORGANIZER;CN="Circle of Love":MAILTO:circleoflove80026@gmail.com
END:VEVENT
BEGIN:VEVENT
DTSTART;TZID=UTC:20270614T121500
DTEND;TZID=UTC:20270614T133000
DTSTAMP:20260422T093203
CREATED:20230704T220138Z
LAST-MODIFIED:20250515T004139Z
UID:10018170-1812975300-1812979800@safeboulder.org
SUMMARY:Hot Soups\, Sandwiches\, & Desserts
DESCRIPTION:Boulder Bandshell & along Boulder Creek \n\n\n\nWe deliver the food to the Boulder Bandshell and adjourning park just south of Canyon Boulevard and West of 13th Street. We also distribute hard-boiled eggs\, fruit\, bottled water\, hand warmers\, hand wipes\, toiletries\, hand sanitizers\, gloves\, socks and hats.
URL:https://safeboulder.org/event/hot-soups-sandwiches-desserts-2/2027-06-14/
LOCATION:Boulder Bandshell\, 1212 Canyon Blvd\, Boulder\, Colorado\, 80302\, United States
CATEGORIES:Charity,Free Meal,Secular
ATTACH;FMTTYPE=image/jpeg:https://safeboulder.org/wp-content/uploads/2022/11/image08.jpg
ORGANIZER;CN="Circle of Love":MAILTO:circleoflove80026@gmail.com
END:VEVENT
BEGIN:VEVENT
DTSTART;TZID=UTC:20270616T121500
DTEND;TZID=UTC:20270616T133000
DTSTAMP:20260422T093203
CREATED:20230704T220138Z
LAST-MODIFIED:20250515T004139Z
UID:10021824-1813148100-1813152600@safeboulder.org
SUMMARY:Hot Soups\, Sandwiches\, & Desserts
DESCRIPTION:Boulder Bandshell & along Boulder Creek \n\n\n\nWe deliver the food to the Boulder Bandshell and adjourning park just south of Canyon Boulevard and West of 13th Street. We also distribute hard-boiled eggs\, fruit\, bottled water\, hand warmers\, hand wipes\, toiletries\, hand sanitizers\, gloves\, socks and hats.
URL:https://safeboulder.org/event/hot-soups-sandwiches-desserts-2/2027-06-16/
LOCATION:Boulder Bandshell\, 1212 Canyon Blvd\, Boulder\, Colorado\, 80302\, United States
CATEGORIES:Charity,Free Meal,Secular
ATTACH;FMTTYPE=image/jpeg:https://safeboulder.org/wp-content/uploads/2022/11/image08.jpg
ORGANIZER;CN="Circle of Love":MAILTO:circleoflove80026@gmail.com
END:VEVENT
BEGIN:VEVENT
DTSTART;TZID=UTC:20270621T121500
DTEND;TZID=UTC:20270621T133000
DTSTAMP:20260422T093203
CREATED:20230704T220138Z
LAST-MODIFIED:20250515T004139Z
UID:10018171-1813580100-1813584600@safeboulder.org
SUMMARY:Hot Soups\, Sandwiches\, & Desserts
DESCRIPTION:Boulder Bandshell & along Boulder Creek \n\n\n\nWe deliver the food to the Boulder Bandshell and adjourning park just south of Canyon Boulevard and West of 13th Street. We also distribute hard-boiled eggs\, fruit\, bottled water\, hand warmers\, hand wipes\, toiletries\, hand sanitizers\, gloves\, socks and hats.
URL:https://safeboulder.org/event/hot-soups-sandwiches-desserts-2/2027-06-21/
LOCATION:Boulder Bandshell\, 1212 Canyon Blvd\, Boulder\, Colorado\, 80302\, United States
CATEGORIES:Charity,Free Meal,Secular
ATTACH;FMTTYPE=image/jpeg:https://safeboulder.org/wp-content/uploads/2022/11/image08.jpg
ORGANIZER;CN="Circle of Love":MAILTO:circleoflove80026@gmail.com
END:VEVENT
BEGIN:VEVENT
DTSTART;TZID=UTC:20270623T121500
DTEND;TZID=UTC:20270623T133000
DTSTAMP:20260422T093203
CREATED:20230704T220138Z
LAST-MODIFIED:20250515T004139Z
UID:10021825-1813752900-1813757400@safeboulder.org
SUMMARY:Hot Soups\, Sandwiches\, & Desserts
DESCRIPTION:Boulder Bandshell & along Boulder Creek \n\n\n\nWe deliver the food to the Boulder Bandshell and adjourning park just south of Canyon Boulevard and West of 13th Street. We also distribute hard-boiled eggs\, fruit\, bottled water\, hand warmers\, hand wipes\, toiletries\, hand sanitizers\, gloves\, socks and hats.
URL:https://safeboulder.org/event/hot-soups-sandwiches-desserts-2/2027-06-23/
LOCATION:Boulder Bandshell\, 1212 Canyon Blvd\, Boulder\, Colorado\, 80302\, United States
CATEGORIES:Charity,Free Meal,Secular
ATTACH;FMTTYPE=image/jpeg:https://safeboulder.org/wp-content/uploads/2022/11/image08.jpg
ORGANIZER;CN="Circle of Love":MAILTO:circleoflove80026@gmail.com
END:VEVENT
BEGIN:VEVENT
DTSTART;TZID=UTC:20270628T121500
DTEND;TZID=UTC:20270628T133000
DTSTAMP:20260422T093203
CREATED:20230704T220138Z
LAST-MODIFIED:20250515T004139Z
UID:10018172-1814184900-1814189400@safeboulder.org
SUMMARY:Hot Soups\, Sandwiches\, & Desserts
DESCRIPTION:Boulder Bandshell & along Boulder Creek \n\n\n\nWe deliver the food to the Boulder Bandshell and adjourning park just south of Canyon Boulevard and West of 13th Street. We also distribute hard-boiled eggs\, fruit\, bottled water\, hand warmers\, hand wipes\, toiletries\, hand sanitizers\, gloves\, socks and hats.
URL:https://safeboulder.org/event/hot-soups-sandwiches-desserts-2/2027-06-28/
LOCATION:Boulder Bandshell\, 1212 Canyon Blvd\, Boulder\, Colorado\, 80302\, United States
CATEGORIES:Charity,Free Meal,Secular
ATTACH;FMTTYPE=image/jpeg:https://safeboulder.org/wp-content/uploads/2022/11/image08.jpg
ORGANIZER;CN="Circle of Love":MAILTO:circleoflove80026@gmail.com
END:VEVENT
BEGIN:VEVENT
DTSTART;TZID=UTC:20270630T121500
DTEND;TZID=UTC:20270630T133000
DTSTAMP:20260422T093203
CREATED:20230704T220138Z
LAST-MODIFIED:20250515T004139Z
UID:10021826-1814357700-1814362200@safeboulder.org
SUMMARY:Hot Soups\, Sandwiches\, & Desserts
DESCRIPTION:Boulder Bandshell & along Boulder Creek \n\n\n\nWe deliver the food to the Boulder Bandshell and adjourning park just south of Canyon Boulevard and West of 13th Street. We also distribute hard-boiled eggs\, fruit\, bottled water\, hand warmers\, hand wipes\, toiletries\, hand sanitizers\, gloves\, socks and hats.
URL:https://safeboulder.org/event/hot-soups-sandwiches-desserts-2/2027-06-30/
LOCATION:Boulder Bandshell\, 1212 Canyon Blvd\, Boulder\, Colorado\, 80302\, United States
CATEGORIES:Charity,Free Meal,Secular
ATTACH;FMTTYPE=image/jpeg:https://safeboulder.org/wp-content/uploads/2022/11/image08.jpg
ORGANIZER;CN="Circle of Love":MAILTO:circleoflove80026@gmail.com
END:VEVENT
BEGIN:VEVENT
DTSTART;TZID=UTC:20270705T121500
DTEND;TZID=UTC:20270705T133000
DTSTAMP:20260422T093203
CREATED:20230704T220138Z
LAST-MODIFIED:20250515T004139Z
UID:10018173-1814789700-1814794200@safeboulder.org
SUMMARY:Hot Soups\, Sandwiches\, & Desserts
DESCRIPTION:Boulder Bandshell & along Boulder Creek \n\n\n\nWe deliver the food to the Boulder Bandshell and adjourning park just south of Canyon Boulevard and West of 13th Street. We also distribute hard-boiled eggs\, fruit\, bottled water\, hand warmers\, hand wipes\, toiletries\, hand sanitizers\, gloves\, socks and hats.
URL:https://safeboulder.org/event/hot-soups-sandwiches-desserts-2/2027-07-05/
LOCATION:Boulder Bandshell\, 1212 Canyon Blvd\, Boulder\, Colorado\, 80302\, United States
CATEGORIES:Charity,Free Meal,Secular
ATTACH;FMTTYPE=image/jpeg:https://safeboulder.org/wp-content/uploads/2022/11/image08.jpg
ORGANIZER;CN="Circle of Love":MAILTO:circleoflove80026@gmail.com
END:VEVENT
BEGIN:VEVENT
DTSTART;TZID=UTC:20270707T121500
DTEND;TZID=UTC:20270707T133000
DTSTAMP:20260422T093203
CREATED:20230704T220138Z
LAST-MODIFIED:20250515T004139Z
UID:10021827-1814962500-1814967000@safeboulder.org
SUMMARY:Hot Soups\, Sandwiches\, & Desserts
DESCRIPTION:Boulder Bandshell & along Boulder Creek \n\n\n\nWe deliver the food to the Boulder Bandshell and adjourning park just south of Canyon Boulevard and West of 13th Street. We also distribute hard-boiled eggs\, fruit\, bottled water\, hand warmers\, hand wipes\, toiletries\, hand sanitizers\, gloves\, socks and hats.
URL:https://safeboulder.org/event/hot-soups-sandwiches-desserts-2/2027-07-07/
LOCATION:Boulder Bandshell\, 1212 Canyon Blvd\, Boulder\, Colorado\, 80302\, United States
CATEGORIES:Charity,Free Meal,Secular
ATTACH;FMTTYPE=image/jpeg:https://safeboulder.org/wp-content/uploads/2022/11/image08.jpg
ORGANIZER;CN="Circle of Love":MAILTO:circleoflove80026@gmail.com
END:VEVENT
BEGIN:VEVENT
DTSTART;TZID=UTC:20270712T121500
DTEND;TZID=UTC:20270712T133000
DTSTAMP:20260422T093203
CREATED:20230704T220138Z
LAST-MODIFIED:20250515T004139Z
UID:10018174-1815394500-1815399000@safeboulder.org
SUMMARY:Hot Soups\, Sandwiches\, & Desserts
DESCRIPTION:Boulder Bandshell & along Boulder Creek \n\n\n\nWe deliver the food to the Boulder Bandshell and adjourning park just south of Canyon Boulevard and West of 13th Street. We also distribute hard-boiled eggs\, fruit\, bottled water\, hand warmers\, hand wipes\, toiletries\, hand sanitizers\, gloves\, socks and hats.
URL:https://safeboulder.org/event/hot-soups-sandwiches-desserts-2/2027-07-12/
LOCATION:Boulder Bandshell\, 1212 Canyon Blvd\, Boulder\, Colorado\, 80302\, United States
CATEGORIES:Charity,Free Meal,Secular
ATTACH;FMTTYPE=image/jpeg:https://safeboulder.org/wp-content/uploads/2022/11/image08.jpg
ORGANIZER;CN="Circle of Love":MAILTO:circleoflove80026@gmail.com
END:VEVENT
BEGIN:VEVENT
DTSTART;TZID=UTC:20270714T121500
DTEND;TZID=UTC:20270714T133000
DTSTAMP:20260422T093203
CREATED:20230704T220138Z
LAST-MODIFIED:20250515T004139Z
UID:10021828-1815567300-1815571800@safeboulder.org
SUMMARY:Hot Soups\, Sandwiches\, & Desserts
DESCRIPTION:Boulder Bandshell & along Boulder Creek \n\n\n\nWe deliver the food to the Boulder Bandshell and adjourning park just south of Canyon Boulevard and West of 13th Street. We also distribute hard-boiled eggs\, fruit\, bottled water\, hand warmers\, hand wipes\, toiletries\, hand sanitizers\, gloves\, socks and hats.
URL:https://safeboulder.org/event/hot-soups-sandwiches-desserts-2/2027-07-14/
LOCATION:Boulder Bandshell\, 1212 Canyon Blvd\, Boulder\, Colorado\, 80302\, United States
CATEGORIES:Charity,Free Meal,Secular
ATTACH;FMTTYPE=image/jpeg:https://safeboulder.org/wp-content/uploads/2022/11/image08.jpg
ORGANIZER;CN="Circle of Love":MAILTO:circleoflove80026@gmail.com
END:VEVENT
BEGIN:VEVENT
DTSTART;TZID=UTC:20270719T121500
DTEND;TZID=UTC:20270719T133000
DTSTAMP:20260422T093203
CREATED:20230704T220138Z
LAST-MODIFIED:20250515T004139Z
UID:10018175-1815999300-1816003800@safeboulder.org
SUMMARY:Hot Soups\, Sandwiches\, & Desserts
DESCRIPTION:Boulder Bandshell & along Boulder Creek \n\n\n\nWe deliver the food to the Boulder Bandshell and adjourning park just south of Canyon Boulevard and West of 13th Street. We also distribute hard-boiled eggs\, fruit\, bottled water\, hand warmers\, hand wipes\, toiletries\, hand sanitizers\, gloves\, socks and hats.
URL:https://safeboulder.org/event/hot-soups-sandwiches-desserts-2/2027-07-19/
LOCATION:Boulder Bandshell\, 1212 Canyon Blvd\, Boulder\, Colorado\, 80302\, United States
CATEGORIES:Charity,Free Meal,Secular
ATTACH;FMTTYPE=image/jpeg:https://safeboulder.org/wp-content/uploads/2022/11/image08.jpg
ORGANIZER;CN="Circle of Love":MAILTO:circleoflove80026@gmail.com
END:VEVENT
BEGIN:VEVENT
DTSTART;TZID=UTC:20270721T121500
DTEND;TZID=UTC:20270721T133000
DTSTAMP:20260422T093203
CREATED:20230704T220138Z
LAST-MODIFIED:20250515T004139Z
UID:10021829-1816172100-1816176600@safeboulder.org
SUMMARY:Hot Soups\, Sandwiches\, & Desserts
DESCRIPTION:Boulder Bandshell & along Boulder Creek \n\n\n\nWe deliver the food to the Boulder Bandshell and adjourning park just south of Canyon Boulevard and West of 13th Street. We also distribute hard-boiled eggs\, fruit\, bottled water\, hand warmers\, hand wipes\, toiletries\, hand sanitizers\, gloves\, socks and hats.
URL:https://safeboulder.org/event/hot-soups-sandwiches-desserts-2/2027-07-21/
LOCATION:Boulder Bandshell\, 1212 Canyon Blvd\, Boulder\, Colorado\, 80302\, United States
CATEGORIES:Charity,Free Meal,Secular
ATTACH;FMTTYPE=image/jpeg:https://safeboulder.org/wp-content/uploads/2022/11/image08.jpg
ORGANIZER;CN="Circle of Love":MAILTO:circleoflove80026@gmail.com
END:VEVENT
BEGIN:VEVENT
DTSTART;TZID=UTC:20270726T121500
DTEND;TZID=UTC:20270726T133000
DTSTAMP:20260422T093203
CREATED:20230704T220138Z
LAST-MODIFIED:20250515T004139Z
UID:10018176-1816604100-1816608600@safeboulder.org
SUMMARY:Hot Soups\, Sandwiches\, & Desserts
DESCRIPTION:Boulder Bandshell & along Boulder Creek \n\n\n\nWe deliver the food to the Boulder Bandshell and adjourning park just south of Canyon Boulevard and West of 13th Street. We also distribute hard-boiled eggs\, fruit\, bottled water\, hand warmers\, hand wipes\, toiletries\, hand sanitizers\, gloves\, socks and hats.
URL:https://safeboulder.org/event/hot-soups-sandwiches-desserts-2/2027-07-26/
LOCATION:Boulder Bandshell\, 1212 Canyon Blvd\, Boulder\, Colorado\, 80302\, United States
CATEGORIES:Charity,Free Meal,Secular
ATTACH;FMTTYPE=image/jpeg:https://safeboulder.org/wp-content/uploads/2022/11/image08.jpg
ORGANIZER;CN="Circle of Love":MAILTO:circleoflove80026@gmail.com
END:VEVENT
BEGIN:VEVENT
DTSTART;TZID=UTC:20270728T121500
DTEND;TZID=UTC:20270728T133000
DTSTAMP:20260422T093203
CREATED:20230704T220138Z
LAST-MODIFIED:20250515T004139Z
UID:10021830-1816776900-1816781400@safeboulder.org
SUMMARY:Hot Soups\, Sandwiches\, & Desserts
DESCRIPTION:Boulder Bandshell & along Boulder Creek \n\n\n\nWe deliver the food to the Boulder Bandshell and adjourning park just south of Canyon Boulevard and West of 13th Street. We also distribute hard-boiled eggs\, fruit\, bottled water\, hand warmers\, hand wipes\, toiletries\, hand sanitizers\, gloves\, socks and hats.
URL:https://safeboulder.org/event/hot-soups-sandwiches-desserts-2/2027-07-28/
LOCATION:Boulder Bandshell\, 1212 Canyon Blvd\, Boulder\, Colorado\, 80302\, United States
CATEGORIES:Charity,Free Meal,Secular
ATTACH;FMTTYPE=image/jpeg:https://safeboulder.org/wp-content/uploads/2022/11/image08.jpg
ORGANIZER;CN="Circle of Love":MAILTO:circleoflove80026@gmail.com
END:VEVENT
BEGIN:VEVENT
DTSTART;TZID=UTC:20270802T121500
DTEND;TZID=UTC:20270802T133000
DTSTAMP:20260422T093203
CREATED:20230704T220138Z
LAST-MODIFIED:20250515T004139Z
UID:10018177-1817208900-1817213400@safeboulder.org
SUMMARY:Hot Soups\, Sandwiches\, & Desserts
DESCRIPTION:Boulder Bandshell & along Boulder Creek \n\n\n\nWe deliver the food to the Boulder Bandshell and adjourning park just south of Canyon Boulevard and West of 13th Street. We also distribute hard-boiled eggs\, fruit\, bottled water\, hand warmers\, hand wipes\, toiletries\, hand sanitizers\, gloves\, socks and hats.
URL:https://safeboulder.org/event/hot-soups-sandwiches-desserts-2/2027-08-02/
LOCATION:Boulder Bandshell\, 1212 Canyon Blvd\, Boulder\, Colorado\, 80302\, United States
CATEGORIES:Charity,Free Meal,Secular
ATTACH;FMTTYPE=image/jpeg:https://safeboulder.org/wp-content/uploads/2022/11/image08.jpg
ORGANIZER;CN="Circle of Love":MAILTO:circleoflove80026@gmail.com
END:VEVENT
BEGIN:VEVENT
DTSTART;TZID=UTC:20270804T121500
DTEND;TZID=UTC:20270804T133000
DTSTAMP:20260422T093203
CREATED:20230704T220138Z
LAST-MODIFIED:20250515T004139Z
UID:10021831-1817381700-1817386200@safeboulder.org
SUMMARY:Hot Soups\, Sandwiches\, & Desserts
DESCRIPTION:Boulder Bandshell & along Boulder Creek \n\n\n\nWe deliver the food to the Boulder Bandshell and adjourning park just south of Canyon Boulevard and West of 13th Street. We also distribute hard-boiled eggs\, fruit\, bottled water\, hand warmers\, hand wipes\, toiletries\, hand sanitizers\, gloves\, socks and hats.
URL:https://safeboulder.org/event/hot-soups-sandwiches-desserts-2/2027-08-04/
LOCATION:Boulder Bandshell\, 1212 Canyon Blvd\, Boulder\, Colorado\, 80302\, United States
CATEGORIES:Charity,Free Meal,Secular
ATTACH;FMTTYPE=image/jpeg:https://safeboulder.org/wp-content/uploads/2022/11/image08.jpg
ORGANIZER;CN="Circle of Love":MAILTO:circleoflove80026@gmail.com
END:VEVENT
BEGIN:VEVENT
DTSTART;TZID=UTC:20270809T121500
DTEND;TZID=UTC:20270809T133000
DTSTAMP:20260422T093203
CREATED:20230704T220138Z
LAST-MODIFIED:20250515T004139Z
UID:10018178-1817813700-1817818200@safeboulder.org
SUMMARY:Hot Soups\, Sandwiches\, & Desserts
DESCRIPTION:Boulder Bandshell & along Boulder Creek \n\n\n\nWe deliver the food to the Boulder Bandshell and adjourning park just south of Canyon Boulevard and West of 13th Street. We also distribute hard-boiled eggs\, fruit\, bottled water\, hand warmers\, hand wipes\, toiletries\, hand sanitizers\, gloves\, socks and hats.
URL:https://safeboulder.org/event/hot-soups-sandwiches-desserts-2/2027-08-09/
LOCATION:Boulder Bandshell\, 1212 Canyon Blvd\, Boulder\, Colorado\, 80302\, United States
CATEGORIES:Charity,Free Meal,Secular
ATTACH;FMTTYPE=image/jpeg:https://safeboulder.org/wp-content/uploads/2022/11/image08.jpg
ORGANIZER;CN="Circle of Love":MAILTO:circleoflove80026@gmail.com
END:VEVENT
BEGIN:VEVENT
DTSTART;TZID=UTC:20270811T121500
DTEND;TZID=UTC:20270811T133000
DTSTAMP:20260422T093203
CREATED:20230704T220138Z
LAST-MODIFIED:20250515T004139Z
UID:10021832-1817986500-1817991000@safeboulder.org
SUMMARY:Hot Soups\, Sandwiches\, & Desserts
DESCRIPTION:Boulder Bandshell & along Boulder Creek \n\n\n\nWe deliver the food to the Boulder Bandshell and adjourning park just south of Canyon Boulevard and West of 13th Street. We also distribute hard-boiled eggs\, fruit\, bottled water\, hand warmers\, hand wipes\, toiletries\, hand sanitizers\, gloves\, socks and hats.
URL:https://safeboulder.org/event/hot-soups-sandwiches-desserts-2/2027-08-11/
LOCATION:Boulder Bandshell\, 1212 Canyon Blvd\, Boulder\, Colorado\, 80302\, United States
CATEGORIES:Charity,Free Meal,Secular
ATTACH;FMTTYPE=image/jpeg:https://safeboulder.org/wp-content/uploads/2022/11/image08.jpg
ORGANIZER;CN="Circle of Love":MAILTO:circleoflove80026@gmail.com
END:VEVENT
BEGIN:VEVENT
DTSTART;TZID=UTC:20270816T121500
DTEND;TZID=UTC:20270816T133000
DTSTAMP:20260422T093203
CREATED:20230704T220138Z
LAST-MODIFIED:20250515T004139Z
UID:10018179-1818418500-1818423000@safeboulder.org
SUMMARY:Hot Soups\, Sandwiches\, & Desserts
DESCRIPTION:Boulder Bandshell & along Boulder Creek \n\n\n\nWe deliver the food to the Boulder Bandshell and adjourning park just south of Canyon Boulevard and West of 13th Street. We also distribute hard-boiled eggs\, fruit\, bottled water\, hand warmers\, hand wipes\, toiletries\, hand sanitizers\, gloves\, socks and hats.
URL:https://safeboulder.org/event/hot-soups-sandwiches-desserts-2/2027-08-16/
LOCATION:Boulder Bandshell\, 1212 Canyon Blvd\, Boulder\, Colorado\, 80302\, United States
CATEGORIES:Charity,Free Meal,Secular
ATTACH;FMTTYPE=image/jpeg:https://safeboulder.org/wp-content/uploads/2022/11/image08.jpg
ORGANIZER;CN="Circle of Love":MAILTO:circleoflove80026@gmail.com
END:VEVENT
END:VCALENDAR