BEGIN:VCALENDAR
VERSION:2.0
PRODID:-//SAFE Boulder - ECPv6.15.20//NONSGML v1.0//EN
CALSCALE:GREGORIAN
METHOD:PUBLISH
X-ORIGINAL-URL:https://safeboulder.org
X-WR-CALDESC:Events for SAFE Boulder
REFRESH-INTERVAL;VALUE=DURATION:PT1H
X-Robots-Tag:noindex
X-PUBLISHED-TTL:PT1H
BEGIN:VTIMEZONE
TZID:UTC
BEGIN:STANDARD
TZOFFSETFROM:+0000
TZOFFSETTO:+0000
TZNAME:UTC
DTSTART:20250101T000000
END:STANDARD
END:VTIMEZONE
BEGIN:VEVENT
DTSTART;TZID=UTC:20260825T163000
DTEND;TZID=UTC:20260825T173000
DTSTAMP:20260419T202020
CREATED:20240917T032628Z
LAST-MODIFIED:20240917T033122Z
UID:10016174-1787675400-1787679000@safeboulder.org
SUMMARY:“Grab & Go" dinner
DESCRIPTION:Sack Meal\, “Grab & Go” in the parking lot of St. John’s Episcopal\, 1419 Pine.
URL:https://safeboulder.org/event/grab-go-dinner-5/2026-08-25/
LOCATION:St. John’s Episcopal Church\, 1419 Pine Street\, Boulder\, Colorado\, 80302\, United States
CATEGORIES:Charity,Free Meal,Secular
ATTACH;FMTTYPE=image/png:https://safeboulder.org/wp-content/uploads/2022/11/community-table-kitchen-bh.png
ORGANIZER;CN="Bridge House Community Table Kitchen":MAILTO:orders@communitytablekitchen.org
END:VEVENT
BEGIN:VEVENT
DTSTART;TZID=UTC:20260826T163000
DTEND;TZID=UTC:20260826T173000
DTSTAMP:20260419T202020
CREATED:20240917T032628Z
LAST-MODIFIED:20240917T033122Z
UID:10016175-1787761800-1787765400@safeboulder.org
SUMMARY:“Grab & Go" dinner
DESCRIPTION:Sack Meal\, “Grab & Go” in the parking lot of St. John’s Episcopal\, 1419 Pine.
URL:https://safeboulder.org/event/grab-go-dinner-5/2026-08-26/
LOCATION:St. John’s Episcopal Church\, 1419 Pine Street\, Boulder\, Colorado\, 80302\, United States
CATEGORIES:Charity,Free Meal,Secular
ATTACH;FMTTYPE=image/png:https://safeboulder.org/wp-content/uploads/2022/11/community-table-kitchen-bh.png
ORGANIZER;CN="Bridge House Community Table Kitchen":MAILTO:orders@communitytablekitchen.org
END:VEVENT
BEGIN:VEVENT
DTSTART;TZID=UTC:20260901T163000
DTEND;TZID=UTC:20260901T173000
DTSTAMP:20260419T202020
CREATED:20240917T032628Z
LAST-MODIFIED:20240917T033122Z
UID:10016179-1788280200-1788283800@safeboulder.org
SUMMARY:“Grab & Go" dinner
DESCRIPTION:Sack Meal\, “Grab & Go” in the parking lot of St. John’s Episcopal\, 1419 Pine.
URL:https://safeboulder.org/event/grab-go-dinner-5/2026-09-01/
LOCATION:St. John’s Episcopal Church\, 1419 Pine Street\, Boulder\, Colorado\, 80302\, United States
CATEGORIES:Charity,Free Meal,Secular
ATTACH;FMTTYPE=image/png:https://safeboulder.org/wp-content/uploads/2022/11/community-table-kitchen-bh.png
ORGANIZER;CN="Bridge House Community Table Kitchen":MAILTO:orders@communitytablekitchen.org
END:VEVENT
BEGIN:VEVENT
DTSTART;TZID=UTC:20260902T163000
DTEND;TZID=UTC:20260902T173000
DTSTAMP:20260419T202020
CREATED:20240917T032628Z
LAST-MODIFIED:20240917T033122Z
UID:10016180-1788366600-1788370200@safeboulder.org
SUMMARY:“Grab & Go" dinner
DESCRIPTION:Sack Meal\, “Grab & Go” in the parking lot of St. John’s Episcopal\, 1419 Pine.
URL:https://safeboulder.org/event/grab-go-dinner-5/2026-09-02/
LOCATION:St. John’s Episcopal Church\, 1419 Pine Street\, Boulder\, Colorado\, 80302\, United States
CATEGORIES:Charity,Free Meal,Secular
ATTACH;FMTTYPE=image/png:https://safeboulder.org/wp-content/uploads/2022/11/community-table-kitchen-bh.png
ORGANIZER;CN="Bridge House Community Table Kitchen":MAILTO:orders@communitytablekitchen.org
END:VEVENT
BEGIN:VEVENT
DTSTART;TZID=UTC:20260908T163000
DTEND;TZID=UTC:20260908T173000
DTSTAMP:20260419T202020
CREATED:20240917T032628Z
LAST-MODIFIED:20240917T033122Z
UID:10016184-1788885000-1788888600@safeboulder.org
SUMMARY:“Grab & Go" dinner
DESCRIPTION:Sack Meal\, “Grab & Go” in the parking lot of St. John’s Episcopal\, 1419 Pine.
URL:https://safeboulder.org/event/grab-go-dinner-5/2026-09-08/
LOCATION:St. John’s Episcopal Church\, 1419 Pine Street\, Boulder\, Colorado\, 80302\, United States
CATEGORIES:Charity,Free Meal,Secular
ATTACH;FMTTYPE=image/png:https://safeboulder.org/wp-content/uploads/2022/11/community-table-kitchen-bh.png
ORGANIZER;CN="Bridge House Community Table Kitchen":MAILTO:orders@communitytablekitchen.org
END:VEVENT
BEGIN:VEVENT
DTSTART;TZID=UTC:20260909T163000
DTEND;TZID=UTC:20260909T173000
DTSTAMP:20260419T202020
CREATED:20240917T032628Z
LAST-MODIFIED:20240917T033122Z
UID:10016185-1788971400-1788975000@safeboulder.org
SUMMARY:“Grab & Go" dinner
DESCRIPTION:Sack Meal\, “Grab & Go” in the parking lot of St. John’s Episcopal\, 1419 Pine.
URL:https://safeboulder.org/event/grab-go-dinner-5/2026-09-09/
LOCATION:St. John’s Episcopal Church\, 1419 Pine Street\, Boulder\, Colorado\, 80302\, United States
CATEGORIES:Charity,Free Meal,Secular
ATTACH;FMTTYPE=image/png:https://safeboulder.org/wp-content/uploads/2022/11/community-table-kitchen-bh.png
ORGANIZER;CN="Bridge House Community Table Kitchen":MAILTO:orders@communitytablekitchen.org
END:VEVENT
BEGIN:VEVENT
DTSTART;TZID=UTC:20260915T163000
DTEND;TZID=UTC:20260915T173000
DTSTAMP:20260419T202020
CREATED:20240917T032628Z
LAST-MODIFIED:20240917T033122Z
UID:10016189-1789489800-1789493400@safeboulder.org
SUMMARY:“Grab & Go" dinner
DESCRIPTION:Sack Meal\, “Grab & Go” in the parking lot of St. John’s Episcopal\, 1419 Pine.
URL:https://safeboulder.org/event/grab-go-dinner-5/2026-09-15/
LOCATION:St. John’s Episcopal Church\, 1419 Pine Street\, Boulder\, Colorado\, 80302\, United States
CATEGORIES:Charity,Free Meal,Secular
ATTACH;FMTTYPE=image/png:https://safeboulder.org/wp-content/uploads/2022/11/community-table-kitchen-bh.png
ORGANIZER;CN="Bridge House Community Table Kitchen":MAILTO:orders@communitytablekitchen.org
END:VEVENT
BEGIN:VEVENT
DTSTART;TZID=UTC:20260916T163000
DTEND;TZID=UTC:20260916T173000
DTSTAMP:20260419T202020
CREATED:20240917T032628Z
LAST-MODIFIED:20240917T033122Z
UID:10016190-1789576200-1789579800@safeboulder.org
SUMMARY:“Grab & Go" dinner
DESCRIPTION:Sack Meal\, “Grab & Go” in the parking lot of St. John’s Episcopal\, 1419 Pine.
URL:https://safeboulder.org/event/grab-go-dinner-5/2026-09-16/
LOCATION:St. John’s Episcopal Church\, 1419 Pine Street\, Boulder\, Colorado\, 80302\, United States
CATEGORIES:Charity,Free Meal,Secular
ATTACH;FMTTYPE=image/png:https://safeboulder.org/wp-content/uploads/2022/11/community-table-kitchen-bh.png
ORGANIZER;CN="Bridge House Community Table Kitchen":MAILTO:orders@communitytablekitchen.org
END:VEVENT
BEGIN:VEVENT
DTSTART;TZID=UTC:20260922T163000
DTEND;TZID=UTC:20260922T173000
DTSTAMP:20260419T202020
CREATED:20240917T032628Z
LAST-MODIFIED:20240917T033122Z
UID:10016194-1790094600-1790098200@safeboulder.org
SUMMARY:“Grab & Go" dinner
DESCRIPTION:Sack Meal\, “Grab & Go” in the parking lot of St. John’s Episcopal\, 1419 Pine.
URL:https://safeboulder.org/event/grab-go-dinner-5/2026-09-22/
LOCATION:St. John’s Episcopal Church\, 1419 Pine Street\, Boulder\, Colorado\, 80302\, United States
CATEGORIES:Charity,Free Meal,Secular
ATTACH;FMTTYPE=image/png:https://safeboulder.org/wp-content/uploads/2022/11/community-table-kitchen-bh.png
ORGANIZER;CN="Bridge House Community Table Kitchen":MAILTO:orders@communitytablekitchen.org
END:VEVENT
BEGIN:VEVENT
DTSTART;TZID=UTC:20260923T163000
DTEND;TZID=UTC:20260923T173000
DTSTAMP:20260419T202020
CREATED:20240917T032628Z
LAST-MODIFIED:20240917T033122Z
UID:10016195-1790181000-1790184600@safeboulder.org
SUMMARY:“Grab & Go" dinner
DESCRIPTION:Sack Meal\, “Grab & Go” in the parking lot of St. John’s Episcopal\, 1419 Pine.
URL:https://safeboulder.org/event/grab-go-dinner-5/2026-09-23/
LOCATION:St. John’s Episcopal Church\, 1419 Pine Street\, Boulder\, Colorado\, 80302\, United States
CATEGORIES:Charity,Free Meal,Secular
ATTACH;FMTTYPE=image/png:https://safeboulder.org/wp-content/uploads/2022/11/community-table-kitchen-bh.png
ORGANIZER;CN="Bridge House Community Table Kitchen":MAILTO:orders@communitytablekitchen.org
END:VEVENT
BEGIN:VEVENT
DTSTART;TZID=UTC:20260929T163000
DTEND;TZID=UTC:20260929T173000
DTSTAMP:20260419T202020
CREATED:20240917T032628Z
LAST-MODIFIED:20240917T033122Z
UID:10016199-1790699400-1790703000@safeboulder.org
SUMMARY:“Grab & Go" dinner
DESCRIPTION:Sack Meal\, “Grab & Go” in the parking lot of St. John’s Episcopal\, 1419 Pine.
URL:https://safeboulder.org/event/grab-go-dinner-5/2026-09-29/
LOCATION:St. John’s Episcopal Church\, 1419 Pine Street\, Boulder\, Colorado\, 80302\, United States
CATEGORIES:Charity,Free Meal,Secular
ATTACH;FMTTYPE=image/png:https://safeboulder.org/wp-content/uploads/2022/11/community-table-kitchen-bh.png
ORGANIZER;CN="Bridge House Community Table Kitchen":MAILTO:orders@communitytablekitchen.org
END:VEVENT
BEGIN:VEVENT
DTSTART;TZID=UTC:20260930T163000
DTEND;TZID=UTC:20260930T173000
DTSTAMP:20260419T202020
CREATED:20240917T032628Z
LAST-MODIFIED:20240917T033122Z
UID:10016200-1790785800-1790789400@safeboulder.org
SUMMARY:“Grab & Go" dinner
DESCRIPTION:Sack Meal\, “Grab & Go” in the parking lot of St. John’s Episcopal\, 1419 Pine.
URL:https://safeboulder.org/event/grab-go-dinner-5/2026-09-30/
LOCATION:St. John’s Episcopal Church\, 1419 Pine Street\, Boulder\, Colorado\, 80302\, United States
CATEGORIES:Charity,Free Meal,Secular
ATTACH;FMTTYPE=image/png:https://safeboulder.org/wp-content/uploads/2022/11/community-table-kitchen-bh.png
ORGANIZER;CN="Bridge House Community Table Kitchen":MAILTO:orders@communitytablekitchen.org
END:VEVENT
BEGIN:VEVENT
DTSTART;TZID=UTC:20261006T163000
DTEND;TZID=UTC:20261006T173000
DTSTAMP:20260419T202020
CREATED:20240917T032628Z
LAST-MODIFIED:20240917T033122Z
UID:10016204-1791304200-1791307800@safeboulder.org
SUMMARY:“Grab & Go" dinner
DESCRIPTION:Sack Meal\, “Grab & Go” in the parking lot of St. John’s Episcopal\, 1419 Pine.
URL:https://safeboulder.org/event/grab-go-dinner-5/2026-10-06/
LOCATION:St. John’s Episcopal Church\, 1419 Pine Street\, Boulder\, Colorado\, 80302\, United States
CATEGORIES:Charity,Free Meal,Secular
ATTACH;FMTTYPE=image/png:https://safeboulder.org/wp-content/uploads/2022/11/community-table-kitchen-bh.png
ORGANIZER;CN="Bridge House Community Table Kitchen":MAILTO:orders@communitytablekitchen.org
END:VEVENT
BEGIN:VEVENT
DTSTART;TZID=UTC:20261007T163000
DTEND;TZID=UTC:20261007T173000
DTSTAMP:20260419T202020
CREATED:20240917T032628Z
LAST-MODIFIED:20240917T033122Z
UID:10016205-1791390600-1791394200@safeboulder.org
SUMMARY:“Grab & Go" dinner
DESCRIPTION:Sack Meal\, “Grab & Go” in the parking lot of St. John’s Episcopal\, 1419 Pine.
URL:https://safeboulder.org/event/grab-go-dinner-5/2026-10-07/
LOCATION:St. John’s Episcopal Church\, 1419 Pine Street\, Boulder\, Colorado\, 80302\, United States
CATEGORIES:Charity,Free Meal,Secular
ATTACH;FMTTYPE=image/png:https://safeboulder.org/wp-content/uploads/2022/11/community-table-kitchen-bh.png
ORGANIZER;CN="Bridge House Community Table Kitchen":MAILTO:orders@communitytablekitchen.org
END:VEVENT
BEGIN:VEVENT
DTSTART;TZID=UTC:20261013T163000
DTEND;TZID=UTC:20261013T173000
DTSTAMP:20260419T202020
CREATED:20240917T032628Z
LAST-MODIFIED:20240917T033122Z
UID:10016209-1791909000-1791912600@safeboulder.org
SUMMARY:“Grab & Go" dinner
DESCRIPTION:Sack Meal\, “Grab & Go” in the parking lot of St. John’s Episcopal\, 1419 Pine.
URL:https://safeboulder.org/event/grab-go-dinner-5/2026-10-13/
LOCATION:St. John’s Episcopal Church\, 1419 Pine Street\, Boulder\, Colorado\, 80302\, United States
CATEGORIES:Charity,Free Meal,Secular
ATTACH;FMTTYPE=image/png:https://safeboulder.org/wp-content/uploads/2022/11/community-table-kitchen-bh.png
ORGANIZER;CN="Bridge House Community Table Kitchen":MAILTO:orders@communitytablekitchen.org
END:VEVENT
BEGIN:VEVENT
DTSTART;TZID=UTC:20261014T163000
DTEND;TZID=UTC:20261014T173000
DTSTAMP:20260419T202020
CREATED:20240917T032628Z
LAST-MODIFIED:20240917T033122Z
UID:10016210-1791995400-1791999000@safeboulder.org
SUMMARY:“Grab & Go" dinner
DESCRIPTION:Sack Meal\, “Grab & Go” in the parking lot of St. John’s Episcopal\, 1419 Pine.
URL:https://safeboulder.org/event/grab-go-dinner-5/2026-10-14/
LOCATION:St. John’s Episcopal Church\, 1419 Pine Street\, Boulder\, Colorado\, 80302\, United States
CATEGORIES:Charity,Free Meal,Secular
ATTACH;FMTTYPE=image/png:https://safeboulder.org/wp-content/uploads/2022/11/community-table-kitchen-bh.png
ORGANIZER;CN="Bridge House Community Table Kitchen":MAILTO:orders@communitytablekitchen.org
END:VEVENT
BEGIN:VEVENT
DTSTART;TZID=UTC:20261020T163000
DTEND;TZID=UTC:20261020T173000
DTSTAMP:20260419T202020
CREATED:20240917T032628Z
LAST-MODIFIED:20240917T033122Z
UID:10016214-1792513800-1792517400@safeboulder.org
SUMMARY:“Grab & Go" dinner
DESCRIPTION:Sack Meal\, “Grab & Go” in the parking lot of St. John’s Episcopal\, 1419 Pine.
URL:https://safeboulder.org/event/grab-go-dinner-5/2026-10-20/
LOCATION:St. John’s Episcopal Church\, 1419 Pine Street\, Boulder\, Colorado\, 80302\, United States
CATEGORIES:Charity,Free Meal,Secular
ATTACH;FMTTYPE=image/png:https://safeboulder.org/wp-content/uploads/2022/11/community-table-kitchen-bh.png
ORGANIZER;CN="Bridge House Community Table Kitchen":MAILTO:orders@communitytablekitchen.org
END:VEVENT
BEGIN:VEVENT
DTSTART;TZID=UTC:20261021T163000
DTEND;TZID=UTC:20261021T173000
DTSTAMP:20260419T202020
CREATED:20240917T032628Z
LAST-MODIFIED:20240917T033122Z
UID:10016215-1792600200-1792603800@safeboulder.org
SUMMARY:“Grab & Go" dinner
DESCRIPTION:Sack Meal\, “Grab & Go” in the parking lot of St. John’s Episcopal\, 1419 Pine.
URL:https://safeboulder.org/event/grab-go-dinner-5/2026-10-21/
LOCATION:St. John’s Episcopal Church\, 1419 Pine Street\, Boulder\, Colorado\, 80302\, United States
CATEGORIES:Charity,Free Meal,Secular
ATTACH;FMTTYPE=image/png:https://safeboulder.org/wp-content/uploads/2022/11/community-table-kitchen-bh.png
ORGANIZER;CN="Bridge House Community Table Kitchen":MAILTO:orders@communitytablekitchen.org
END:VEVENT
BEGIN:VEVENT
DTSTART;TZID=UTC:20261027T163000
DTEND;TZID=UTC:20261027T173000
DTSTAMP:20260419T202020
CREATED:20240917T032628Z
LAST-MODIFIED:20240917T033122Z
UID:10016219-1793118600-1793122200@safeboulder.org
SUMMARY:“Grab & Go" dinner
DESCRIPTION:Sack Meal\, “Grab & Go” in the parking lot of St. John’s Episcopal\, 1419 Pine.
URL:https://safeboulder.org/event/grab-go-dinner-5/2026-10-27/
LOCATION:St. John’s Episcopal Church\, 1419 Pine Street\, Boulder\, Colorado\, 80302\, United States
CATEGORIES:Charity,Free Meal,Secular
ATTACH;FMTTYPE=image/png:https://safeboulder.org/wp-content/uploads/2022/11/community-table-kitchen-bh.png
ORGANIZER;CN="Bridge House Community Table Kitchen":MAILTO:orders@communitytablekitchen.org
END:VEVENT
BEGIN:VEVENT
DTSTART;TZID=UTC:20261028T163000
DTEND;TZID=UTC:20261028T173000
DTSTAMP:20260419T202020
CREATED:20240917T032628Z
LAST-MODIFIED:20240917T033122Z
UID:10016220-1793205000-1793208600@safeboulder.org
SUMMARY:“Grab & Go" dinner
DESCRIPTION:Sack Meal\, “Grab & Go” in the parking lot of St. John’s Episcopal\, 1419 Pine.
URL:https://safeboulder.org/event/grab-go-dinner-5/2026-10-28/
LOCATION:St. John’s Episcopal Church\, 1419 Pine Street\, Boulder\, Colorado\, 80302\, United States
CATEGORIES:Charity,Free Meal,Secular
ATTACH;FMTTYPE=image/png:https://safeboulder.org/wp-content/uploads/2022/11/community-table-kitchen-bh.png
ORGANIZER;CN="Bridge House Community Table Kitchen":MAILTO:orders@communitytablekitchen.org
END:VEVENT
BEGIN:VEVENT
DTSTART;TZID=UTC:20261103T163000
DTEND;TZID=UTC:20261103T173000
DTSTAMP:20260419T202020
CREATED:20240917T032628Z
LAST-MODIFIED:20240917T033122Z
UID:10016224-1793723400-1793727000@safeboulder.org
SUMMARY:“Grab & Go" dinner
DESCRIPTION:Sack Meal\, “Grab & Go” in the parking lot of St. John’s Episcopal\, 1419 Pine.
URL:https://safeboulder.org/event/grab-go-dinner-5/2026-11-03/
LOCATION:St. John’s Episcopal Church\, 1419 Pine Street\, Boulder\, Colorado\, 80302\, United States
CATEGORIES:Charity,Free Meal,Secular
ATTACH;FMTTYPE=image/png:https://safeboulder.org/wp-content/uploads/2022/11/community-table-kitchen-bh.png
ORGANIZER;CN="Bridge House Community Table Kitchen":MAILTO:orders@communitytablekitchen.org
END:VEVENT
BEGIN:VEVENT
DTSTART;TZID=UTC:20261104T163000
DTEND;TZID=UTC:20261104T173000
DTSTAMP:20260419T202020
CREATED:20240917T032628Z
LAST-MODIFIED:20240917T033122Z
UID:10016225-1793809800-1793813400@safeboulder.org
SUMMARY:“Grab & Go" dinner
DESCRIPTION:Sack Meal\, “Grab & Go” in the parking lot of St. John’s Episcopal\, 1419 Pine.
URL:https://safeboulder.org/event/grab-go-dinner-5/2026-11-04/
LOCATION:St. John’s Episcopal Church\, 1419 Pine Street\, Boulder\, Colorado\, 80302\, United States
CATEGORIES:Charity,Free Meal,Secular
ATTACH;FMTTYPE=image/png:https://safeboulder.org/wp-content/uploads/2022/11/community-table-kitchen-bh.png
ORGANIZER;CN="Bridge House Community Table Kitchen":MAILTO:orders@communitytablekitchen.org
END:VEVENT
BEGIN:VEVENT
DTSTART;TZID=UTC:20261110T163000
DTEND;TZID=UTC:20261110T173000
DTSTAMP:20260419T202020
CREATED:20240917T032628Z
LAST-MODIFIED:20240917T033122Z
UID:10016229-1794328200-1794331800@safeboulder.org
SUMMARY:“Grab & Go" dinner
DESCRIPTION:Sack Meal\, “Grab & Go” in the parking lot of St. John’s Episcopal\, 1419 Pine.
URL:https://safeboulder.org/event/grab-go-dinner-5/2026-11-10/
LOCATION:St. John’s Episcopal Church\, 1419 Pine Street\, Boulder\, Colorado\, 80302\, United States
CATEGORIES:Charity,Free Meal,Secular
ATTACH;FMTTYPE=image/png:https://safeboulder.org/wp-content/uploads/2022/11/community-table-kitchen-bh.png
ORGANIZER;CN="Bridge House Community Table Kitchen":MAILTO:orders@communitytablekitchen.org
END:VEVENT
BEGIN:VEVENT
DTSTART;TZID=UTC:20261111T163000
DTEND;TZID=UTC:20261111T173000
DTSTAMP:20260419T202020
CREATED:20240917T032628Z
LAST-MODIFIED:20240917T033122Z
UID:10016230-1794414600-1794418200@safeboulder.org
SUMMARY:“Grab & Go" dinner
DESCRIPTION:Sack Meal\, “Grab & Go” in the parking lot of St. John’s Episcopal\, 1419 Pine.
URL:https://safeboulder.org/event/grab-go-dinner-5/2026-11-11/
LOCATION:St. John’s Episcopal Church\, 1419 Pine Street\, Boulder\, Colorado\, 80302\, United States
CATEGORIES:Charity,Free Meal,Secular
ATTACH;FMTTYPE=image/png:https://safeboulder.org/wp-content/uploads/2022/11/community-table-kitchen-bh.png
ORGANIZER;CN="Bridge House Community Table Kitchen":MAILTO:orders@communitytablekitchen.org
END:VEVENT
BEGIN:VEVENT
DTSTART;TZID=UTC:20261117T163000
DTEND;TZID=UTC:20261117T173000
DTSTAMP:20260419T202020
CREATED:20240917T032628Z
LAST-MODIFIED:20240917T033122Z
UID:10016234-1794933000-1794936600@safeboulder.org
SUMMARY:“Grab & Go" dinner
DESCRIPTION:Sack Meal\, “Grab & Go” in the parking lot of St. John’s Episcopal\, 1419 Pine.
URL:https://safeboulder.org/event/grab-go-dinner-5/2026-11-17/
LOCATION:St. John’s Episcopal Church\, 1419 Pine Street\, Boulder\, Colorado\, 80302\, United States
CATEGORIES:Charity,Free Meal,Secular
ATTACH;FMTTYPE=image/png:https://safeboulder.org/wp-content/uploads/2022/11/community-table-kitchen-bh.png
ORGANIZER;CN="Bridge House Community Table Kitchen":MAILTO:orders@communitytablekitchen.org
END:VEVENT
BEGIN:VEVENT
DTSTART;TZID=UTC:20261118T163000
DTEND;TZID=UTC:20261118T173000
DTSTAMP:20260419T202020
CREATED:20240917T032628Z
LAST-MODIFIED:20240917T033122Z
UID:10016235-1795019400-1795023000@safeboulder.org
SUMMARY:“Grab & Go" dinner
DESCRIPTION:Sack Meal\, “Grab & Go” in the parking lot of St. John’s Episcopal\, 1419 Pine.
URL:https://safeboulder.org/event/grab-go-dinner-5/2026-11-18/
LOCATION:St. John’s Episcopal Church\, 1419 Pine Street\, Boulder\, Colorado\, 80302\, United States
CATEGORIES:Charity,Free Meal,Secular
ATTACH;FMTTYPE=image/png:https://safeboulder.org/wp-content/uploads/2022/11/community-table-kitchen-bh.png
ORGANIZER;CN="Bridge House Community Table Kitchen":MAILTO:orders@communitytablekitchen.org
END:VEVENT
BEGIN:VEVENT
DTSTART;TZID=UTC:20261124T163000
DTEND;TZID=UTC:20261124T173000
DTSTAMP:20260419T202020
CREATED:20240917T032628Z
LAST-MODIFIED:20240917T033122Z
UID:10016239-1795537800-1795541400@safeboulder.org
SUMMARY:“Grab & Go" dinner
DESCRIPTION:Sack Meal\, “Grab & Go” in the parking lot of St. John’s Episcopal\, 1419 Pine.
URL:https://safeboulder.org/event/grab-go-dinner-5/2026-11-24/
LOCATION:St. John’s Episcopal Church\, 1419 Pine Street\, Boulder\, Colorado\, 80302\, United States
CATEGORIES:Charity,Free Meal,Secular
ATTACH;FMTTYPE=image/png:https://safeboulder.org/wp-content/uploads/2022/11/community-table-kitchen-bh.png
ORGANIZER;CN="Bridge House Community Table Kitchen":MAILTO:orders@communitytablekitchen.org
END:VEVENT
BEGIN:VEVENT
DTSTART;TZID=UTC:20261125T163000
DTEND;TZID=UTC:20261125T173000
DTSTAMP:20260419T202020
CREATED:20240917T032628Z
LAST-MODIFIED:20240917T033122Z
UID:10016240-1795624200-1795627800@safeboulder.org
SUMMARY:“Grab & Go" dinner
DESCRIPTION:Sack Meal\, “Grab & Go” in the parking lot of St. John’s Episcopal\, 1419 Pine.
URL:https://safeboulder.org/event/grab-go-dinner-5/2026-11-25/
LOCATION:St. John’s Episcopal Church\, 1419 Pine Street\, Boulder\, Colorado\, 80302\, United States
CATEGORIES:Charity,Free Meal,Secular
ATTACH;FMTTYPE=image/png:https://safeboulder.org/wp-content/uploads/2022/11/community-table-kitchen-bh.png
ORGANIZER;CN="Bridge House Community Table Kitchen":MAILTO:orders@communitytablekitchen.org
END:VEVENT
BEGIN:VEVENT
DTSTART;TZID=UTC:20261201T163000
DTEND;TZID=UTC:20261201T173000
DTSTAMP:20260419T202020
CREATED:20240917T032628Z
LAST-MODIFIED:20240917T033122Z
UID:10016244-1796142600-1796146200@safeboulder.org
SUMMARY:“Grab & Go" dinner
DESCRIPTION:Sack Meal\, “Grab & Go” in the parking lot of St. John’s Episcopal\, 1419 Pine.
URL:https://safeboulder.org/event/grab-go-dinner-5/2026-12-01/
LOCATION:St. John’s Episcopal Church\, 1419 Pine Street\, Boulder\, Colorado\, 80302\, United States
CATEGORIES:Charity,Free Meal,Secular
ATTACH;FMTTYPE=image/png:https://safeboulder.org/wp-content/uploads/2022/11/community-table-kitchen-bh.png
ORGANIZER;CN="Bridge House Community Table Kitchen":MAILTO:orders@communitytablekitchen.org
END:VEVENT
BEGIN:VEVENT
DTSTART;TZID=UTC:20261202T163000
DTEND;TZID=UTC:20261202T173000
DTSTAMP:20260419T202020
CREATED:20240917T032628Z
LAST-MODIFIED:20240917T033122Z
UID:10016245-1796229000-1796232600@safeboulder.org
SUMMARY:“Grab & Go" dinner
DESCRIPTION:Sack Meal\, “Grab & Go” in the parking lot of St. John’s Episcopal\, 1419 Pine.
URL:https://safeboulder.org/event/grab-go-dinner-5/2026-12-02/
LOCATION:St. John’s Episcopal Church\, 1419 Pine Street\, Boulder\, Colorado\, 80302\, United States
CATEGORIES:Charity,Free Meal,Secular
ATTACH;FMTTYPE=image/png:https://safeboulder.org/wp-content/uploads/2022/11/community-table-kitchen-bh.png
ORGANIZER;CN="Bridge House Community Table Kitchen":MAILTO:orders@communitytablekitchen.org
END:VEVENT
END:VCALENDAR