BEGIN:VCALENDAR
VERSION:2.0
PRODID:-//SAFE Boulder - ECPv6.15.20//NONSGML v1.0//EN
CALSCALE:GREGORIAN
METHOD:PUBLISH
X-WR-CALNAME:SAFE Boulder
X-ORIGINAL-URL:https://safeboulder.org
X-WR-CALDESC:Events for SAFE Boulder
REFRESH-INTERVAL;VALUE=DURATION:PT1H
X-Robots-Tag:noindex
X-PUBLISHED-TTL:PT1H
BEGIN:VTIMEZONE
TZID:UTC
BEGIN:STANDARD
TZOFFSETFROM:+0000
TZOFFSETTO:+0000
TZNAME:UTC
DTSTART:20260101T000000
END:STANDARD
END:VTIMEZONE
BEGIN:VEVENT
DTSTART;TZID=UTC:20271026T163000
DTEND;TZID=UTC:20271026T173000
DTSTAMP:20260425T205712
CREATED:20240917T032628Z
LAST-MODIFIED:20240917T033122Z
UID:10016479-1824568200-1824571800@safeboulder.org
SUMMARY:“Grab & Go" dinner
DESCRIPTION:Sack Meal\, “Grab & Go” in the parking lot of St. John’s Episcopal\, 1419 Pine.
URL:https://safeboulder.org/event/grab-go-dinner-5/2027-10-26/
LOCATION:St. John’s Episcopal Church\, 1419 Pine Street\, Boulder\, Colorado\, 80302\, United States
CATEGORIES:Charity,Free Meal,Secular
ATTACH;FMTTYPE=image/png:https://safeboulder.org/wp-content/uploads/2022/11/community-table-kitchen-bh.png
ORGANIZER;CN="Bridge House Community Table Kitchen":MAILTO:orders@communitytablekitchen.org
END:VEVENT
BEGIN:VEVENT
DTSTART;TZID=UTC:20271027T163000
DTEND;TZID=UTC:20271027T173000
DTSTAMP:20260425T205712
CREATED:20240917T032628Z
LAST-MODIFIED:20240917T033122Z
UID:10016480-1824654600-1824658200@safeboulder.org
SUMMARY:“Grab & Go" dinner
DESCRIPTION:Sack Meal\, “Grab & Go” in the parking lot of St. John’s Episcopal\, 1419 Pine.
URL:https://safeboulder.org/event/grab-go-dinner-5/2027-10-27/
LOCATION:St. John’s Episcopal Church\, 1419 Pine Street\, Boulder\, Colorado\, 80302\, United States
CATEGORIES:Charity,Free Meal,Secular
ATTACH;FMTTYPE=image/png:https://safeboulder.org/wp-content/uploads/2022/11/community-table-kitchen-bh.png
ORGANIZER;CN="Bridge House Community Table Kitchen":MAILTO:orders@communitytablekitchen.org
END:VEVENT
BEGIN:VEVENT
DTSTART;TZID=UTC:20271102T163000
DTEND;TZID=UTC:20271102T173000
DTSTAMP:20260425T205712
CREATED:20240917T032628Z
LAST-MODIFIED:20240917T033122Z
UID:10016484-1825173000-1825176600@safeboulder.org
SUMMARY:“Grab & Go" dinner
DESCRIPTION:Sack Meal\, “Grab & Go” in the parking lot of St. John’s Episcopal\, 1419 Pine.
URL:https://safeboulder.org/event/grab-go-dinner-5/2027-11-02/
LOCATION:St. John’s Episcopal Church\, 1419 Pine Street\, Boulder\, Colorado\, 80302\, United States
CATEGORIES:Charity,Free Meal,Secular
ATTACH;FMTTYPE=image/png:https://safeboulder.org/wp-content/uploads/2022/11/community-table-kitchen-bh.png
ORGANIZER;CN="Bridge House Community Table Kitchen":MAILTO:orders@communitytablekitchen.org
END:VEVENT
BEGIN:VEVENT
DTSTART;TZID=UTC:20271103T163000
DTEND;TZID=UTC:20271103T173000
DTSTAMP:20260425T205712
CREATED:20240917T032628Z
LAST-MODIFIED:20240917T033122Z
UID:10016485-1825259400-1825263000@safeboulder.org
SUMMARY:“Grab & Go" dinner
DESCRIPTION:Sack Meal\, “Grab & Go” in the parking lot of St. John’s Episcopal\, 1419 Pine.
URL:https://safeboulder.org/event/grab-go-dinner-5/2027-11-03/
LOCATION:St. John’s Episcopal Church\, 1419 Pine Street\, Boulder\, Colorado\, 80302\, United States
CATEGORIES:Charity,Free Meal,Secular
ATTACH;FMTTYPE=image/png:https://safeboulder.org/wp-content/uploads/2022/11/community-table-kitchen-bh.png
ORGANIZER;CN="Bridge House Community Table Kitchen":MAILTO:orders@communitytablekitchen.org
END:VEVENT
BEGIN:VEVENT
DTSTART;TZID=UTC:20271109T163000
DTEND;TZID=UTC:20271109T173000
DTSTAMP:20260425T205712
CREATED:20240917T032628Z
LAST-MODIFIED:20240917T033122Z
UID:10016489-1825777800-1825781400@safeboulder.org
SUMMARY:“Grab & Go" dinner
DESCRIPTION:Sack Meal\, “Grab & Go” in the parking lot of St. John’s Episcopal\, 1419 Pine.
URL:https://safeboulder.org/event/grab-go-dinner-5/2027-11-09/
LOCATION:St. John’s Episcopal Church\, 1419 Pine Street\, Boulder\, Colorado\, 80302\, United States
CATEGORIES:Charity,Free Meal,Secular
ATTACH;FMTTYPE=image/png:https://safeboulder.org/wp-content/uploads/2022/11/community-table-kitchen-bh.png
ORGANIZER;CN="Bridge House Community Table Kitchen":MAILTO:orders@communitytablekitchen.org
END:VEVENT
BEGIN:VEVENT
DTSTART;TZID=UTC:20271110T163000
DTEND;TZID=UTC:20271110T173000
DTSTAMP:20260425T205712
CREATED:20240917T032628Z
LAST-MODIFIED:20240917T033122Z
UID:10016490-1825864200-1825867800@safeboulder.org
SUMMARY:“Grab & Go" dinner
DESCRIPTION:Sack Meal\, “Grab & Go” in the parking lot of St. John’s Episcopal\, 1419 Pine.
URL:https://safeboulder.org/event/grab-go-dinner-5/2027-11-10/
LOCATION:St. John’s Episcopal Church\, 1419 Pine Street\, Boulder\, Colorado\, 80302\, United States
CATEGORIES:Charity,Free Meal,Secular
ATTACH;FMTTYPE=image/png:https://safeboulder.org/wp-content/uploads/2022/11/community-table-kitchen-bh.png
ORGANIZER;CN="Bridge House Community Table Kitchen":MAILTO:orders@communitytablekitchen.org
END:VEVENT
BEGIN:VEVENT
DTSTART;TZID=UTC:20271116T163000
DTEND;TZID=UTC:20271116T173000
DTSTAMP:20260425T205712
CREATED:20240917T032628Z
LAST-MODIFIED:20240917T033122Z
UID:10016494-1826382600-1826386200@safeboulder.org
SUMMARY:“Grab & Go" dinner
DESCRIPTION:Sack Meal\, “Grab & Go” in the parking lot of St. John’s Episcopal\, 1419 Pine.
URL:https://safeboulder.org/event/grab-go-dinner-5/2027-11-16/
LOCATION:St. John’s Episcopal Church\, 1419 Pine Street\, Boulder\, Colorado\, 80302\, United States
CATEGORIES:Charity,Free Meal,Secular
ATTACH;FMTTYPE=image/png:https://safeboulder.org/wp-content/uploads/2022/11/community-table-kitchen-bh.png
ORGANIZER;CN="Bridge House Community Table Kitchen":MAILTO:orders@communitytablekitchen.org
END:VEVENT
BEGIN:VEVENT
DTSTART;TZID=UTC:20271117T163000
DTEND;TZID=UTC:20271117T173000
DTSTAMP:20260425T205712
CREATED:20240917T032628Z
LAST-MODIFIED:20240917T033122Z
UID:10016495-1826469000-1826472600@safeboulder.org
SUMMARY:“Grab & Go" dinner
DESCRIPTION:Sack Meal\, “Grab & Go” in the parking lot of St. John’s Episcopal\, 1419 Pine.
URL:https://safeboulder.org/event/grab-go-dinner-5/2027-11-17/
LOCATION:St. John’s Episcopal Church\, 1419 Pine Street\, Boulder\, Colorado\, 80302\, United States
CATEGORIES:Charity,Free Meal,Secular
ATTACH;FMTTYPE=image/png:https://safeboulder.org/wp-content/uploads/2022/11/community-table-kitchen-bh.png
ORGANIZER;CN="Bridge House Community Table Kitchen":MAILTO:orders@communitytablekitchen.org
END:VEVENT
BEGIN:VEVENT
DTSTART;TZID=UTC:20271123T163000
DTEND;TZID=UTC:20271123T173000
DTSTAMP:20260425T205712
CREATED:20240917T032628Z
LAST-MODIFIED:20240917T033122Z
UID:10016499-1826987400-1826991000@safeboulder.org
SUMMARY:“Grab & Go" dinner
DESCRIPTION:Sack Meal\, “Grab & Go” in the parking lot of St. John’s Episcopal\, 1419 Pine.
URL:https://safeboulder.org/event/grab-go-dinner-5/2027-11-23/
LOCATION:St. John’s Episcopal Church\, 1419 Pine Street\, Boulder\, Colorado\, 80302\, United States
CATEGORIES:Charity,Free Meal,Secular
ATTACH;FMTTYPE=image/png:https://safeboulder.org/wp-content/uploads/2022/11/community-table-kitchen-bh.png
ORGANIZER;CN="Bridge House Community Table Kitchen":MAILTO:orders@communitytablekitchen.org
END:VEVENT
BEGIN:VEVENT
DTSTART;TZID=UTC:20271124T163000
DTEND;TZID=UTC:20271124T173000
DTSTAMP:20260425T205712
CREATED:20240917T032628Z
LAST-MODIFIED:20240917T033122Z
UID:10016500-1827073800-1827077400@safeboulder.org
SUMMARY:“Grab & Go" dinner
DESCRIPTION:Sack Meal\, “Grab & Go” in the parking lot of St. John’s Episcopal\, 1419 Pine.
URL:https://safeboulder.org/event/grab-go-dinner-5/2027-11-24/
LOCATION:St. John’s Episcopal Church\, 1419 Pine Street\, Boulder\, Colorado\, 80302\, United States
CATEGORIES:Charity,Free Meal,Secular
ATTACH;FMTTYPE=image/png:https://safeboulder.org/wp-content/uploads/2022/11/community-table-kitchen-bh.png
ORGANIZER;CN="Bridge House Community Table Kitchen":MAILTO:orders@communitytablekitchen.org
END:VEVENT
BEGIN:VEVENT
DTSTART;TZID=UTC:20271130T163000
DTEND;TZID=UTC:20271130T173000
DTSTAMP:20260425T205712
CREATED:20240917T032628Z
LAST-MODIFIED:20240917T033122Z
UID:10016504-1827592200-1827595800@safeboulder.org
SUMMARY:“Grab & Go" dinner
DESCRIPTION:Sack Meal\, “Grab & Go” in the parking lot of St. John’s Episcopal\, 1419 Pine.
URL:https://safeboulder.org/event/grab-go-dinner-5/2027-11-30/
LOCATION:St. John’s Episcopal Church\, 1419 Pine Street\, Boulder\, Colorado\, 80302\, United States
CATEGORIES:Charity,Free Meal,Secular
ATTACH;FMTTYPE=image/png:https://safeboulder.org/wp-content/uploads/2022/11/community-table-kitchen-bh.png
ORGANIZER;CN="Bridge House Community Table Kitchen":MAILTO:orders@communitytablekitchen.org
END:VEVENT
BEGIN:VEVENT
DTSTART;TZID=UTC:20271201T163000
DTEND;TZID=UTC:20271201T173000
DTSTAMP:20260425T205712
CREATED:20240917T032628Z
LAST-MODIFIED:20240917T033122Z
UID:10016505-1827678600-1827682200@safeboulder.org
SUMMARY:“Grab & Go" dinner
DESCRIPTION:Sack Meal\, “Grab & Go” in the parking lot of St. John’s Episcopal\, 1419 Pine.
URL:https://safeboulder.org/event/grab-go-dinner-5/2027-12-01/
LOCATION:St. John’s Episcopal Church\, 1419 Pine Street\, Boulder\, Colorado\, 80302\, United States
CATEGORIES:Charity,Free Meal,Secular
ATTACH;FMTTYPE=image/png:https://safeboulder.org/wp-content/uploads/2022/11/community-table-kitchen-bh.png
ORGANIZER;CN="Bridge House Community Table Kitchen":MAILTO:orders@communitytablekitchen.org
END:VEVENT
BEGIN:VEVENT
DTSTART;TZID=UTC:20271207T163000
DTEND;TZID=UTC:20271207T173000
DTSTAMP:20260425T205712
CREATED:20240917T032628Z
LAST-MODIFIED:20240917T033122Z
UID:10016509-1828197000-1828200600@safeboulder.org
SUMMARY:“Grab & Go" dinner
DESCRIPTION:Sack Meal\, “Grab & Go” in the parking lot of St. John’s Episcopal\, 1419 Pine.
URL:https://safeboulder.org/event/grab-go-dinner-5/2027-12-07/
LOCATION:St. John’s Episcopal Church\, 1419 Pine Street\, Boulder\, Colorado\, 80302\, United States
CATEGORIES:Charity,Free Meal,Secular
ATTACH;FMTTYPE=image/png:https://safeboulder.org/wp-content/uploads/2022/11/community-table-kitchen-bh.png
ORGANIZER;CN="Bridge House Community Table Kitchen":MAILTO:orders@communitytablekitchen.org
END:VEVENT
BEGIN:VEVENT
DTSTART;TZID=UTC:20271208T163000
DTEND;TZID=UTC:20271208T173000
DTSTAMP:20260425T205712
CREATED:20240917T032628Z
LAST-MODIFIED:20240917T033122Z
UID:10016510-1828283400-1828287000@safeboulder.org
SUMMARY:“Grab & Go" dinner
DESCRIPTION:Sack Meal\, “Grab & Go” in the parking lot of St. John’s Episcopal\, 1419 Pine.
URL:https://safeboulder.org/event/grab-go-dinner-5/2027-12-08/
LOCATION:St. John’s Episcopal Church\, 1419 Pine Street\, Boulder\, Colorado\, 80302\, United States
CATEGORIES:Charity,Free Meal,Secular
ATTACH;FMTTYPE=image/png:https://safeboulder.org/wp-content/uploads/2022/11/community-table-kitchen-bh.png
ORGANIZER;CN="Bridge House Community Table Kitchen":MAILTO:orders@communitytablekitchen.org
END:VEVENT
BEGIN:VEVENT
DTSTART;TZID=UTC:20271214T163000
DTEND;TZID=UTC:20271214T173000
DTSTAMP:20260425T205712
CREATED:20240917T032628Z
LAST-MODIFIED:20240917T033122Z
UID:10016514-1828801800-1828805400@safeboulder.org
SUMMARY:“Grab & Go" dinner
DESCRIPTION:Sack Meal\, “Grab & Go” in the parking lot of St. John’s Episcopal\, 1419 Pine.
URL:https://safeboulder.org/event/grab-go-dinner-5/2027-12-14/
LOCATION:St. John’s Episcopal Church\, 1419 Pine Street\, Boulder\, Colorado\, 80302\, United States
CATEGORIES:Charity,Free Meal,Secular
ATTACH;FMTTYPE=image/png:https://safeboulder.org/wp-content/uploads/2022/11/community-table-kitchen-bh.png
ORGANIZER;CN="Bridge House Community Table Kitchen":MAILTO:orders@communitytablekitchen.org
END:VEVENT
BEGIN:VEVENT
DTSTART;TZID=UTC:20271215T163000
DTEND;TZID=UTC:20271215T173000
DTSTAMP:20260425T205712
CREATED:20240917T032628Z
LAST-MODIFIED:20240917T033122Z
UID:10016515-1828888200-1828891800@safeboulder.org
SUMMARY:“Grab & Go" dinner
DESCRIPTION:Sack Meal\, “Grab & Go” in the parking lot of St. John’s Episcopal\, 1419 Pine.
URL:https://safeboulder.org/event/grab-go-dinner-5/2027-12-15/
LOCATION:St. John’s Episcopal Church\, 1419 Pine Street\, Boulder\, Colorado\, 80302\, United States
CATEGORIES:Charity,Free Meal,Secular
ATTACH;FMTTYPE=image/png:https://safeboulder.org/wp-content/uploads/2022/11/community-table-kitchen-bh.png
ORGANIZER;CN="Bridge House Community Table Kitchen":MAILTO:orders@communitytablekitchen.org
END:VEVENT
BEGIN:VEVENT
DTSTART;TZID=UTC:20271221T163000
DTEND;TZID=UTC:20271221T173000
DTSTAMP:20260425T205712
CREATED:20240917T032628Z
LAST-MODIFIED:20240917T033122Z
UID:10016519-1829406600-1829410200@safeboulder.org
SUMMARY:“Grab & Go" dinner
DESCRIPTION:Sack Meal\, “Grab & Go” in the parking lot of St. John’s Episcopal\, 1419 Pine.
URL:https://safeboulder.org/event/grab-go-dinner-5/2027-12-21/
LOCATION:St. John’s Episcopal Church\, 1419 Pine Street\, Boulder\, Colorado\, 80302\, United States
CATEGORIES:Charity,Free Meal,Secular
ATTACH;FMTTYPE=image/png:https://safeboulder.org/wp-content/uploads/2022/11/community-table-kitchen-bh.png
ORGANIZER;CN="Bridge House Community Table Kitchen":MAILTO:orders@communitytablekitchen.org
END:VEVENT
BEGIN:VEVENT
DTSTART;TZID=UTC:20271222T163000
DTEND;TZID=UTC:20271222T173000
DTSTAMP:20260425T205712
CREATED:20240917T032628Z
LAST-MODIFIED:20240917T033122Z
UID:10016520-1829493000-1829496600@safeboulder.org
SUMMARY:“Grab & Go" dinner
DESCRIPTION:Sack Meal\, “Grab & Go” in the parking lot of St. John’s Episcopal\, 1419 Pine.
URL:https://safeboulder.org/event/grab-go-dinner-5/2027-12-22/
LOCATION:St. John’s Episcopal Church\, 1419 Pine Street\, Boulder\, Colorado\, 80302\, United States
CATEGORIES:Charity,Free Meal,Secular
ATTACH;FMTTYPE=image/png:https://safeboulder.org/wp-content/uploads/2022/11/community-table-kitchen-bh.png
ORGANIZER;CN="Bridge House Community Table Kitchen":MAILTO:orders@communitytablekitchen.org
END:VEVENT
BEGIN:VEVENT
DTSTART;TZID=UTC:20271228T163000
DTEND;TZID=UTC:20271228T173000
DTSTAMP:20260425T205712
CREATED:20240917T032628Z
LAST-MODIFIED:20240917T033122Z
UID:10016524-1830011400-1830015000@safeboulder.org
SUMMARY:“Grab & Go" dinner
DESCRIPTION:Sack Meal\, “Grab & Go” in the parking lot of St. John’s Episcopal\, 1419 Pine.
URL:https://safeboulder.org/event/grab-go-dinner-5/2027-12-28/
LOCATION:St. John’s Episcopal Church\, 1419 Pine Street\, Boulder\, Colorado\, 80302\, United States
CATEGORIES:Charity,Free Meal,Secular
ATTACH;FMTTYPE=image/png:https://safeboulder.org/wp-content/uploads/2022/11/community-table-kitchen-bh.png
ORGANIZER;CN="Bridge House Community Table Kitchen":MAILTO:orders@communitytablekitchen.org
END:VEVENT
BEGIN:VEVENT
DTSTART;TZID=UTC:20271229T163000
DTEND;TZID=UTC:20271229T173000
DTSTAMP:20260425T205712
CREATED:20240917T032628Z
LAST-MODIFIED:20240917T033122Z
UID:10016525-1830097800-1830101400@safeboulder.org
SUMMARY:“Grab & Go" dinner
DESCRIPTION:Sack Meal\, “Grab & Go” in the parking lot of St. John’s Episcopal\, 1419 Pine.
URL:https://safeboulder.org/event/grab-go-dinner-5/2027-12-29/
LOCATION:St. John’s Episcopal Church\, 1419 Pine Street\, Boulder\, Colorado\, 80302\, United States
CATEGORIES:Charity,Free Meal,Secular
ATTACH;FMTTYPE=image/png:https://safeboulder.org/wp-content/uploads/2022/11/community-table-kitchen-bh.png
ORGANIZER;CN="Bridge House Community Table Kitchen":MAILTO:orders@communitytablekitchen.org
END:VEVENT
BEGIN:VEVENT
DTSTART;TZID=UTC:20280104T163000
DTEND;TZID=UTC:20280104T173000
DTSTAMP:20260425T205712
CREATED:20240917T032628Z
LAST-MODIFIED:20240917T033122Z
UID:10016529-1830616200-1830619800@safeboulder.org
SUMMARY:“Grab & Go" dinner
DESCRIPTION:Sack Meal\, “Grab & Go” in the parking lot of St. John’s Episcopal\, 1419 Pine.
URL:https://safeboulder.org/event/grab-go-dinner-5/2028-01-04/
LOCATION:St. John’s Episcopal Church\, 1419 Pine Street\, Boulder\, Colorado\, 80302\, United States
CATEGORIES:Charity,Free Meal,Secular
ATTACH;FMTTYPE=image/png:https://safeboulder.org/wp-content/uploads/2022/11/community-table-kitchen-bh.png
ORGANIZER;CN="Bridge House Community Table Kitchen":MAILTO:orders@communitytablekitchen.org
END:VEVENT
BEGIN:VEVENT
DTSTART;TZID=UTC:20280105T163000
DTEND;TZID=UTC:20280105T173000
DTSTAMP:20260425T205712
CREATED:20240917T032628Z
LAST-MODIFIED:20240917T033122Z
UID:10016530-1830702600-1830706200@safeboulder.org
SUMMARY:“Grab & Go" dinner
DESCRIPTION:Sack Meal\, “Grab & Go” in the parking lot of St. John’s Episcopal\, 1419 Pine.
URL:https://safeboulder.org/event/grab-go-dinner-5/2028-01-05/
LOCATION:St. John’s Episcopal Church\, 1419 Pine Street\, Boulder\, Colorado\, 80302\, United States
CATEGORIES:Charity,Free Meal,Secular
ATTACH;FMTTYPE=image/png:https://safeboulder.org/wp-content/uploads/2022/11/community-table-kitchen-bh.png
ORGANIZER;CN="Bridge House Community Table Kitchen":MAILTO:orders@communitytablekitchen.org
END:VEVENT
BEGIN:VEVENT
DTSTART;TZID=UTC:20280111T163000
DTEND;TZID=UTC:20280111T173000
DTSTAMP:20260425T205712
CREATED:20240917T032628Z
LAST-MODIFIED:20240917T033122Z
UID:10016534-1831221000-1831224600@safeboulder.org
SUMMARY:“Grab & Go" dinner
DESCRIPTION:Sack Meal\, “Grab & Go” in the parking lot of St. John’s Episcopal\, 1419 Pine.
URL:https://safeboulder.org/event/grab-go-dinner-5/2028-01-11/
LOCATION:St. John’s Episcopal Church\, 1419 Pine Street\, Boulder\, Colorado\, 80302\, United States
CATEGORIES:Charity,Free Meal,Secular
ATTACH;FMTTYPE=image/png:https://safeboulder.org/wp-content/uploads/2022/11/community-table-kitchen-bh.png
ORGANIZER;CN="Bridge House Community Table Kitchen":MAILTO:orders@communitytablekitchen.org
END:VEVENT
BEGIN:VEVENT
DTSTART;TZID=UTC:20280112T163000
DTEND;TZID=UTC:20280112T173000
DTSTAMP:20260425T205712
CREATED:20240917T032628Z
LAST-MODIFIED:20240917T033122Z
UID:10016535-1831307400-1831311000@safeboulder.org
SUMMARY:“Grab & Go" dinner
DESCRIPTION:Sack Meal\, “Grab & Go” in the parking lot of St. John’s Episcopal\, 1419 Pine.
URL:https://safeboulder.org/event/grab-go-dinner-5/2028-01-12/
LOCATION:St. John’s Episcopal Church\, 1419 Pine Street\, Boulder\, Colorado\, 80302\, United States
CATEGORIES:Charity,Free Meal,Secular
ATTACH;FMTTYPE=image/png:https://safeboulder.org/wp-content/uploads/2022/11/community-table-kitchen-bh.png
ORGANIZER;CN="Bridge House Community Table Kitchen":MAILTO:orders@communitytablekitchen.org
END:VEVENT
BEGIN:VEVENT
DTSTART;TZID=UTC:20280118T163000
DTEND;TZID=UTC:20280118T173000
DTSTAMP:20260425T205712
CREATED:20240917T032628Z
LAST-MODIFIED:20240917T033122Z
UID:10016539-1831825800-1831829400@safeboulder.org
SUMMARY:“Grab & Go" dinner
DESCRIPTION:Sack Meal\, “Grab & Go” in the parking lot of St. John’s Episcopal\, 1419 Pine.
URL:https://safeboulder.org/event/grab-go-dinner-5/2028-01-18/
LOCATION:St. John’s Episcopal Church\, 1419 Pine Street\, Boulder\, Colorado\, 80302\, United States
CATEGORIES:Charity,Free Meal,Secular
ATTACH;FMTTYPE=image/png:https://safeboulder.org/wp-content/uploads/2022/11/community-table-kitchen-bh.png
ORGANIZER;CN="Bridge House Community Table Kitchen":MAILTO:orders@communitytablekitchen.org
END:VEVENT
BEGIN:VEVENT
DTSTART;TZID=UTC:20280119T163000
DTEND;TZID=UTC:20280119T173000
DTSTAMP:20260425T205712
CREATED:20240917T032628Z
LAST-MODIFIED:20240917T033122Z
UID:10016540-1831912200-1831915800@safeboulder.org
SUMMARY:“Grab & Go" dinner
DESCRIPTION:Sack Meal\, “Grab & Go” in the parking lot of St. John’s Episcopal\, 1419 Pine.
URL:https://safeboulder.org/event/grab-go-dinner-5/2028-01-19/
LOCATION:St. John’s Episcopal Church\, 1419 Pine Street\, Boulder\, Colorado\, 80302\, United States
CATEGORIES:Charity,Free Meal,Secular
ATTACH;FMTTYPE=image/png:https://safeboulder.org/wp-content/uploads/2022/11/community-table-kitchen-bh.png
ORGANIZER;CN="Bridge House Community Table Kitchen":MAILTO:orders@communitytablekitchen.org
END:VEVENT
BEGIN:VEVENT
DTSTART;TZID=UTC:20280125T163000
DTEND;TZID=UTC:20280125T173000
DTSTAMP:20260425T205712
CREATED:20240917T032628Z
LAST-MODIFIED:20240917T033122Z
UID:10016544-1832430600-1832434200@safeboulder.org
SUMMARY:“Grab & Go" dinner
DESCRIPTION:Sack Meal\, “Grab & Go” in the parking lot of St. John’s Episcopal\, 1419 Pine.
URL:https://safeboulder.org/event/grab-go-dinner-5/2028-01-25/
LOCATION:St. John’s Episcopal Church\, 1419 Pine Street\, Boulder\, Colorado\, 80302\, United States
CATEGORIES:Charity,Free Meal,Secular
ATTACH;FMTTYPE=image/png:https://safeboulder.org/wp-content/uploads/2022/11/community-table-kitchen-bh.png
ORGANIZER;CN="Bridge House Community Table Kitchen":MAILTO:orders@communitytablekitchen.org
END:VEVENT
BEGIN:VEVENT
DTSTART;TZID=UTC:20280126T163000
DTEND;TZID=UTC:20280126T173000
DTSTAMP:20260425T205712
CREATED:20240917T032628Z
LAST-MODIFIED:20240917T033122Z
UID:10016545-1832517000-1832520600@safeboulder.org
SUMMARY:“Grab & Go" dinner
DESCRIPTION:Sack Meal\, “Grab & Go” in the parking lot of St. John’s Episcopal\, 1419 Pine.
URL:https://safeboulder.org/event/grab-go-dinner-5/2028-01-26/
LOCATION:St. John’s Episcopal Church\, 1419 Pine Street\, Boulder\, Colorado\, 80302\, United States
CATEGORIES:Charity,Free Meal,Secular
ATTACH;FMTTYPE=image/png:https://safeboulder.org/wp-content/uploads/2022/11/community-table-kitchen-bh.png
ORGANIZER;CN="Bridge House Community Table Kitchen":MAILTO:orders@communitytablekitchen.org
END:VEVENT
BEGIN:VEVENT
DTSTART;TZID=UTC:20280201T163000
DTEND;TZID=UTC:20280201T173000
DTSTAMP:20260425T205712
CREATED:20240917T032628Z
LAST-MODIFIED:20240917T033122Z
UID:10016549-1833035400-1833039000@safeboulder.org
SUMMARY:“Grab & Go" dinner
DESCRIPTION:Sack Meal\, “Grab & Go” in the parking lot of St. John’s Episcopal\, 1419 Pine.
URL:https://safeboulder.org/event/grab-go-dinner-5/2028-02-01/
LOCATION:St. John’s Episcopal Church\, 1419 Pine Street\, Boulder\, Colorado\, 80302\, United States
CATEGORIES:Charity,Free Meal,Secular
ATTACH;FMTTYPE=image/png:https://safeboulder.org/wp-content/uploads/2022/11/community-table-kitchen-bh.png
ORGANIZER;CN="Bridge House Community Table Kitchen":MAILTO:orders@communitytablekitchen.org
END:VEVENT
BEGIN:VEVENT
DTSTART;TZID=UTC:20280202T163000
DTEND;TZID=UTC:20280202T173000
DTSTAMP:20260425T205712
CREATED:20240917T032628Z
LAST-MODIFIED:20240917T033122Z
UID:10016550-1833121800-1833125400@safeboulder.org
SUMMARY:“Grab & Go" dinner
DESCRIPTION:Sack Meal\, “Grab & Go” in the parking lot of St. John’s Episcopal\, 1419 Pine.
URL:https://safeboulder.org/event/grab-go-dinner-5/2028-02-02/
LOCATION:St. John’s Episcopal Church\, 1419 Pine Street\, Boulder\, Colorado\, 80302\, United States
CATEGORIES:Charity,Free Meal,Secular
ATTACH;FMTTYPE=image/png:https://safeboulder.org/wp-content/uploads/2022/11/community-table-kitchen-bh.png
ORGANIZER;CN="Bridge House Community Table Kitchen":MAILTO:orders@communitytablekitchen.org
END:VEVENT
END:VCALENDAR