BEGIN:VCALENDAR
VERSION:2.0
PRODID:-//SAFE Boulder - ECPv6.15.20//NONSGML v1.0//EN
CALSCALE:GREGORIAN
METHOD:PUBLISH
X-ORIGINAL-URL:https://safeboulder.org
X-WR-CALDESC:Events for SAFE Boulder
REFRESH-INTERVAL;VALUE=DURATION:PT1H
X-Robots-Tag:noindex
X-PUBLISHED-TTL:PT1H
BEGIN:VTIMEZONE
TZID:UTC
BEGIN:STANDARD
TZOFFSETFROM:+0000
TZOFFSETTO:+0000
TZNAME:UTC
DTSTART:20250101T000000
END:STANDARD
END:VTIMEZONE
BEGIN:VEVENT
DTSTART;TZID=UTC:20260415T163000
DTEND;TZID=UTC:20260415T173000
DTSTAMP:20260419T202021
CREATED:20240917T032628Z
LAST-MODIFIED:20240917T033122Z
UID:10016080-1776270600-1776274200@safeboulder.org
SUMMARY:“Grab & Go" dinner
DESCRIPTION:Sack Meal\, “Grab & Go” in the parking lot of St. John’s Episcopal\, 1419 Pine.
URL:https://safeboulder.org/event/grab-go-dinner-5/2026-04-15/
LOCATION:St. John’s Episcopal Church\, 1419 Pine Street\, Boulder\, Colorado\, 80302\, United States
CATEGORIES:Charity,Free Meal,Secular
ATTACH;FMTTYPE=image/png:https://safeboulder.org/wp-content/uploads/2022/11/community-table-kitchen-bh.png
ORGANIZER;CN="Bridge House Community Table Kitchen":MAILTO:orders@communitytablekitchen.org
END:VEVENT
BEGIN:VEVENT
DTSTART;TZID=UTC:20260414T163000
DTEND;TZID=UTC:20260414T173000
DTSTAMP:20260419T202021
CREATED:20240917T032628Z
LAST-MODIFIED:20240917T033122Z
UID:10016079-1776184200-1776187800@safeboulder.org
SUMMARY:“Grab & Go" dinner
DESCRIPTION:Sack Meal\, “Grab & Go” in the parking lot of St. John’s Episcopal\, 1419 Pine.
URL:https://safeboulder.org/event/grab-go-dinner-5/2026-04-14/
LOCATION:St. John’s Episcopal Church\, 1419 Pine Street\, Boulder\, Colorado\, 80302\, United States
CATEGORIES:Charity,Free Meal,Secular
ATTACH;FMTTYPE=image/png:https://safeboulder.org/wp-content/uploads/2022/11/community-table-kitchen-bh.png
ORGANIZER;CN="Bridge House Community Table Kitchen":MAILTO:orders@communitytablekitchen.org
END:VEVENT
BEGIN:VEVENT
DTSTART;TZID=UTC:20260408T163000
DTEND;TZID=UTC:20260408T173000
DTSTAMP:20260419T202021
CREATED:20240917T032628Z
LAST-MODIFIED:20240917T033122Z
UID:10016075-1775665800-1775669400@safeboulder.org
SUMMARY:“Grab & Go" dinner
DESCRIPTION:Sack Meal\, “Grab & Go” in the parking lot of St. John’s Episcopal\, 1419 Pine.
URL:https://safeboulder.org/event/grab-go-dinner-5/2026-04-08/
LOCATION:St. John’s Episcopal Church\, 1419 Pine Street\, Boulder\, Colorado\, 80302\, United States
CATEGORIES:Charity,Free Meal,Secular
ATTACH;FMTTYPE=image/png:https://safeboulder.org/wp-content/uploads/2022/11/community-table-kitchen-bh.png
ORGANIZER;CN="Bridge House Community Table Kitchen":MAILTO:orders@communitytablekitchen.org
END:VEVENT
BEGIN:VEVENT
DTSTART;TZID=UTC:20260407T163000
DTEND;TZID=UTC:20260407T173000
DTSTAMP:20260419T202021
CREATED:20240917T032628Z
LAST-MODIFIED:20240917T033122Z
UID:10016074-1775579400-1775583000@safeboulder.org
SUMMARY:“Grab & Go" dinner
DESCRIPTION:Sack Meal\, “Grab & Go” in the parking lot of St. John’s Episcopal\, 1419 Pine.
URL:https://safeboulder.org/event/grab-go-dinner-5/2026-04-07/
LOCATION:St. John’s Episcopal Church\, 1419 Pine Street\, Boulder\, Colorado\, 80302\, United States
CATEGORIES:Charity,Free Meal,Secular
ATTACH;FMTTYPE=image/png:https://safeboulder.org/wp-content/uploads/2022/11/community-table-kitchen-bh.png
ORGANIZER;CN="Bridge House Community Table Kitchen":MAILTO:orders@communitytablekitchen.org
END:VEVENT
BEGIN:VEVENT
DTSTART;TZID=UTC:20260401T163000
DTEND;TZID=UTC:20260401T173000
DTSTAMP:20260419T202021
CREATED:20240917T032628Z
LAST-MODIFIED:20240917T033122Z
UID:10016070-1775061000-1775064600@safeboulder.org
SUMMARY:“Grab & Go" dinner
DESCRIPTION:Sack Meal\, “Grab & Go” in the parking lot of St. John’s Episcopal\, 1419 Pine.
URL:https://safeboulder.org/event/grab-go-dinner-5/2026-04-01/
LOCATION:St. John’s Episcopal Church\, 1419 Pine Street\, Boulder\, Colorado\, 80302\, United States
CATEGORIES:Charity,Free Meal,Secular
ATTACH;FMTTYPE=image/png:https://safeboulder.org/wp-content/uploads/2022/11/community-table-kitchen-bh.png
ORGANIZER;CN="Bridge House Community Table Kitchen":MAILTO:orders@communitytablekitchen.org
END:VEVENT
BEGIN:VEVENT
DTSTART;TZID=UTC:20260331T163000
DTEND;TZID=UTC:20260331T173000
DTSTAMP:20260419T202021
CREATED:20240917T032628Z
LAST-MODIFIED:20240917T033122Z
UID:10016069-1774974600-1774978200@safeboulder.org
SUMMARY:“Grab & Go" dinner
DESCRIPTION:Sack Meal\, “Grab & Go” in the parking lot of St. John’s Episcopal\, 1419 Pine.
URL:https://safeboulder.org/event/grab-go-dinner-5/2026-03-31/
LOCATION:St. John’s Episcopal Church\, 1419 Pine Street\, Boulder\, Colorado\, 80302\, United States
CATEGORIES:Charity,Free Meal,Secular
ATTACH;FMTTYPE=image/png:https://safeboulder.org/wp-content/uploads/2022/11/community-table-kitchen-bh.png
ORGANIZER;CN="Bridge House Community Table Kitchen":MAILTO:orders@communitytablekitchen.org
END:VEVENT
BEGIN:VEVENT
DTSTART;TZID=UTC:20260325T163000
DTEND;TZID=UTC:20260325T173000
DTSTAMP:20260419T202021
CREATED:20240917T032628Z
LAST-MODIFIED:20240917T033122Z
UID:10016065-1774456200-1774459800@safeboulder.org
SUMMARY:“Grab & Go" dinner
DESCRIPTION:Sack Meal\, “Grab & Go” in the parking lot of St. John’s Episcopal\, 1419 Pine.
URL:https://safeboulder.org/event/grab-go-dinner-5/2026-03-25/
LOCATION:St. John’s Episcopal Church\, 1419 Pine Street\, Boulder\, Colorado\, 80302\, United States
CATEGORIES:Charity,Free Meal,Secular
ATTACH;FMTTYPE=image/png:https://safeboulder.org/wp-content/uploads/2022/11/community-table-kitchen-bh.png
ORGANIZER;CN="Bridge House Community Table Kitchen":MAILTO:orders@communitytablekitchen.org
END:VEVENT
BEGIN:VEVENT
DTSTART;TZID=UTC:20260324T163000
DTEND;TZID=UTC:20260324T173000
DTSTAMP:20260419T202021
CREATED:20240917T032628Z
LAST-MODIFIED:20240917T033122Z
UID:10016064-1774369800-1774373400@safeboulder.org
SUMMARY:“Grab & Go" dinner
DESCRIPTION:Sack Meal\, “Grab & Go” in the parking lot of St. John’s Episcopal\, 1419 Pine.
URL:https://safeboulder.org/event/grab-go-dinner-5/2026-03-24/
LOCATION:St. John’s Episcopal Church\, 1419 Pine Street\, Boulder\, Colorado\, 80302\, United States
CATEGORIES:Charity,Free Meal,Secular
ATTACH;FMTTYPE=image/png:https://safeboulder.org/wp-content/uploads/2022/11/community-table-kitchen-bh.png
ORGANIZER;CN="Bridge House Community Table Kitchen":MAILTO:orders@communitytablekitchen.org
END:VEVENT
BEGIN:VEVENT
DTSTART;TZID=UTC:20260318T163000
DTEND;TZID=UTC:20260318T173000
DTSTAMP:20260419T202021
CREATED:20240917T032628Z
LAST-MODIFIED:20240917T033122Z
UID:10016060-1773851400-1773855000@safeboulder.org
SUMMARY:“Grab & Go" dinner
DESCRIPTION:Sack Meal\, “Grab & Go” in the parking lot of St. John’s Episcopal\, 1419 Pine.
URL:https://safeboulder.org/event/grab-go-dinner-5/2026-03-18/
LOCATION:St. John’s Episcopal Church\, 1419 Pine Street\, Boulder\, Colorado\, 80302\, United States
CATEGORIES:Charity,Free Meal,Secular
ATTACH;FMTTYPE=image/png:https://safeboulder.org/wp-content/uploads/2022/11/community-table-kitchen-bh.png
ORGANIZER;CN="Bridge House Community Table Kitchen":MAILTO:orders@communitytablekitchen.org
END:VEVENT
BEGIN:VEVENT
DTSTART;TZID=UTC:20260317T163000
DTEND;TZID=UTC:20260317T173000
DTSTAMP:20260419T202021
CREATED:20240917T032628Z
LAST-MODIFIED:20240917T033122Z
UID:10016059-1773765000-1773768600@safeboulder.org
SUMMARY:“Grab & Go" dinner
DESCRIPTION:Sack Meal\, “Grab & Go” in the parking lot of St. John’s Episcopal\, 1419 Pine.
URL:https://safeboulder.org/event/grab-go-dinner-5/2026-03-17/
LOCATION:St. John’s Episcopal Church\, 1419 Pine Street\, Boulder\, Colorado\, 80302\, United States
CATEGORIES:Charity,Free Meal,Secular
ATTACH;FMTTYPE=image/png:https://safeboulder.org/wp-content/uploads/2022/11/community-table-kitchen-bh.png
ORGANIZER;CN="Bridge House Community Table Kitchen":MAILTO:orders@communitytablekitchen.org
END:VEVENT
BEGIN:VEVENT
DTSTART;TZID=UTC:20260311T163000
DTEND;TZID=UTC:20260311T173000
DTSTAMP:20260419T202021
CREATED:20240917T032628Z
LAST-MODIFIED:20240917T033122Z
UID:10016055-1773246600-1773250200@safeboulder.org
SUMMARY:“Grab & Go" dinner
DESCRIPTION:Sack Meal\, “Grab & Go” in the parking lot of St. John’s Episcopal\, 1419 Pine.
URL:https://safeboulder.org/event/grab-go-dinner-5/2026-03-11/
LOCATION:St. John’s Episcopal Church\, 1419 Pine Street\, Boulder\, Colorado\, 80302\, United States
CATEGORIES:Charity,Free Meal,Secular
ATTACH;FMTTYPE=image/png:https://safeboulder.org/wp-content/uploads/2022/11/community-table-kitchen-bh.png
ORGANIZER;CN="Bridge House Community Table Kitchen":MAILTO:orders@communitytablekitchen.org
END:VEVENT
BEGIN:VEVENT
DTSTART;TZID=UTC:20260310T163000
DTEND;TZID=UTC:20260310T173000
DTSTAMP:20260419T202021
CREATED:20240917T032628Z
LAST-MODIFIED:20240917T033122Z
UID:10016054-1773160200-1773163800@safeboulder.org
SUMMARY:“Grab & Go" dinner
DESCRIPTION:Sack Meal\, “Grab & Go” in the parking lot of St. John’s Episcopal\, 1419 Pine.
URL:https://safeboulder.org/event/grab-go-dinner-5/2026-03-10/
LOCATION:St. John’s Episcopal Church\, 1419 Pine Street\, Boulder\, Colorado\, 80302\, United States
CATEGORIES:Charity,Free Meal,Secular
ATTACH;FMTTYPE=image/png:https://safeboulder.org/wp-content/uploads/2022/11/community-table-kitchen-bh.png
ORGANIZER;CN="Bridge House Community Table Kitchen":MAILTO:orders@communitytablekitchen.org
END:VEVENT
BEGIN:VEVENT
DTSTART;TZID=UTC:20260304T163000
DTEND;TZID=UTC:20260304T173000
DTSTAMP:20260419T202021
CREATED:20240917T032628Z
LAST-MODIFIED:20240917T033122Z
UID:10016050-1772641800-1772645400@safeboulder.org
SUMMARY:“Grab & Go" dinner
DESCRIPTION:Sack Meal\, “Grab & Go” in the parking lot of St. John’s Episcopal\, 1419 Pine.
URL:https://safeboulder.org/event/grab-go-dinner-5/2026-03-04/
LOCATION:St. John’s Episcopal Church\, 1419 Pine Street\, Boulder\, Colorado\, 80302\, United States
CATEGORIES:Charity,Free Meal,Secular
ATTACH;FMTTYPE=image/png:https://safeboulder.org/wp-content/uploads/2022/11/community-table-kitchen-bh.png
ORGANIZER;CN="Bridge House Community Table Kitchen":MAILTO:orders@communitytablekitchen.org
END:VEVENT
BEGIN:VEVENT
DTSTART;TZID=UTC:20260303T163000
DTEND;TZID=UTC:20260303T173000
DTSTAMP:20260419T202021
CREATED:20240917T032628Z
LAST-MODIFIED:20240917T033122Z
UID:10016049-1772555400-1772559000@safeboulder.org
SUMMARY:“Grab & Go" dinner
DESCRIPTION:Sack Meal\, “Grab & Go” in the parking lot of St. John’s Episcopal\, 1419 Pine.
URL:https://safeboulder.org/event/grab-go-dinner-5/2026-03-03/
LOCATION:St. John’s Episcopal Church\, 1419 Pine Street\, Boulder\, Colorado\, 80302\, United States
CATEGORIES:Charity,Free Meal,Secular
ATTACH;FMTTYPE=image/png:https://safeboulder.org/wp-content/uploads/2022/11/community-table-kitchen-bh.png
ORGANIZER;CN="Bridge House Community Table Kitchen":MAILTO:orders@communitytablekitchen.org
END:VEVENT
BEGIN:VEVENT
DTSTART;TZID=UTC:20260225T163000
DTEND;TZID=UTC:20260225T173000
DTSTAMP:20260419T202021
CREATED:20240917T032628Z
LAST-MODIFIED:20240917T033122Z
UID:10016045-1772037000-1772040600@safeboulder.org
SUMMARY:“Grab & Go" dinner
DESCRIPTION:Sack Meal\, “Grab & Go” in the parking lot of St. John’s Episcopal\, 1419 Pine.
URL:https://safeboulder.org/event/grab-go-dinner-5/2026-02-25/
LOCATION:St. John’s Episcopal Church\, 1419 Pine Street\, Boulder\, Colorado\, 80302\, United States
CATEGORIES:Charity,Free Meal,Secular
ATTACH;FMTTYPE=image/png:https://safeboulder.org/wp-content/uploads/2022/11/community-table-kitchen-bh.png
ORGANIZER;CN="Bridge House Community Table Kitchen":MAILTO:orders@communitytablekitchen.org
END:VEVENT
BEGIN:VEVENT
DTSTART;TZID=UTC:20260224T163000
DTEND;TZID=UTC:20260224T173000
DTSTAMP:20260419T202021
CREATED:20240917T032628Z
LAST-MODIFIED:20240917T033122Z
UID:10016044-1771950600-1771954200@safeboulder.org
SUMMARY:“Grab & Go" dinner
DESCRIPTION:Sack Meal\, “Grab & Go” in the parking lot of St. John’s Episcopal\, 1419 Pine.
URL:https://safeboulder.org/event/grab-go-dinner-5/2026-02-24/
LOCATION:St. John’s Episcopal Church\, 1419 Pine Street\, Boulder\, Colorado\, 80302\, United States
CATEGORIES:Charity,Free Meal,Secular
ATTACH;FMTTYPE=image/png:https://safeboulder.org/wp-content/uploads/2022/11/community-table-kitchen-bh.png
ORGANIZER;CN="Bridge House Community Table Kitchen":MAILTO:orders@communitytablekitchen.org
END:VEVENT
BEGIN:VEVENT
DTSTART;TZID=UTC:20260218T163000
DTEND;TZID=UTC:20260218T173000
DTSTAMP:20260419T202021
CREATED:20240917T032628Z
LAST-MODIFIED:20240917T033122Z
UID:10016040-1771432200-1771435800@safeboulder.org
SUMMARY:“Grab & Go" dinner
DESCRIPTION:Sack Meal\, “Grab & Go” in the parking lot of St. John’s Episcopal\, 1419 Pine.
URL:https://safeboulder.org/event/grab-go-dinner-5/2026-02-18/
LOCATION:St. John’s Episcopal Church\, 1419 Pine Street\, Boulder\, Colorado\, 80302\, United States
CATEGORIES:Charity,Free Meal,Secular
ATTACH;FMTTYPE=image/png:https://safeboulder.org/wp-content/uploads/2022/11/community-table-kitchen-bh.png
ORGANIZER;CN="Bridge House Community Table Kitchen":MAILTO:orders@communitytablekitchen.org
END:VEVENT
BEGIN:VEVENT
DTSTART;TZID=UTC:20260217T163000
DTEND;TZID=UTC:20260217T173000
DTSTAMP:20260419T202021
CREATED:20240917T032628Z
LAST-MODIFIED:20240917T033122Z
UID:10016039-1771345800-1771349400@safeboulder.org
SUMMARY:“Grab & Go" dinner
DESCRIPTION:Sack Meal\, “Grab & Go” in the parking lot of St. John’s Episcopal\, 1419 Pine.
URL:https://safeboulder.org/event/grab-go-dinner-5/2026-02-17/
LOCATION:St. John’s Episcopal Church\, 1419 Pine Street\, Boulder\, Colorado\, 80302\, United States
CATEGORIES:Charity,Free Meal,Secular
ATTACH;FMTTYPE=image/png:https://safeboulder.org/wp-content/uploads/2022/11/community-table-kitchen-bh.png
ORGANIZER;CN="Bridge House Community Table Kitchen":MAILTO:orders@communitytablekitchen.org
END:VEVENT
BEGIN:VEVENT
DTSTART;TZID=UTC:20260211T163000
DTEND;TZID=UTC:20260211T173000
DTSTAMP:20260419T202021
CREATED:20240917T032628Z
LAST-MODIFIED:20240917T033122Z
UID:10016035-1770827400-1770831000@safeboulder.org
SUMMARY:“Grab & Go" dinner
DESCRIPTION:Sack Meal\, “Grab & Go” in the parking lot of St. John’s Episcopal\, 1419 Pine.
URL:https://safeboulder.org/event/grab-go-dinner-5/2026-02-11/
LOCATION:St. John’s Episcopal Church\, 1419 Pine Street\, Boulder\, Colorado\, 80302\, United States
CATEGORIES:Charity,Free Meal,Secular
ATTACH;FMTTYPE=image/png:https://safeboulder.org/wp-content/uploads/2022/11/community-table-kitchen-bh.png
ORGANIZER;CN="Bridge House Community Table Kitchen":MAILTO:orders@communitytablekitchen.org
END:VEVENT
BEGIN:VEVENT
DTSTART;TZID=UTC:20260210T163000
DTEND;TZID=UTC:20260210T173000
DTSTAMP:20260419T202021
CREATED:20240917T032628Z
LAST-MODIFIED:20240917T033122Z
UID:10016034-1770741000-1770744600@safeboulder.org
SUMMARY:“Grab & Go" dinner
DESCRIPTION:Sack Meal\, “Grab & Go” in the parking lot of St. John’s Episcopal\, 1419 Pine.
URL:https://safeboulder.org/event/grab-go-dinner-5/2026-02-10/
LOCATION:St. John’s Episcopal Church\, 1419 Pine Street\, Boulder\, Colorado\, 80302\, United States
CATEGORIES:Charity,Free Meal,Secular
ATTACH;FMTTYPE=image/png:https://safeboulder.org/wp-content/uploads/2022/11/community-table-kitchen-bh.png
ORGANIZER;CN="Bridge House Community Table Kitchen":MAILTO:orders@communitytablekitchen.org
END:VEVENT
BEGIN:VEVENT
DTSTART;TZID=UTC:20260204T163000
DTEND;TZID=UTC:20260204T173000
DTSTAMP:20260419T202021
CREATED:20240917T032628Z
LAST-MODIFIED:20240917T033122Z
UID:10016030-1770222600-1770226200@safeboulder.org
SUMMARY:“Grab & Go" dinner
DESCRIPTION:Sack Meal\, “Grab & Go” in the parking lot of St. John’s Episcopal\, 1419 Pine.
URL:https://safeboulder.org/event/grab-go-dinner-5/2026-02-04/
LOCATION:St. John’s Episcopal Church\, 1419 Pine Street\, Boulder\, Colorado\, 80302\, United States
CATEGORIES:Charity,Free Meal,Secular
ATTACH;FMTTYPE=image/png:https://safeboulder.org/wp-content/uploads/2022/11/community-table-kitchen-bh.png
ORGANIZER;CN="Bridge House Community Table Kitchen":MAILTO:orders@communitytablekitchen.org
END:VEVENT
BEGIN:VEVENT
DTSTART;TZID=UTC:20260203T163000
DTEND;TZID=UTC:20260203T173000
DTSTAMP:20260419T202021
CREATED:20240917T032628Z
LAST-MODIFIED:20240917T033122Z
UID:10016029-1770136200-1770139800@safeboulder.org
SUMMARY:“Grab & Go" dinner
DESCRIPTION:Sack Meal\, “Grab & Go” in the parking lot of St. John’s Episcopal\, 1419 Pine.
URL:https://safeboulder.org/event/grab-go-dinner-5/2026-02-03/
LOCATION:St. John’s Episcopal Church\, 1419 Pine Street\, Boulder\, Colorado\, 80302\, United States
CATEGORIES:Charity,Free Meal,Secular
ATTACH;FMTTYPE=image/png:https://safeboulder.org/wp-content/uploads/2022/11/community-table-kitchen-bh.png
ORGANIZER;CN="Bridge House Community Table Kitchen":MAILTO:orders@communitytablekitchen.org
END:VEVENT
BEGIN:VEVENT
DTSTART;TZID=UTC:20260128T163000
DTEND;TZID=UTC:20260128T173000
DTSTAMP:20260419T202021
CREATED:20240917T032628Z
LAST-MODIFIED:20240917T033122Z
UID:10016025-1769617800-1769621400@safeboulder.org
SUMMARY:“Grab & Go" dinner
DESCRIPTION:Sack Meal\, “Grab & Go” in the parking lot of St. John’s Episcopal\, 1419 Pine.
URL:https://safeboulder.org/event/grab-go-dinner-5/2026-01-28/
LOCATION:St. John’s Episcopal Church\, 1419 Pine Street\, Boulder\, Colorado\, 80302\, United States
CATEGORIES:Charity,Free Meal,Secular
ATTACH;FMTTYPE=image/png:https://safeboulder.org/wp-content/uploads/2022/11/community-table-kitchen-bh.png
ORGANIZER;CN="Bridge House Community Table Kitchen":MAILTO:orders@communitytablekitchen.org
END:VEVENT
BEGIN:VEVENT
DTSTART;TZID=UTC:20260127T163000
DTEND;TZID=UTC:20260127T173000
DTSTAMP:20260419T202021
CREATED:20240917T032628Z
LAST-MODIFIED:20240917T033122Z
UID:10016024-1769531400-1769535000@safeboulder.org
SUMMARY:“Grab & Go" dinner
DESCRIPTION:Sack Meal\, “Grab & Go” in the parking lot of St. John’s Episcopal\, 1419 Pine.
URL:https://safeboulder.org/event/grab-go-dinner-5/2026-01-27/
LOCATION:St. John’s Episcopal Church\, 1419 Pine Street\, Boulder\, Colorado\, 80302\, United States
CATEGORIES:Charity,Free Meal,Secular
ATTACH;FMTTYPE=image/png:https://safeboulder.org/wp-content/uploads/2022/11/community-table-kitchen-bh.png
ORGANIZER;CN="Bridge House Community Table Kitchen":MAILTO:orders@communitytablekitchen.org
END:VEVENT
BEGIN:VEVENT
DTSTART;TZID=UTC:20260121T163000
DTEND;TZID=UTC:20260121T173000
DTSTAMP:20260419T202021
CREATED:20240917T032628Z
LAST-MODIFIED:20240917T033122Z
UID:10016020-1769013000-1769016600@safeboulder.org
SUMMARY:“Grab & Go" dinner
DESCRIPTION:Sack Meal\, “Grab & Go” in the parking lot of St. John’s Episcopal\, 1419 Pine.
URL:https://safeboulder.org/event/grab-go-dinner-5/2026-01-21/
LOCATION:St. John’s Episcopal Church\, 1419 Pine Street\, Boulder\, Colorado\, 80302\, United States
CATEGORIES:Charity,Free Meal,Secular
ATTACH;FMTTYPE=image/png:https://safeboulder.org/wp-content/uploads/2022/11/community-table-kitchen-bh.png
ORGANIZER;CN="Bridge House Community Table Kitchen":MAILTO:orders@communitytablekitchen.org
END:VEVENT
BEGIN:VEVENT
DTSTART;TZID=UTC:20260120T163000
DTEND;TZID=UTC:20260120T173000
DTSTAMP:20260419T202021
CREATED:20240917T032628Z
LAST-MODIFIED:20240917T033122Z
UID:10016019-1768926600-1768930200@safeboulder.org
SUMMARY:“Grab & Go" dinner
DESCRIPTION:Sack Meal\, “Grab & Go” in the parking lot of St. John’s Episcopal\, 1419 Pine.
URL:https://safeboulder.org/event/grab-go-dinner-5/2026-01-20/
LOCATION:St. John’s Episcopal Church\, 1419 Pine Street\, Boulder\, Colorado\, 80302\, United States
CATEGORIES:Charity,Free Meal,Secular
ATTACH;FMTTYPE=image/png:https://safeboulder.org/wp-content/uploads/2022/11/community-table-kitchen-bh.png
ORGANIZER;CN="Bridge House Community Table Kitchen":MAILTO:orders@communitytablekitchen.org
END:VEVENT
BEGIN:VEVENT
DTSTART;TZID=UTC:20260114T163000
DTEND;TZID=UTC:20260114T173000
DTSTAMP:20260419T202021
CREATED:20240917T032628Z
LAST-MODIFIED:20240917T033122Z
UID:10016015-1768408200-1768411800@safeboulder.org
SUMMARY:“Grab & Go" dinner
DESCRIPTION:Sack Meal\, “Grab & Go” in the parking lot of St. John’s Episcopal\, 1419 Pine.
URL:https://safeboulder.org/event/grab-go-dinner-5/2026-01-14/
LOCATION:St. John’s Episcopal Church\, 1419 Pine Street\, Boulder\, Colorado\, 80302\, United States
CATEGORIES:Charity,Free Meal,Secular
ATTACH;FMTTYPE=image/png:https://safeboulder.org/wp-content/uploads/2022/11/community-table-kitchen-bh.png
ORGANIZER;CN="Bridge House Community Table Kitchen":MAILTO:orders@communitytablekitchen.org
END:VEVENT
BEGIN:VEVENT
DTSTART;TZID=UTC:20260113T163000
DTEND;TZID=UTC:20260113T173000
DTSTAMP:20260419T202021
CREATED:20240917T032628Z
LAST-MODIFIED:20240917T033122Z
UID:10016014-1768321800-1768325400@safeboulder.org
SUMMARY:“Grab & Go" dinner
DESCRIPTION:Sack Meal\, “Grab & Go” in the parking lot of St. John’s Episcopal\, 1419 Pine.
URL:https://safeboulder.org/event/grab-go-dinner-5/2026-01-13/
LOCATION:St. John’s Episcopal Church\, 1419 Pine Street\, Boulder\, Colorado\, 80302\, United States
CATEGORIES:Charity,Free Meal,Secular
ATTACH;FMTTYPE=image/png:https://safeboulder.org/wp-content/uploads/2022/11/community-table-kitchen-bh.png
ORGANIZER;CN="Bridge House Community Table Kitchen":MAILTO:orders@communitytablekitchen.org
END:VEVENT
BEGIN:VEVENT
DTSTART;TZID=UTC:20260107T163000
DTEND;TZID=UTC:20260107T173000
DTSTAMP:20260419T202021
CREATED:20240917T032628Z
LAST-MODIFIED:20240917T033122Z
UID:10016010-1767803400-1767807000@safeboulder.org
SUMMARY:“Grab & Go" dinner
DESCRIPTION:Sack Meal\, “Grab & Go” in the parking lot of St. John’s Episcopal\, 1419 Pine.
URL:https://safeboulder.org/event/grab-go-dinner-5/2026-01-07/
LOCATION:St. John’s Episcopal Church\, 1419 Pine Street\, Boulder\, Colorado\, 80302\, United States
CATEGORIES:Charity,Free Meal,Secular
ATTACH;FMTTYPE=image/png:https://safeboulder.org/wp-content/uploads/2022/11/community-table-kitchen-bh.png
ORGANIZER;CN="Bridge House Community Table Kitchen":MAILTO:orders@communitytablekitchen.org
END:VEVENT
BEGIN:VEVENT
DTSTART;TZID=UTC:20260106T163000
DTEND;TZID=UTC:20260106T173000
DTSTAMP:20260419T202021
CREATED:20240917T032628Z
LAST-MODIFIED:20240917T033122Z
UID:10016009-1767717000-1767720600@safeboulder.org
SUMMARY:“Grab & Go" dinner
DESCRIPTION:Sack Meal\, “Grab & Go” in the parking lot of St. John’s Episcopal\, 1419 Pine.
URL:https://safeboulder.org/event/grab-go-dinner-5/2026-01-06/
LOCATION:St. John’s Episcopal Church\, 1419 Pine Street\, Boulder\, Colorado\, 80302\, United States
CATEGORIES:Charity,Free Meal,Secular
ATTACH;FMTTYPE=image/png:https://safeboulder.org/wp-content/uploads/2022/11/community-table-kitchen-bh.png
ORGANIZER;CN="Bridge House Community Table Kitchen":MAILTO:orders@communitytablekitchen.org
END:VEVENT
END:VCALENDAR